Workbook

Sheet Kontaktní údaje
B1: Kontaktní údaje | E1: =údaje!A1 -> 2026
B2: =údaje!A2 -> 15. ročník mažoretkové soutěže "O pohár města Hranice"
B4: Jméno a příjmení vedoucí:
B5: Kontakt (tel.):
B6: (e-mail):
B7: Počet autobusů
B9: Celkem k úhradě za startovné
B10: Skupina baton 1 | E10: ='Skupina baton'!F11 -> 0
B11: Skupina baton 2 | E11: ='Skupina baton'!P11 -> 0
B12: Skupina baton 3 | E12: ='Skupina baton'!Z11 -> 0
B13: Miniformace baton 1 | E13: ='Miniformace baton'!F11 -> 0
B14: Miniformace baton 2 | E14: ='Miniformace baton'!P11 -> 0
B15: Miniformace baton 3 | E15: ='Miniformace baton'!Z11 -> 0
B16: Skupina pompony 1 | E16: ='Skupina pompony'!F11 -> 0
B17: Skupina pompony 2 | E17: ='Skupina pompony'!P11 -> 0
B18: Skupina pompony 3 | E18: ='Skupina pompony'!Z11 -> 0
B19: Miniformace pompony 1 | E19: ='Miniformace pompony'!F11 -> 0
B20: Miniformace pompony 2 | E20: ='Miniformace pompony'!P11 -> 0
B21: Miniformace pompony 3 | E21: ='Miniformace pompony'!Z11 -> 0
B22: Pompony klasik 1 | E22: ='Skupina pompony klasik'!F11 -> 0
B23: Pompony klasik 2 | E23: ='Skupina pompony klasik'!P11 -> 0
B24: Pompony klasik 3 | E24: ='Skupina pompony klasik'!Z11 -> 0
B25: Miniformace mix 1 | E25: ='Miniformace mix'!F11 -> 0
B26: Miniformace mix 2 | E26: ='Miniformace mix'!P11 -> 0
B27: Miniformace mix 3 | E27: ='Miniformace mix'!Z11 -> 0
B28: Sólo baton | E28: ='Sólo baton'!K4 -> 0
B29: Duo, trio baton | E29: ='Duo, trio baton'!K4 -> 0
B30: Sólo 2 baton | E30: ='Sólo 2 baton'!K4 -> 0
B31: Duo, trio 2 baton | E31: ='Duo, trio 2 baton'!K4 -> 0
B32: Sólo freestyle / tan.ryt. sólo | E32: ='Sólo freestyle_taneční rytmické'!K4 -> 0
B33: Sólo mace | E33: ='Sólo mace'!K4 -> 0
B34: Duo, trio mace | E34: ='Duo, trio mace'!K4 -> 0
B35: Sólo flag | E35: ='Sólo flag'!K4 -> 0
B36: Duo, trio flag | E36: ='Duo, trio flag'!K4 -> 0
B37: Duo, trio mix | E37: ='Duo, trio mix'!K4 -> 0
B38: Sólo pompony | E38: ='Sólo pompony'!K4 -> 0
B39: Duo, trio pompony | E39: ='Duo, trio pompony'!K4 -> 0
B40: Sólo pompony klasik | E40: ='Sólo pompony klasik'!K4 -> 0
B41: Duo, trio pompony klasik | E41: ='Duo, trio pompony klasik'!K4 -> 0
B42: Rodičovské týmy | E42: ='Rodičovské týmy'!F9 -> 0
B43: Celkem | E43: =SUM(E10:E42) -> 0
B45: Poznámka:

Sheet Skupina baton
B1: Skupina baton | E1: =údaje!A1 -> 2026 | L1: Skupina baton | O1: =údaje!A1 -> 2026 | V1: Skupina baton | Y1: =údaje!A1 -> 2026
B2: =údaje!A2 -> 15. ročník mažoretkové soutěže "O pohár města Hranice" | L2: =údaje!A2 -> 15. ročník mažoretkové soutěže "O pohár města Hranice" | V2: =údaje!A2 -> 15. ročník mažoretkové soutěže "O pohár města Hranice"
B4: Název skupiny | L4: Název skupiny | V4: Název skupiny
B5: Město | L5: Město | V5: Město
B6: Délka skladby | L6: Délka skladby | V6: Délka skladby
B7: Zda máte více skupin pro stejnou disciplínu, tak pro druhou skupinu, použíjte vedlejší tabulku. | L7: Zda máte více skupin pro stejnou disciplínu, tak pro druhou skupinu, použíjte vedlejší tabulku.
B9: Věkový průměr | F9: =AVERAGE(I16:I40) -> #DIV/0! | L9: Věkový průměr | P9: =AVERAGE(S16:S40) -> #DIV/0! | V9: Věkový průměr | Z9: =AVERAGE(AC16:AC40) -> #DIV/0!
B10: Zařazení do soutěžní kategorie | F10: =IF($F$9<6,"děti",IF($F$9<8,"kadetky ml",IF($F$9<10,"kadetky st",IF($F$9<12,"juniorky ml",IF($F$9<15,"juniorky st","seniorky"))))) -> #DIV/0! | L10: Zařazení do soutěžní kategorie | P10: =IF($P$9<6,"děti",IF($P$9<8,"kadetky ml",IF($P$9<10,"kadetky st",IF($P$9<12,"juniorky ml",IF($P$9<15,"juniorky st","seniorky"))))) -> #DIV/0! | V10: Zařazení do soutěžní kategorie | Z10: =IF($Z$9<6,"děti",IF($Z$9<8,"kadetky ml",IF($Z$9<10,"kadetky st",IF($Z$9<12,"juniorky ml",IF($Z$9<15,"juniorky st","seniorky"))))) -> #DIV/0!
B11: Startovné celkem | F11: =SUM(J16:J40) -> 0 | L11: Startovné celkem | P11: =SUM(T16:T40) -> 0 | V11: Startovné celkem | Z11: =SUM(AD16:AD40) -> 0
F14: Datum narození | I14: =údaje!A1 -> 2026 | P14: Datum narození | S14: =údaje!A1 -> 2026 | Z14: Datum narození | AC14: =údaje!A1 -> 2026
B15: Jméno a příjmení | F15: den | G15: měsíc | H15: rok | I15: věk | J15: Startovné | L15: Jméno a příjmení | P15: den | Q15: měsíc | R15: rok | S15: věk | T15: Startovné | V15: Jméno a příjmení | Z15: den | AA15: měsíc | AB15: rok | AC15: věk | AD15: Startovné
B16: 1. | I16: =IF(H16=0,"",(I14-H16)) | J16: =IF(I16="","",IF(I16>1,K16)) | K16: =údaje!A3 -> 180 | L16: 1. | S16: =IF(R16=0,"",(S14-R16)) | T16: =IF(S16="","",IF(S16>1,U16)) | U16: =údaje!A3 -> 180 | V16: 1. | AC16: =IF(AB16=0,"",(AC14-AB16)) | AD16: =IF(AC16="","",IF(AC16>1,AE16)) | AE16: =údaje!A3 -> 180 | AF16: 1 | AG16: =IF(I16="","",IF(I16>1,AF16)) | AH16: =IF(S16="","",IF(S16>1,AF16)) | AI16: =IF(AC16="","",IF(AC16>1,AF16))
B17: 2. | I17: =IF(H17=0,"",(I14-H17)) | J17: =IF(I17="","",IF(I17>1,K17)) | K17: =$K$16 -> 180 | L17: 2. | S17: =IF(R17=0,"",(S14-R17)) | T17: =IF(S17="","",IF(S17>1,U17)) | U17: =$U$16 -> 180 | V17: 2. | AC17: =IF(AB17=0,"",(AC14-AB17)) | AD17: =IF(AC17="","",IF(AC17>1,AE17)) | AE17: =$AE$16 -> 180 | AF17: 1 | AG17: =IF(I17="","",IF(I17>1,AF17)) | AH17: =IF(S17="","",IF(S17>1,AF17)) | AI17: =IF(AC17="","",IF(AC17>1,AF17))
B18: 3. | I18: =IF(H18=0,"",(I14-H18)) | J18: =IF(I18="","",IF(I18>1,K18)) | K18: =$K$16 -> 180 | L18: 3. | S18: =IF(R18=0,"",(S14-R18)) | T18: =IF(S18="","",IF(S18>1,U18)) | U18: =$U$16 -> 180 | V18: 3. | AC18: =IF(AB18=0,"",(AC14-AB18)) | AD18: =IF(AC18="","",IF(AC18>1,AE18)) | AE18: =$AE$16 -> 180 | AF18: 1 | AG18: =IF(I18="","",IF(I18>1,AF18)) | AH18: =IF(S18="","",IF(S18>1,AF18)) | AI18: =IF(AC18="","",IF(AC18>1,AF18))
B19: 4. | I19: =IF(H19=0,"",(I14-H19)) | J19: =IF(I19="","",IF(I19>1,K19)) | K19: =$K$16 -> 180 | L19: 4. | S19: =IF(R19=0,"",(S14-R19)) | T19: =IF(S19="","",IF(S19>1,U19)) | U19: =$U$16 -> 180 | V19: 4. | AC19: =IF(AB19=0,"",(AC14-AB19)) | AD19: =IF(AC19="","",IF(AC19>1,AE19)) | AE19: =$AE$16 -> 180 | AF19: 1 | AG19: =IF(I19="","",IF(I19>1,AF19)) | AH19: =IF(S19="","",IF(S19>1,AF19)) | AI19: =IF(AC19="","",IF(AC19>1,AF19))
B20: 5. | I20: =IF(H20=0,"",(I14-H20)) | J20: =IF(I20="","",IF(I20>1,K20)) | K20: =$K$16 -> 180 | L20: 5. | S20: =IF(R20=0,"",(S14-R20)) | T20: =IF(S20="","",IF(S20>1,U20)) | U20: =$U$16 -> 180 | V20: 5. | AC20: =IF(AB20=0,"",(AC14-AB20)) | AD20: =IF(AC20="","",IF(AC20>1,AE20)) | AE20: =$AE$16 -> 180 | AF20: 1 | AG20: =IF(I20="","",IF(I20>1,AF20)) | AH20: =IF(S20="","",IF(S20>1,AF20)) | AI20: =IF(AC20="","",IF(AC20>1,AF20))
B21: 6. | I21: =IF(H21=0,"",(I14-H21)) | J21: =IF(I21="","",IF(I21>1,K21)) | K21: =$K$16 -> 180 | L21: 6. | S21: =IF(R21=0,"",(S14-R21)) | T21: =IF(S21="","",IF(S21>1,U21)) | U21: =$U$16 -> 180 | V21: 6. | AC21: =IF(AB21=0,"",(AC14-AB21)) | AD21: =IF(AC21="","",IF(AC21>1,AE21)) | AE21: =$AE$16 -> 180 | AF21: 1 | AG21: =IF(I21="","",IF(I21>1,AF21)) | AH21: =IF(S21="","",IF(S21>1,AF21)) | AI21: =IF(AC21="","",IF(AC21>1,AF21))
B22: 7. | I22: =IF(H22=0,"",(I14-H22)) | J22: =IF(I22="","",IF(I22>1,K22)) | K22: =$K$16 -> 180 | L22: 7. | S22: =IF(R22=0,"",(S14-R22)) | T22: =IF(S22="","",IF(S22>1,U22)) | U22: =$U$16 -> 180 | V22: 7. | AC22: =IF(AB22=0,"",(AC14-AB22)) | AD22: =IF(AC22="","",IF(AC22>1,AE22)) | AE22: =$AE$16 -> 180 | AF22: 1 | AG22: =IF(I22="","",IF(I22>1,AF22)) | AH22: =IF(S22="","",IF(S22>1,AF22)) | AI22: =IF(AC22="","",IF(AC22>1,AF22))
B23: 8. | I23: =IF(H23=0,"",(I14-H23)) | J23: =IF(I23="","",IF(I23>1,K23)) | K23: =$K$16 -> 180 | L23: 8. | S23: =IF(R23=0,"",(S14-R23)) | T23: =IF(S23="","",IF(S23>1,U23)) | U23: =$U$16 -> 180 | V23: 8. | AC23: =IF(AB23=0,"",(AC14-AB23)) | AD23: =IF(AC23="","",IF(AC23>1,AE23)) | AE23: =$AE$16 -> 180 | AF23: 1 | AG23: =IF(I23="","",IF(I23>1,AF23)) | AH23: =IF(S23="","",IF(S23>1,AF23)) | AI23: =IF(AC23="","",IF(AC23>1,AF23))
B24: 9. | I24: =IF(H24=0,"",(I14-H24)) | J24: =IF(I24="","",IF(I24>1,K24)) | K24: =$K$16 -> 180 | L24: 9. | S24: =IF(R24=0,"",(S14-R24)) | T24: =IF(S24="","",IF(S24>1,U24)) | U24: =$U$16 -> 180 | V24: 9. | AC24: =IF(AB24=0,"",(AC14-AB24)) | AD24: =IF(AC24="","",IF(AC24>1,AE24)) | AE24: =$AE$16 -> 180 | AF24: 1 | AG24: =IF(I24="","",IF(I24>1,AF24)) | AH24: =IF(S24="","",IF(S24>1,AF24)) | AI24: =IF(AC24="","",IF(AC24>1,AF24))
B25: 10. | I25: =IF(H25=0,"",(I14-H25)) | J25: =IF(I25="","",IF(I25>1,K25)) | K25: =$K$16 -> 180 | L25: 10. | S25: =IF(R25=0,"",(S14-R25)) | T25: =IF(S25="","",IF(S25>1,U25)) | U25: =$U$16 -> 180 | V25: 10. | AC25: =IF(AB25=0,"",(AC14-AB25)) | AD25: =IF(AC25="","",IF(AC25>1,AE25)) | AE25: =$AE$16 -> 180 | AF25: 1 | AG25: =IF(I25="","",IF(I25>1,AF25)) | AH25: =IF(S25="","",IF(S25>1,AF25)) | AI25: =IF(AC25="","",IF(AC25>1,AF25))
B26: 11. | I26: =IF(H26=0,"",(I14-H26)) | J26: =IF(I26="","",IF(I26>1,K26)) | K26: =$K$16 -> 180 | L26: 11. | S26: =IF(R26=0,"",(S14-R26)) | T26: =IF(S26="","",IF(S26>1,U26)) | U26: =$U$16 -> 180 | V26: 11. | AC26: =IF(AB26=0,"",(AC14-AB26)) | AD26: =IF(AC26="","",IF(AC26>1,AE26)) | AE26: =$AE$16 -> 180 | AF26: 1 | AG26: =IF(I26="","",IF(I26>1,AF26)) | AH26: =IF(S26="","",IF(S26>1,AF26)) | AI26: =IF(AC26="","",IF(AC26>1,AF26))
B27: 12. | I27: =IF(H27=0,"",(I14-H27)) | J27: =IF(I27="","",IF(I27>1,K27)) | K27: =$K$16 -> 180 | L27: 12. | S27: =IF(R27=0,"",(S14-R27)) | T27: =IF(S27="","",IF(S27>1,U27)) | U27: =$U$16 -> 180 | V27: 12. | AC27: =IF(AB27=0,"",(AC14-AB27)) | AD27: =IF(AC27="","",IF(AC27>1,AE27)) | AE27: =$AE$16 -> 180 | AF27: 1 | AG27: =IF(I27="","",IF(I27>1,AF27)) | AH27: =IF(S27="","",IF(S27>1,AF27)) | AI27: =IF(AC27="","",IF(AC27>1,AF27))
B28: 13. | I28: =IF(H28=0,"",(I14-H28)) | J28: =IF(I28="","",IF(I28>1,K28)) | K28: =$K$16 -> 180 | L28: 13. | S28: =IF(R28=0,"",(S14-R28)) | T28: =IF(S28="","",IF(S28>1,U28)) | U28: =$U$16 -> 180 | V28: 13. | AC28: =IF(AB28=0,"",(AC14-AB28)) | AD28: =IF(AC28="","",IF(AC28>1,AE28)) | AE28: =$AE$16 -> 180 | AF28: 1 | AG28: =IF(I28="","",IF(I28>1,AF28)) | AH28: =IF(S28="","",IF(S28>1,AF28)) | AI28: =IF(AC28="","",IF(AC28>1,AF28))
B29: 14. | I29: =IF(H29=0,"",(I14-H29)) | J29: =IF(I29="","",IF(I29>1,K29)) | K29: =$K$16 -> 180 | L29: 14. | S29: =IF(R29=0,"",(S14-R29)) | T29: =IF(S29="","",IF(S29>1,U29)) | U29: =$U$16 -> 180 | V29: 14. | AC29: =IF(AB29=0,"",(AC14-AB29)) | AD29: =IF(AC29="","",IF(AC29>1,AE29)) | AE29: =$AE$16 -> 180 | AF29: 1 | AG29: =IF(I29="","",IF(I29>1,AF29)) | AH29: =IF(S29="","",IF(S29>1,AF29)) | AI29: =IF(AC29="","",IF(AC29>1,AF29))
B30: 15. | I30: =IF(H30=0,"",(I14-H30)) | J30: =IF(I30="","",IF(I30>1,K30)) | K30: =$K$16 -> 180 | L30: 15. | S30: =IF(R30=0,"",(S14-R30)) | T30: =IF(S30="","",IF(S30>1,U30)) | U30: =$U$16 -> 180 | V30: 15. | AC30: =IF(AB30=0,"",(AC14-AB30)) | AD30: =IF(AC30="","",IF(AC30>1,AE30)) | AE30: =$AE$16 -> 180 | AF30: 1 | AG30: =IF(I30="","",IF(I30>1,AF30)) | AH30: =IF(S30="","",IF(S30>1,AF30)) | AI30: =IF(AC30="","",IF(AC30>1,AF30))
B31: 16. | I31: =IF(H31=0,"",(I14-H31)) | J31: =IF(I31="","",IF(I31>1,K31)) | K31: =$K$16 -> 180 | L31: 16. | S31: =IF(R31=0,"",(S14-R31)) | T31: =IF(S31="","",IF(S31>1,U31)) | U31: =$U$16 -> 180 | V31: 16. | AC31: =IF(AB31=0,"",(AC14-AB31)) | AD31: =IF(AC31="","",IF(AC31>1,AE31)) | AE31: =$AE$16 -> 180 | AF31: 1 | AG31: =IF(I31="","",IF(I31>1,AF31)) | AH31: =IF(S31="","",IF(S31>1,AF31)) | AI31: =IF(AC31="","",IF(AC31>1,AF31))
B32: 17. | I32: =IF(H32=0,"",(I14-H32)) | J32: =IF(I32="","",IF(I32>1,K32)) | K32: =$K$16 -> 180 | L32: 17. | S32: =IF(R32=0,"",(S14-R32)) | T32: =IF(S32="","",IF(S32>1,U32)) | U32: =$U$16 -> 180 | V32: 17. | AC32: =IF(AB32=0,"",(AC14-AB32)) | AD32: =IF(AC32="","",IF(AC32>1,AE32)) | AE32: =$AE$16 -> 180 | AF32: 1 | AG32: =IF(I32="","",IF(I32>1,AF32)) | AH32: =IF(S32="","",IF(S32>1,AF32)) | AI32: =IF(AC32="","",IF(AC32>1,AF32))
B33: 18. | I33: =IF(H33=0,"",(I14-H33)) | J33: =IF(I33="","",IF(I33>1,K33)) | K33: =$K$16 -> 180 | L33: 18. | S33: =IF(R33=0,"",(S14-R33)) | T33: =IF(S33="","",IF(S33>1,U33)) | U33: =$U$16 -> 180 | V33: 18. | AC33: =IF(AB33=0,"",(AC14-AB33)) | AD33: =IF(AC33="","",IF(AC33>1,AE33)) | AE33: =$AE$16 -> 180 | AF33: 1 | AG33: =IF(I33="","",IF(I33>1,AF33)) | AH33: =IF(S33="","",IF(S33>1,AF33)) | AI33: =IF(AC33="","",IF(AC33>1,AF33))
B34: 19. | I34: =IF(H34=0,"",(I14-H34)) | J34: =IF(I34="","",IF(I34>1,K34)) | K34: =$K$16 -> 180 | L34: 19. | S34: =IF(R34=0,"",(S14-R34)) | T34: =IF(S34="","",IF(S34>1,U34)) | U34: =$U$16 -> 180 | V34: 19. | AC34: =IF(AB34=0,"",(AC14-AB34)) | AD34: =IF(AC34="","",IF(AC34>1,AE34)) | AE34: =$AE$16 -> 180 | AF34: 1 | AG34: =IF(I34="","",IF(I34>1,AF34)) | AH34: =IF(S34="","",IF(S34>1,AF34)) | AI34: =IF(AC34="","",IF(AC34>1,AF34))
B35: 20. | I35: =IF(H35=0,"",(I14-H35)) | J35: =IF(I35="","",IF(I35>1,K35)) | K35: =$K$16 -> 180 | L35: 20. | S35: =IF(R35=0,"",(S14-R35)) | T35: =IF(S35="","",IF(S35>1,U35)) | U35: =$U$16 -> 180 | V35: 20. | AC35: =IF(AB35=0,"",(AC14-AB35)) | AD35: =IF(AC35="","",IF(AC35>1,AE35)) | AE35: =$AE$16 -> 180 | AF35: 1 | AG35: =IF(I35="","",IF(I35>1,AF35)) | AH35: =IF(S35="","",IF(S35>1,AF35)) | AI35: =IF(AC35="","",IF(AC35>1,AF35))
B36: 21. | I36: =IF(H36=0,"",(I14-H36)) | J36: =IF(I36="","",IF(I36>1,K36)) | K36: =$K$16 -> 180 | L36: 21. | S36: =IF(R36=0,"",(S14-R36)) | T36: =IF(S36="","",IF(S36>1,U36)) | U36: =$U$16 -> 180 | V36: 21. | AC36: =IF(AB36=0,"",(AC14-AB36)) | AD36: =IF(AC36="","",IF(AC36>1,AE36)) | AE36: =$AE$16 -> 180 | AF36: 1 | AG36: =IF(I36="","",IF(I36>1,AF36)) | AH36: =IF(S36="","",IF(S36>1,AF36)) | AI36: =IF(AC36="","",IF(AC36>1,AF36))
B37: 22. | I37: =IF(H37=0,"",(I14-H37)) | J37: =IF(I37="","",IF(I37>1,K37)) | K37: =$K$16 -> 180 | L37: 22. | S37: =IF(R37=0,"",(S14-R37)) | T37: =IF(S37="","",IF(S37>1,U37)) | U37: =$U$16 -> 180 | V37: 22. | AC37: =IF(AB37=0,"",(AC14-AB37)) | AD37: =IF(AC37="","",IF(AC37>1,AE37)) | AE37: =$AE$16 -> 180 | AF37: 1 | AG37: =IF(I37="","",IF(I37>1,AF37)) | AH37: =IF(S37="","",IF(S37>1,AF37)) | AI37: =IF(AC37="","",IF(AC37>1,AF37))
B38: 23. | I38: =IF(H38=0,"",(I14-H38)) | J38: =IF(I38="","",IF(I38>1,K38)) | K38: =$K$16 -> 180 | L38: 23. | S38: =IF(R38=0,"",(S14-R38)) | T38: =IF(S38="","",IF(S38>1,U38)) | U38: =$U$16 -> 180 | V38: 23. | AC38: =IF(AB38=0,"",(AC14-AB38)) | AD38: =IF(AC38="","",IF(AC38>1,AE38)) | AE38: =$AE$16 -> 180 | AF38: 1 | AG38: =IF(I38="","",IF(I38>1,AF38)) | AH38: =IF(S38="","",IF(S38>1,AF38)) | AI38: =IF(AC38="","",IF(AC38>1,AF38))
B39: 24. | I39: =IF(H39=0,"",(I14-H39)) | J39: =IF(I39="","",IF(I39>1,K39)) | K39: =$K$16 -> 180 | L39: 24. | S39: =IF(R39=0,"",(S14-R39)) | T39: =IF(S39="","",IF(S39>1,U39)) | U39: =$U$16 -> 180 | V39: 24. | AC39: =IF(AB39=0,"",(AC14-AB39)) | AD39: =IF(AC39="","",IF(AC39>1,AE39)) | AE39: =$AE$16 -> 180 | AF39: 1 | AG39: =IF(I39="","",IF(I39>1,AF39)) | AH39: =IF(S39="","",IF(S39>1,AF39)) | AI39: =IF(AC39="","",IF(AC39>1,AF39))
B40: 25. | I40: =IF(H40=0,"",(I14-H40)) | J40: =IF(I40="","",IF(I40>1,K40)) | K40: =$K$16 -> 180 | L40: 25. | S40: =IF(R40=0,"",(S14-R40)) | T40: =IF(S40="","",IF(S40>1,U40)) | U40: =$U$16 -> 180 | V40: 25. | AC40: =IF(AB40=0,"",(AC14-AB40)) | AD40: =IF(AC40="","",IF(AC40>1,AE40)) | AE40: =$AE$16 -> 180 | AF40: 1 | AG40: =IF(I40="","",IF(I40>1,AF40)) | AH40: =IF(S40="","",IF(S40>1,AF40)) | AI40: =IF(AC40="","",IF(AC40>1,AF40))
AG41: =SUM(AG16:AG40) -> 0 | AH41: =SUM(AH16:AH40) -> 0 | AI41: =SUM(AI16:AI40) -> 0

Sheet Miniformace baton
B1: Miniformace baton | E1: =údaje!A1 -> 2026 | L1: Miniformace baton | O1: =údaje!A1 -> 2026 | V1: Miniformace baton | Y1: =údaje!A1 -> 2026
B2: =údaje!A2 -> 15. ročník mažoretkové soutěže "O pohár města Hranice" | L2: =údaje!A2 -> 15. ročník mažoretkové soutěže "O pohár města Hranice" | V2: =údaje!A2 -> 15. ročník mažoretkové soutěže "O pohár města Hranice"
B4: Název skupiny | L4: Název skupiny | V4: Název skupiny
B5: Město | L5: Město | V5: Město
B6: Délka skladby | L6: Délka skladby | V6: Délka skladby
B7: Zda máte více skupin pro stejnou disciplínu, tak pro druhou skupinu, použíjte vedlejší tabulku. | L7: Zda máte více skupin pro stejnou disciplínu, tak pro druhou skupinu, použíjte vedlejší tabulku.
B9: Věkový průměr | F9: =AVERAGE(I16:I22) -> #DIV/0! | L9: Věkový průměr | P9: =AVERAGE(S16:S22) -> #DIV/0! | V9: Věkový průměr | Z9: =AVERAGE(AC16:AC22) -> #DIV/0!
B10: Zařazení do soutěžní kategorie | F10: =IF($F$9<6,"děti",IF($F$9<8,"kadetky ml",IF($F$9<10,"kadetky st",IF($F$9<12,"juniorky ml",IF($F$9<15,"juniorky st","seniorky"))))) -> #DIV/0! | L10: Zařazení do soutěžní kategorie | P10: =IF($P$9<6,"děti",IF($P$9<8,"kadetky ml",IF($P$9<10,"kadetky st",IF($P$9<12,"juniorky ml",IF($P$9<15,"juniorky st","seniorky"))))) -> #DIV/0! | V10: Zařazení do soutěžní kategorie | Z10: =IF($Z$9<6,"děti",IF($Z$9<8,"kadetky ml",IF($Z$9<10,"kadetky st",IF($Z$9<12,"juniorky ml",IF($Z$9<15,"juniorky st","seniorky"))))) -> #DIV/0!
B11: Startovné celkem | F11: =SUM(J16:J22) -> 0 | L11: Startovné celkem | P11: =SUM(T16:T22) -> 0 | V11: Startovné celkem | Z11: =SUM(AD16:AD22) -> 0
F14: Datum narození | I14: =údaje!A1 -> 2026 | P14: Datum narození | S14: =údaje!A1 -> 2026 | Z14: Datum narození | AC14: =údaje!A1 -> 2026
B15: Jméno a příjmení | F15: den | G15: měsíc | H15: rok | I15: věk | J15: Startovné | L15: Jméno a příjmení | P15: den | Q15: měsíc | R15: rok | S15: věk | T15: Startovné | V15: Jméno a příjmení | Z15: den | AA15: měsíc | AB15: rok | AC15: věk | AD15: Startovné
B16: 1. | I16: =IF(H16=0,"",(I14-H16)) | J16: =IF(I16="","",IF(I16>1,K16)) | K16: =údaje!A3 -> 180 | L16: 1. | S16: =IF(R16=0,"",(S14-R16)) | T16: =IF(S16="","",IF(S16>1,U16)) | U16: =údaje!A3 -> 180 | V16: 1. | AC16: =IF(AB16=0,"",(AC14-AB16)) | AD16: =IF(AC16="","",IF(AC16>1,AE16)) | AE16: =údaje!A3 -> 180 | AF16: 1 | AG16: =IF(I16="","",IF(I16>1,AF16)) | AH16: =IF(S16="","",IF(S16>1,AF16)) | AI16: =IF(AC16="","",IF(AC16>1,AF16))
B17: 2. | I17: =IF(H17=0,"",(I14-H17)) | J17: =IF(I17="","",IF(I17>1,K17)) | K17: =$K$16 -> 180 | L17: 2. | S17: =IF(R17=0,"",(S14-R17)) | T17: =IF(S17="","",IF(S17>1,U17)) | U17: =$U$16 -> 180 | V17: 2. | AC17: =IF(AB17=0,"",(AC14-AB17)) | AD17: =IF(AC17="","",IF(AC17>1,AE17)) | AE17: =$AE$16 -> 180 | AF17: 1 | AG17: =IF(I17="","",IF(I17>1,AF17)) | AH17: =IF(S17="","",IF(S17>1,AF17)) | AI17: =IF(AC17="","",IF(AC17>1,AF17))
B18: 3. | I18: =IF(H18=0,"",(I14-H18)) | J18: =IF(I18="","",IF(I18>1,K18)) | K18: =$K$16 -> 180 | L18: 3. | S18: =IF(R18=0,"",(S14-R18)) | T18: =IF(S18="","",IF(S18>1,U18)) | U18: =$U$16 -> 180 | V18: 3. | AC18: =IF(AB18=0,"",(AC14-AB18)) | AD18: =IF(AC18="","",IF(AC18>1,AE18)) | AE18: =$AE$16 -> 180 | AF18: 1 | AG18: =IF(I18="","",IF(I18>1,AF18)) | AH18: =IF(S18="","",IF(S18>1,AF18)) | AI18: =IF(AC18="","",IF(AC18>1,AF18))
B19: 4. | I19: =IF(H19=0,"",(I14-H19)) | J19: =IF(I19="","",IF(I19>1,K19)) | K19: =$K$16 -> 180 | L19: 4. | S19: =IF(R19=0,"",(S14-R19)) | T19: =IF(S19="","",IF(S19>1,U19)) | U19: =$U$16 -> 180 | V19: 4. | AC19: =IF(AB19=0,"",(AC14-AB19)) | AD19: =IF(AC19="","",IF(AC19>1,AE19)) | AE19: =$AE$16 -> 180 | AF19: 1 | AG19: =IF(I19="","",IF(I19>1,AF19)) | AH19: =IF(S19="","",IF(S19>1,AF19)) | AI19: =IF(AC19="","",IF(AC19>1,AF19))
B20: 5. | I20: =IF(H20=0,"",(I14-H20)) | J20: =IF(I20="","",IF(I20>1,K20)) | K20: =$K$16 -> 180 | L20: 5. | S20: =IF(R20=0,"",(S14-R20)) | T20: =IF(S20="","",IF(S20>1,U20)) | U20: =$U$16 -> 180 | V20: 5. | AC20: =IF(AB20=0,"",(AC14-AB20)) | AD20: =IF(AC20="","",IF(AC20>1,AE20)) | AE20: =$AE$16 -> 180 | AF20: 1 | AG20: =IF(I20="","",IF(I20>1,AF20)) | AH20: =IF(S20="","",IF(S20>1,AF20)) | AI20: =IF(AC20="","",IF(AC20>1,AF20))
B21: 6. | I21: =IF(H21=0,"",(I14-H21)) | J21: =IF(I21="","",IF(I21>1,K21)) | K21: =$K$16 -> 180 | L21: 6. | S21: =IF(R21=0,"",(S14-R21)) | T21: =IF(S21="","",IF(S21>1,U21)) | U21: =$U$16 -> 180 | V21: 6. | AC21: =IF(AB21=0,"",(AC14-AB21)) | AD21: =IF(AC21="","",IF(AC21>1,AE21)) | AE21: =$AE$16 -> 180 | AF21: 1 | AG21: =IF(I21="","",IF(I21>1,AF21)) | AH21: =IF(S21="","",IF(S21>1,AF21)) | AI21: =IF(AC21="","",IF(AC21>1,AF21))
B22: 7. | I22: =IF(H22=0,"",(I14-H22)) | J22: =IF(I22="","",IF(I22>1,K22)) | K22: =$K$16 -> 180 | L22: 7. | S22: =IF(R22=0,"",(S14-R22)) | T22: =IF(S22="","",IF(S22>1,U22)) | U22: =$U$16 -> 180 | V22: 7. | AC22: =IF(AB22=0,"",(AC14-AB22)) | AD22: =IF(AC22="","",IF(AC22>1,AE22)) | AE22: =$AE$16 -> 180 | AF22: 1 | AG22: =IF(I22="","",IF(I22>1,AF22)) | AH22: =IF(S22="","",IF(S22>1,AF22)) | AI22: =IF(AC22="","",IF(AC22>1,AF22))
AG23: =SUM(AG16:AG22) -> 0 | AH23: =SUM(AH16:AH22) -> 0 | AI23: =SUM(AI16:AI22) -> 0

Sheet Skupina pompony
B1: Skupina pompony | E1: =údaje!A1 -> 2026 | L1: Skupina pompony | O1: =údaje!A1 -> 2026 | V1: Skupina pompony | Y1: =údaje!A1 -> 2026
B2: =údaje!A2 -> 15. ročník mažoretkové soutěže "O pohár města Hranice" | L2: =údaje!A2 -> 15. ročník mažoretkové soutěže "O pohár města Hranice" | V2: =údaje!A2 -> 15. ročník mažoretkové soutěže "O pohár města Hranice"
B4: Název skupiny | L4: Název skupiny | V4: Název skupiny
B5: Město | L5: Město | V5: Město
B6: Délka skladby | L6: Délka skladby | V6: Délka skladby
B7: Zda máte více skupin pro stejnou disciplínu, tak pro druhou skupinu, použíjte vedlejší tabulku. | L7: Zda máte více skupin pro stejnou disciplínu, tak pro druhou skupinu, použíjte vedlejší tabulku.
B9: Věkový průměr | F9: =AVERAGE(I16:I42) -> #DIV/0! | L9: Věkový průměr | P9: =AVERAGE(S16:S42) -> #DIV/0! | V9: Věkový průměr | Z9: =AVERAGE(AC16:AC42) -> #DIV/0!
B10: Zařazení do soutěžní kategorie | F10: =IF($F$9<6,"děti",IF($F$9<8,"kadetky ml",IF($F$9<10,"kadetky st",IF($F$9<12,"juniorky ml",IF($F$9<15,"juniorky st","seniorky"))))) -> #DIV/0! | L10: Zařazení do soutěžní kategorie | P10: =IF($P$9<6,"děti",IF($P$9<8,"kadetky ml",IF($P$9<10,"kadetky st",IF($P$9<12,"juniorky ml",IF($P$9<15,"juniorky st","seniorky"))))) -> #DIV/0! | V10: Zařazení do soutěžní kategorie | Z10: =IF($Z$9<6,"děti",IF($Z$9<8,"kadetky ml",IF($Z$9<10,"kadetky st",IF($Z$9<12,"juniorky ml",IF($Z$9<15,"juniorky st","seniorky"))))) -> #DIV/0!
B11: Startovné celkem | F11: =SUM(J16:J42) -> 0 | L11: Startovné celkem | P11: =SUM(T16:T42) -> 0 | V11: Startovné celkem | Z11: =SUM(AD16:AD42) -> 0
F14: Datum narození | I14: =údaje!A1 -> 2026 | P14: Datum narození | S14: =údaje!A1 -> 2026 | Z14: Datum narození | AC14: =údaje!A1 -> 2026
B15: Jméno a příjmení | F15: den | G15: měsíc | H15: rok | I15: věk | J15: Startovné | L15: Jméno a příjmení | P15: den | Q15: měsíc | R15: rok | S15: věk | T15: Startovné | V15: Jméno a příjmení | Z15: den | AA15: měsíc | AB15: rok | AC15: věk | AD15: Startovné
B16: 1. | I16: =IF(H16=0,"",(I14-H16)) | J16: =IF(I16="","",IF(I16>1,K16)) | K16: =údaje!A3 -> 180 | L16: 1. | S16: =IF(R16=0,"",(S14-R16)) | T16: =IF(S16="","",IF(S16>1,U16)) | U16: =údaje!A3 -> 180 | V16: 1. | AC16: =IF(AB16=0,"",(AC14-AB16)) | AD16: =IF(AC16="","",IF(AC16>1,AE16)) | AE16: =údaje!A3 -> 180 | AF16: 1 | AG16: =IF(I16="","",IF(I16>1,AF16)) | AH16: =IF(S16="","",IF(S16>1,AF16)) | AI16: =IF(AC16="","",IF(AC16>1,AF16))
B17: 2. | I17: =IF(H17=0,"",(I14-H17)) | J17: =IF(I17="","",IF(I17>1,K17)) | K17: =$K$16 -> 180 | L17: 2. | S17: =IF(R17=0,"",(S14-R17)) | T17: =IF(S17="","",IF(S17>1,U17)) | U17: =$U$16 -> 180 | V17: 2. | AC17: =IF(AB17=0,"",(AC14-AB17)) | AD17: =IF(AC17="","",IF(AC17>1,AE17)) | AE17: =$AE$16 -> 180 | AF17: 1 | AG17: =IF(I17="","",IF(I17>1,AF17)) | AH17: =IF(S17="","",IF(S17>1,AF17)) | AI17: =IF(AC17="","",IF(AC17>1,AF17))
B18: 3. | I18: =IF(H18=0,"",(I14-H18)) | J18: =IF(I18="","",IF(I18>1,K18)) | K18: =$K$16 -> 180 | L18: 3. | S18: =IF(R18=0,"",(S14-R18)) | T18: =IF(S18="","",IF(S18>1,U18)) | U18: =$U$16 -> 180 | V18: 3. | AC18: =IF(AB18=0,"",(AC14-AB18)) | AD18: =IF(AC18="","",IF(AC18>1,AE18)) | AE18: =$AE$16 -> 180 | AF18: 1 | AG18: =IF(I18="","",IF(I18>1,AF18)) | AH18: =IF(S18="","",IF(S18>1,AF18)) | AI18: =IF(AC18="","",IF(AC18>1,AF18))
B19: 4. | I19: =IF(H19=0,"",(I14-H19)) | J19: =IF(I19="","",IF(I19>1,K19)) | K19: =$K$16 -> 180 | L19: 4. | S19: =IF(R19=0,"",(S14-R19)) | T19: =IF(S19="","",IF(S19>1,U19)) | U19: =$U$16 -> 180 | V19: 4. | AC19: =IF(AB19=0,"",(AC14-AB19)) | AD19: =IF(AC19="","",IF(AC19>1,AE19)) | AE19: =$AE$16 -> 180 | AF19: 1 | AG19: =IF(I19="","",IF(I19>1,AF19)) | AH19: =IF(S19="","",IF(S19>1,AF19)) | AI19: =IF(AC19="","",IF(AC19>1,AF19))
B20: 5. | I20: =IF(H20=0,"",(I14-H20)) | J20: =IF(I20="","",IF(I20>1,K20)) | K20: =$K$16 -> 180 | L20: 5. | S20: =IF(R20=0,"",(S14-R20)) | T20: =IF(S20="","",IF(S20>1,U20)) | U20: =$U$16 -> 180 | V20: 5. | AC20: =IF(AB20=0,"",(AC14-AB20)) | AD20: =IF(AC20="","",IF(AC20>1,AE20)) | AE20: =$AE$16 -> 180 | AF20: 1 | AG20: =IF(I20="","",IF(I20>1,AF20)) | AH20: =IF(S20="","",IF(S20>1,AF20)) | AI20: =IF(AC20="","",IF(AC20>1,AF20))
B21: 6. | I21: =IF(H21=0,"",(I14-H21)) | J21: =IF(I21="","",IF(I21>1,K21)) | K21: =$K$16 -> 180 | L21: 6. | S21: =IF(R21=0,"",(S14-R21)) | T21: =IF(S21="","",IF(S21>1,U21)) | U21: =$U$16 -> 180 | V21: 6. | AC21: =IF(AB21=0,"",(AC14-AB21)) | AD21: =IF(AC21="","",IF(AC21>1,AE21)) | AE21: =$AE$16 -> 180 | AF21: 1 | AG21: =IF(I21="","",IF(I21>1,AF21)) | AH21: =IF(S21="","",IF(S21>1,AF21)) | AI21: =IF(AC21="","",IF(AC21>1,AF21))
B22: 7. | I22: =IF(H22=0,"",(I14-H22)) | J22: =IF(I22="","",IF(I22>1,K22)) | K22: =$K$16 -> 180 | L22: 7. | S22: =IF(R22=0,"",(S14-R22)) | T22: =IF(S22="","",IF(S22>1,U22)) | U22: =$U$16 -> 180 | V22: 7. | AC22: =IF(AB22=0,"",(AC14-AB22)) | AD22: =IF(AC22="","",IF(AC22>1,AE22)) | AE22: =$AE$16 -> 180 | AF22: 1 | AG22: =IF(I22="","",IF(I22>1,AF22)) | AH22: =IF(S22="","",IF(S22>1,AF22)) | AI22: =IF(AC22="","",IF(AC22>1,AF22))
B23: 8. | I23: =IF(H23=0,"",(I14-H23)) | J23: =IF(I23="","",IF(I23>1,K23)) | K23: =$K$16 -> 180 | L23: 8. | S23: =IF(R23=0,"",(S14-R23)) | T23: =IF(S23="","",IF(S23>1,U23)) | U23: =$U$16 -> 180 | V23: 8. | AC23: =IF(AB23=0,"",(AC14-AB23)) | AD23: =IF(AC23="","",IF(AC23>1,AE23)) | AE23: =$AE$16 -> 180 | AF23: 1 | AG23: =IF(I23="","",IF(I23>1,AF23)) | AH23: =IF(S23="","",IF(S23>1,AF23)) | AI23: =IF(AC23="","",IF(AC23>1,AF23))
B24: 9. | I24: =IF(H24=0,"",(I14-H24)) | J24: =IF(I24="","",IF(I24>1,K24)) | K24: =$K$16 -> 180 | L24: 9. | S24: =IF(R24=0,"",(S14-R24)) | T24: =IF(S24="","",IF(S24>1,U24)) | U24: =$U$16 -> 180 | V24: 9. | AC24: =IF(AB24=0,"",(AC14-AB24)) | AD24: =IF(AC24="","",IF(AC24>1,AE24)) | AE24: =$AE$16 -> 180 | AF24: 1 | AG24: =IF(I24="","",IF(I24>1,AF24)) | AH24: =IF(S24="","",IF(S24>1,AF24)) | AI24: =IF(AC24="","",IF(AC24>1,AF24))
B25: 10. | I25: =IF(H25=0,"",(I14-H25)) | J25: =IF(I25="","",IF(I25>1,K25)) | K25: =$K$16 -> 180 | L25: 10. | S25: =IF(R25=0,"",(S14-R25)) | T25: =IF(S25="","",IF(S25>1,U25)) | U25: =$U$16 -> 180 | V25: 10. | AC25: =IF(AB25=0,"",(AC14-AB25)) | AD25: =IF(AC25="","",IF(AC25>1,AE25)) | AE25: =$AE$16 -> 180 | AF25: 1 | AG25: =IF(I25="","",IF(I25>1,AF25)) | AH25: =IF(S25="","",IF(S25>1,AF25)) | AI25: =IF(AC25="","",IF(AC25>1,AF25))
B26: 11. | I26: =IF(H26=0,"",(I14-H26)) | J26: =IF(I26="","",IF(I26>1,K26)) | K26: =$K$16 -> 180 | L26: 11. | S26: =IF(R26=0,"",(S14-R26)) | T26: =IF(S26="","",IF(S26>1,U26)) | U26: =$U$16 -> 180 | V26: 11. | AC26: =IF(AB26=0,"",(AC14-AB26)) | AD26: =IF(AC26="","",IF(AC26>1,AE26)) | AE26: =$AE$16 -> 180 | AF26: 1 | AG26: =IF(I26="","",IF(I26>1,AF26)) | AH26: =IF(S26="","",IF(S26>1,AF26)) | AI26: =IF(AC26="","",IF(AC26>1,AF26))
B27: 12. | I27: =IF(H27=0,"",(I14-H27)) | J27: =IF(I27="","",IF(I27>1,K27)) | K27: =$K$16 -> 180 | L27: 12. | S27: =IF(R27=0,"",(S14-R27)) | T27: =IF(S27="","",IF(S27>1,U27)) | U27: =$U$16 -> 180 | V27: 12. | AC27: =IF(AB27=0,"",(AC14-AB27)) | AD27: =IF(AC27="","",IF(AC27>1,AE27)) | AE27: =$AE$16 -> 180 | AF27: 1 | AG27: =IF(I27="","",IF(I27>1,AF27)) | AH27: =IF(S27="","",IF(S27>1,AF27)) | AI27: =IF(AC27="","",IF(AC27>1,AF27))
B28: 13. | I28: =IF(H28=0,"",(I14-H28)) | J28: =IF(I28="","",IF(I28>1,K28)) | K28: =$K$16 -> 180 | L28: 13. | S28: =IF(R28=0,"",(S14-R28)) | T28: =IF(S28="","",IF(S28>1,U28)) | U28: =$U$16 -> 180 | V28: 13. | AC28: =IF(AB28=0,"",(AC14-AB28)) | AD28: =IF(AC28="","",IF(AC28>1,AE28)) | AE28: =$AE$16 -> 180 | AF28: 1 | AG28: =IF(I28="","",IF(I28>1,AF28)) | AH28: =IF(S28="","",IF(S28>1,AF28)) | AI28: =IF(AC28="","",IF(AC28>1,AF28))
B29: 14. | I29: =IF(H29=0,"",(I14-H29)) | J29: =IF(I29="","",IF(I29>1,K29)) | K29: =$K$16 -> 180 | L29: 14. | S29: =IF(R29=0,"",(S14-R29)) | T29: =IF(S29="","",IF(S29>1,U29)) | U29: =$U$16 -> 180 | V29: 14. | AC29: =IF(AB29=0,"",(AC14-AB29)) | AD29: =IF(AC29="","",IF(AC29>1,AE29)) | AE29: =$AE$16 -> 180 | AF29: 1 | AG29: =IF(I29="","",IF(I29>1,AF29)) | AH29: =IF(S29="","",IF(S29>1,AF29)) | AI29: =IF(AC29="","",IF(AC29>1,AF29))
B30: 15. | I30: =IF(H30=0,"",(I14-H30)) | J30: =IF(I30="","",IF(I30>1,K30)) | K30: =$K$16 -> 180 | L30: 15. | S30: =IF(R30=0,"",(S14-R30)) | T30: =IF(S30="","",IF(S30>1,U30)) | U30: =$U$16 -> 180 | V30: 15. | AC30: =IF(AB30=0,"",(AC14-AB30)) | AD30: =IF(AC30="","",IF(AC30>1,AE30)) | AE30: =$AE$16 -> 180 | AF30: 1 | AG30: =IF(I30="","",IF(I30>1,AF30)) | AH30: =IF(S30="","",IF(S30>1,AF30)) | AI30: =IF(AC30="","",IF(AC30>1,AF30))
B31: 16. | I31: =IF(H31=0,"",(I14-H31)) | J31: =IF(I31="","",IF(I31>1,K31)) | K31: =$K$16 -> 180 | L31: 16. | S31: =IF(R31=0,"",(S14-R31)) | T31: =IF(S31="","",IF(S31>1,U31)) | U31: =$U$16 -> 180 | V31: 16. | AC31: =IF(AB31=0,"",(AC14-AB31)) | AD31: =IF(AC31="","",IF(AC31>1,AE31)) | AE31: =$AE$16 -> 180 | AF31: 1 | AG31: =IF(I31="","",IF(I31>1,AF31)) | AH31: =IF(S31="","",IF(S31>1,AF31)) | AI31: =IF(AC31="","",IF(AC31>1,AF31))
B32: 17. | I32: =IF(H32=0,"",(I14-H32)) | J32: =IF(I32="","",IF(I32>1,K32)) | K32: =$K$16 -> 180 | L32: 17. | S32: =IF(R32=0,"",(S14-R32)) | T32: =IF(S32="","",IF(S32>1,U32)) | U32: =$U$16 -> 180 | V32: 17. | AC32: =IF(AB32=0,"",(AC14-AB32)) | AD32: =IF(AC32="","",IF(AC32>1,AE32)) | AE32: =$AE$16 -> 180 | AF32: 1 | AG32: =IF(I32="","",IF(I32>1,AF32)) | AH32: =IF(S32="","",IF(S32>1,AF32)) | AI32: =IF(AC32="","",IF(AC32>1,AF32))
B33: 18. | I33: =IF(H33=0,"",(I14-H33)) | J33: =IF(I33="","",IF(I33>1,K33)) | K33: =$K$16 -> 180 | L33: 18. | S33: =IF(R33=0,"",(S14-R33)) | T33: =IF(S33="","",IF(S33>1,U33)) | U33: =$U$16 -> 180 | V33: 18. | AC33: =IF(AB33=0,"",(AC14-AB33)) | AD33: =IF(AC33="","",IF(AC33>1,AE33)) | AE33: =$AE$16 -> 180 | AF33: 1 | AG33: =IF(I33="","",IF(I33>1,AF33)) | AH33: =IF(S33="","",IF(S33>1,AF33)) | AI33: =IF(AC33="","",IF(AC33>1,AF33))
B34: 19. | I34: =IF(H34=0,"",(I14-H34)) | J34: =IF(I34="","",IF(I34>1,K34)) | K34: =$K$16 -> 180 | L34: 19. | S34: =IF(R34=0,"",(S14-R34)) | T34: =IF(S34="","",IF(S34>1,U34)) | U34: =$U$16 -> 180 | V34: 19. | AC34: =IF(AB34=0,"",(AC14-AB34)) | AD34: =IF(AC34="","",IF(AC34>1,AE34)) | AE34: =$AE$16 -> 180 | AF34: 1 | AG34: =IF(I34="","",IF(I34>1,AF34)) | AH34: =IF(S34="","",IF(S34>1,AF34)) | AI34: =IF(AC34="","",IF(AC34>1,AF34))
B35: 20. | I35: =IF(H35=0,"",(I14-H35)) | J35: =IF(I35="","",IF(I35>1,K35)) | K35: =$K$16 -> 180 | L35: 20. | S35: =IF(R35=0,"",(S14-R35)) | T35: =IF(S35="","",IF(S35>1,U35)) | U35: =$U$16 -> 180 | V35: 20. | AC35: =IF(AB35=0,"",(AC14-AB35)) | AD35: =IF(AC35="","",IF(AC35>1,AE35)) | AE35: =$AE$16 -> 180 | AF35: 1 | AG35: =IF(I35="","",IF(I35>1,AF35)) | AH35: =IF(S35="","",IF(S35>1,AF35)) | AI35: =IF(AC35="","",IF(AC35>1,AF35))
B36: 21. | I36: =IF(H36=0,"",(I14-H36)) | J36: =IF(I36="","",IF(I36>1,K36)) | K36: =$K$16 -> 180 | L36: 21. | S36: =IF(R36=0,"",(S14-R36)) | T36: =IF(S36="","",IF(S36>1,U36)) | U36: =$U$16 -> 180 | V36: 21. | AC36: =IF(AB36=0,"",(AC14-AB36)) | AD36: =IF(AC36="","",IF(AC36>1,AE36)) | AE36: =$AE$16 -> 180 | AF36: 1 | AG36: =IF(I36="","",IF(I36>1,AF36)) | AH36: =IF(S36="","",IF(S36>1,AF36)) | AI36: =IF(AC36="","",IF(AC36>1,AF36))
B37: 22. | I37: =IF(H37=0,"",(I14-H37)) | J37: =IF(I37="","",IF(I37>1,K37)) | K37: =$K$16 -> 180 | L37: 22. | S37: =IF(R37=0,"",(S14-R37)) | T37: =IF(S37="","",IF(S37>1,U37)) | U37: =$U$16 -> 180 | V37: 22. | AC37: =IF(AB37=0,"",(AC14-AB37)) | AD37: =IF(AC37="","",IF(AC37>1,AE37)) | AE37: =$AE$16 -> 180 | AF37: 1 | AG37: =IF(I37="","",IF(I37>1,AF37)) | AH37: =IF(S37="","",IF(S37>1,AF37)) | AI37: =IF(AC37="","",IF(AC37>1,AF37))
B38: 23. | I38: =IF(H38=0,"",(I14-H38)) | J38: =IF(I38="","",IF(I38>1,K38)) | K38: =$K$16 -> 180 | L38: 23. | S38: =IF(R38=0,"",(S14-R38)) | T38: =IF(S38="","",IF(S38>1,U38)) | U38: =$U$16 -> 180 | V38: 23. | AC38: =IF(AB38=0,"",(AC14-AB38)) | AD38: =IF(AC38="","",IF(AC38>1,AE38)) | AE38: =$AE$16 -> 180 | AF38: 1 | AG38: =IF(I38="","",IF(I38>1,AF38)) | AH38: =IF(S38="","",IF(S38>1,AF38)) | AI38: =IF(AC38="","",IF(AC38>1,AF38))
B39: 24. | I39: =IF(H39=0,"",(I14-H39)) | J39: =IF(I39="","",IF(I39>1,K39)) | K39: =$K$16 -> 180 | L39: 24. | S39: =IF(R39=0,"",(S14-R39)) | T39: =IF(S39="","",IF(S39>1,U39)) | U39: =$U$16 -> 180 | V39: 24. | AC39: =IF(AB39=0,"",(AC14-AB39)) | AD39: =IF(AC39="","",IF(AC39>1,AE39)) | AE39: =$AE$16 -> 180 | AF39: 1 | AG39: =IF(I39="","",IF(I39>1,AF39)) | AH39: =IF(S39="","",IF(S39>1,AF39)) | AI39: =IF(AC39="","",IF(AC39>1,AF39))
B40: 25. | I40: =IF(H40=0,"",(I14-H40)) | J40: =IF(I40="","",IF(I40>1,K40)) | K40: =$K$16 -> 180 | L40: 25. | S40: =IF(R40=0,"",(S14-R40)) | T40: =IF(S40="","",IF(S40>1,U40)) | U40: =$U$16 -> 180 | V40: 25. | AC40: =IF(AB40=0,"",(AC14-AB40)) | AD40: =IF(AC40="","",IF(AC40>1,AE40)) | AE40: =$AE$16 -> 180 | AF40: 1 | AG40: =IF(I40="","",IF(I40>1,AF40)) | AH40: =IF(S40="","",IF(S40>1,AF40)) | AI40: =IF(AC40="","",IF(AC40>1,AF40))
B41: 26. | I41: =IF(H41=0,"",(I14-H41)) | J41: =IF(I41="","",IF(I41>1,K41)) | K41: =$K$16 -> 180 | L41: 26. | S41: =IF(R41=0,"",(S14-R41)) | T41: =IF(S41="","",IF(S41>1,U41)) | U41: =$U$16 -> 180 | V41: 26. | AC41: =IF(AB41=0,"",(AC14-AB41)) | AD41: =IF(AC41="","",IF(AC41>1,AE41)) | AE41: =$AE$16 -> 180 | AF41: 1 | AG41: =IF(I41="","",IF(I41>1,AF41)) | AH41: =IF(S41="","",IF(S41>1,AF41)) | AI41: =IF(AC41="","",IF(AC41>1,AF41))
B42: 27. | I42: =IF(H42=0,"",(I14-H42)) | J42: =IF(I42="","",IF(I42>1,K42)) | K42: =$K$16 -> 180 | L42: 27. | S42: =IF(R42=0,"",(S14-R42)) | T42: =IF(S42="","",IF(S42>1,U42)) | U42: =$U$16 -> 180 | V42: 27. | AC42: =IF(AB42=0,"",(AC14-AB42)) | AD42: =IF(AC42="","",IF(AC42>1,AE42)) | AE42: =$AE$16 -> 180 | AF42: 1 | AG42: =IF(I42="","",IF(I42>1,AF42)) | AH42: =IF(S42="","",IF(S42>1,AF42)) | AI42: =IF(AC42="","",IF(AC42>1,AF42))
AG43: =SUM(AG16:AG42) -> 0 | AH43: =SUM(AH16:AH42) -> 0 | AI43: =SUM(AI16:AI42) -> 0

Sheet Miniformace pompony
B1: Miformace pompony | F1: =údaje!A1 -> 2026 | L1: Miformace pompony | P1: =údaje!A1 -> 2026 | V1: Miformace pompony | Z1: =údaje!A1 -> 2026
B2: =údaje!A2 -> 15. ročník mažoretkové soutěže "O pohár města Hranice" | L2: =údaje!A2 -> 15. ročník mažoretkové soutěže "O pohár města Hranice" | V2: =údaje!A2 -> 15. ročník mažoretkové soutěže "O pohár města Hranice"
B4: Název skupiny | L4: Název skupiny | V4: Název skupiny
B5: Město | L5: Město | V5: Město
B6: Délka skladby | L6: Délka skladby | V6: Délka skladby
B7: Zda máte více skupin pro stejnou disciplínu, tak pro druhou skupinu, použíjte vedlejší tabulku. | L7: Zda máte více skupin pro stejnou disciplínu, tak pro druhou skupinu, použíjte vedlejší tabulku.
B9: Věkový průměr | F9: =AVERAGE(I16:I22) -> #DIV/0! | L9: Věkový průměr | P9: =AVERAGE(S16:S22) -> #DIV/0! | V9: Věkový průměr | Z9: =AVERAGE(AC16:AC22) -> #DIV/0!
B10: Zařazení do soutěžní kategorie | F10: =IF($F$9<6,"děti",IF($F$9<8,"kadetky ml",IF($F$9<10,"kadetky st",IF($F$9<12,"juniorky ml",IF($F$9<15,"juniorky st","seniorky"))))) -> #DIV/0! | L10: Zařazení do soutěžní kategorie | P10: =IF($P$9<6,"děti",IF($P$9<8,"kadetky ml",IF($P$9<10,"kadetky st",IF($P$9<12,"juniorky ml",IF($P$9<15,"juniorky st","seniorky"))))) -> #DIV/0! | V10: Zařazení do soutěžní kategorie | Z10: =IF($Z$9<6,"děti",IF($Z$9<8,"kadetky ml",IF($Z$9<10,"kadetky st",IF($Z$9<12,"juniorky ml",IF($Z$9<15,"juniorky st","seniorky"))))) -> #DIV/0!
B11: Startovné celkem | F11: =SUM(J16:J22) -> 0 | L11: Startovné celkem | P11: =SUM(T16:T22) -> 0 | V11: Startovné celkem | Z11: =SUM(AD16:AD22) -> 0
F14: Datum narození | I14: =údaje!A1 -> 2026 | P14: Datum narození | S14: =údaje!A1 -> 2026 | Z14: Datum narození | AC14: =údaje!A1 -> 2026
B15: Jméno a příjmení | F15: den | G15: měsíc | H15: rok | I15: věk | J15: Startovné | L15: Jméno a příjmení | P15: den | Q15: měsíc | R15: rok | S15: věk | T15: Startovné | V15: Jméno a příjmení | Z15: den | AA15: měsíc | AB15: rok | AC15: věk | AD15: Startovné
B16: 1. | I16: =IF(H16=0,"",(I14-H16)) | J16: =IF(I16="","",IF(I16>1,K16)) | K16: =údaje!A3 -> 180 | L16: 1. | S16: =IF(R16=0,"",(S14-R16)) | T16: =IF(S16="","",IF(S16>1,U16)) | U16: =údaje!A3 -> 180 | V16: 1. | AC16: =IF(AB16=0,"",(AC14-AB16)) | AD16: =IF(AC16="","",IF(AC16>1,AE16)) | AE16: =údaje!A3 -> 180 | AF16: 1 | AG16: =IF(I16="","",IF(I16>1,AF16)) | AH16: =IF(S16="","",IF(S16>1,AF16)) | AI16: =IF(AC16="","",IF(AC16>1,AF16))
B17: 2. | I17: =IF(H17=0,"",(I14-H17)) | J17: =IF(I17="","",IF(I17>1,K17)) | K17: =$K$16 -> 180 | L17: 2. | S17: =IF(R17=0,"",(S14-R17)) | T17: =IF(S17="","",IF(S17>1,U17)) | U17: =$U$16 -> 180 | V17: 2. | AC17: =IF(AB17=0,"",(AC14-AB17)) | AD17: =IF(AC17="","",IF(AC17>1,AE17)) | AE17: =$AE$16 -> 180 | AF17: 1 | AG17: =IF(I17="","",IF(I17>1,AF17)) | AH17: =IF(S17="","",IF(S17>1,AF17)) | AI17: =IF(AC17="","",IF(AC17>1,AF17))
B18: 3. | I18: =IF(H18=0,"",(I14-H18)) | J18: =IF(I18="","",IF(I18>1,K18)) | K18: =$K$16 -> 180 | L18: 3. | S18: =IF(R18=0,"",(S14-R18)) | T18: =IF(S18="","",IF(S18>1,U18)) | U18: =$U$16 -> 180 | V18: 3. | AC18: =IF(AB18=0,"",(AC14-AB18)) | AD18: =IF(AC18="","",IF(AC18>1,AE18)) | AE18: =$AE$16 -> 180 | AF18: 1 | AG18: =IF(I18="","",IF(I18>1,AF18)) | AH18: =IF(S18="","",IF(S18>1,AF18)) | AI18: =IF(AC18="","",IF(AC18>1,AF18))
B19: 4. | I19: =IF(H19=0,"",(I14-H19)) | J19: =IF(I19="","",IF(I19>1,K19)) | K19: =$K$16 -> 180 | L19: 4. | S19: =IF(R19=0,"",(S14-R19)) | T19: =IF(S19="","",IF(S19>1,U19)) | U19: =$U$16 -> 180 | V19: 4. | AC19: =IF(AB19=0,"",(AC14-AB19)) | AD19: =IF(AC19="","",IF(AC19>1,AE19)) | AE19: =$AE$16 -> 180 | AF19: 1 | AG19: =IF(I19="","",IF(I19>1,AF19)) | AH19: =IF(S19="","",IF(S19>1,AF19)) | AI19: =IF(AC19="","",IF(AC19>1,AF19))
B20: 5. | I20: =IF(H20=0,"",(I14-H20)) | J20: =IF(I20="","",IF(I20>1,K20)) | K20: =$K$16 -> 180 | L20: 5. | S20: =IF(R20=0,"",(S14-R20)) | T20: =IF(S20="","",IF(S20>1,U20)) | U20: =$U$16 -> 180 | V20: 5. | AC20: =IF(AB20=0,"",(AC14-AB20)) | AD20: =IF(AC20="","",IF(AC20>1,AE20)) | AE20: =$AE$16 -> 180 | AF20: 1 | AG20: =IF(I20="","",IF(I20>1,AF20)) | AH20: =IF(S20="","",IF(S20>1,AF20)) | AI20: =IF(AC20="","",IF(AC20>1,AF20))
B21: 6. | I21: =IF(H21=0,"",(I14-H21)) | J21: =IF(I21="","",IF(I21>1,K21)) | K21: =$K$16 -> 180 | L21: 6. | S21: =IF(R21=0,"",(S14-R21)) | T21: =IF(S21="","",IF(S21>1,U21)) | U21: =$U$16 -> 180 | V21: 6. | AC21: =IF(AB21=0,"",(AC14-AB21)) | AD21: =IF(AC21="","",IF(AC21>1,AE21)) | AE21: =$AE$16 -> 180 | AF21: 1 | AG21: =IF(I21="","",IF(I21>1,AF21)) | AH21: =IF(S21="","",IF(S21>1,AF21)) | AI21: =IF(AC21="","",IF(AC21>1,AF21))
B22: 7. | I22: =IF(H22=0,"",(I14-H22)) | J22: =IF(I22="","",IF(I22>1,K22)) | K22: =$K$16 -> 180 | L22: 7. | S22: =IF(R22=0,"",(S14-R22)) | T22: =IF(S22="","",IF(S22>1,U22)) | U22: =$U$16 -> 180 | V22: 7. | AC22: =IF(AB22=0,"",(AC14-AB22)) | AD22: =IF(AC22="","",IF(AC22>1,AE22)) | AE22: =$AE$16 -> 180 | AF22: 1 | AG22: =IF(I22="","",IF(I22>1,AF22)) | AH22: =IF(S22="","",IF(S22>1,AF22)) | AI22: =IF(AC22="","",IF(AC22>1,AF22))
AG23: =SUM(AG16:AG22) -> 0 | AH23: =SUM(AH15:AH22) -> 0 | AI23: =SUM(AI15:AI22) -> 0

Sheet Skupina pompony klasik
B1: Skupina pompony klasik | E1: =údaje!A1 -> 2026 | L1: Skupina pompony klasik | O1: =údaje!A1 -> 2026 | V1: Skupina pompony klasik | Y1: =údaje!A1 -> 2026
B2: =údaje!A2 -> 15. ročník mažoretkové soutěže "O pohár města Hranice" | L2: =údaje!A2 -> 15. ročník mažoretkové soutěže "O pohár města Hranice" | V2: =údaje!A2 -> 15. ročník mažoretkové soutěže "O pohár města Hranice"
B4: Název skupiny | L4: Název skupiny | V4: Název skupiny
B5: Město | L5: Město | V5: Město
B6: Délka skladby | L6: Délka skladby | V6: Délka skladby
B7: Zda máte více skupin pro stejnou disciplínu, tak pro druhou skupinu, použíjte vedlejší tabulku. | L7: Zda máte více skupin pro stejnou disciplínu, tak pro druhou skupinu, použíjte vedlejší tabulku.
B9: Věkový průměr | F9: =AVERAGE(I16:I40) -> #DIV/0! | L9: Věkový průměr | P9: =AVERAGE(S16:S40) -> #DIV/0! | V9: Věkový průměr | Z9: =AVERAGE(AC16:AC40) -> #DIV/0!
B10: Zařazení do soutěžní kategorie | F10: =IF($F$9<6,"děti",IF($F$9<8,"kadetky ml",IF($F$9<10,"kadetky st",IF($F$9<12,"juniorky ml",IF($F$9<15,"juniorky st","seniorky"))))) -> #DIV/0! | L10: Zařazení do soutěžní kategorie | P10: =IF($P$9<6,"děti",IF($P$9<8,"kadetky ml",IF($P$9<10,"kadetky st",IF($P$9<12,"juniorky ml",IF($P$9<15,"juniorky st","seniorky"))))) -> #DIV/0! | V10: Zařazení do soutěžní kategorie | Z10: =IF($Z$9<6,"děti",IF($Z$9<8,"kadetky ml",IF($Z$9<10,"kadetky st",IF($Z$9<12,"juniorky ml",IF($Z$9<15,"juniorky st","seniorky"))))) -> #DIV/0!
B11: Startovné celkem | F11: =SUM(J16:J40) -> 0 | L11: Startovné celkem | P11: =SUM(T16:T40) -> 0 | V11: Startovné celkem | Z11: =SUM(AD16:AD40) -> 0
F14: Datum narození | I14: =údaje!A1 -> 2026 | P14: Datum narození | S14: =údaje!A1 -> 2026 | Z14: Datum narození | AC14: =údaje!A1 -> 2026
B15: Jméno a příjmení | F15: den | G15: měsíc | H15: rok | I15: věk | J15: Startovné | L15: Jméno a příjmení | P15: den | Q15: měsíc | R15: rok | S15: věk | T15: Startovné | V15: Jméno a příjmení | Z15: den | AA15: měsíc | AB15: rok | AC15: věk | AD15: Startovné
B16: 1. | I16: =IF(H16=0,"",(I14-H16)) | J16: =IF(I16="","",IF(I16>1,K16)) | K16: =údaje!A3 -> 180 | L16: 1. | S16: =IF(R16=0,"",(S14-R16)) | T16: =IF(S16="","",IF(S16>1,U16)) | U16: =údaje!A3 -> 180 | V16: 1. | AC16: =IF(AB16=0,"",(AC14-AB16)) | AD16: =IF(AC16="","",IF(AC16>1,AE16)) | AE16: =údaje!A3 -> 180 | AF16: 1 | AG16: =IF(I16="","",IF(I16>1,AF16)) | AH16: =IF(S16="","",IF(S16>1,AF16)) | AI16: =IF(AC16="","",IF(AC16>1,AF16))
B17: 2. | I17: =IF(H17=0,"",(I14-H17)) | J17: =IF(I17="","",IF(I17>1,K17)) | K17: =$K$16 -> 180 | L17: 2. | S17: =IF(R17=0,"",(S14-R17)) | T17: =IF(S17="","",IF(S17>1,U17)) | U17: =$U$16 -> 180 | V17: 2. | AC17: =IF(AB17=0,"",(AC14-AB17)) | AD17: =IF(AC17="","",IF(AC17>1,AE17)) | AE17: =$AE$16 -> 180 | AF17: 1 | AG17: =IF(I17="","",IF(I17>1,AF17)) | AH17: =IF(S17="","",IF(S17>1,AF17)) | AI17: =IF(AC17="","",IF(AC17>1,AF17))
B18: 3. | I18: =IF(H18=0,"",(I14-H18)) | J18: =IF(I18="","",IF(I18>1,K18)) | K18: =$K$16 -> 180 | L18: 3. | S18: =IF(R18=0,"",(S14-R18)) | T18: =IF(S18="","",IF(S18>1,U18)) | U18: =$U$16 -> 180 | V18: 3. | AC18: =IF(AB18=0,"",(AC14-AB18)) | AD18: =IF(AC18="","",IF(AC18>1,AE18)) | AE18: =$AE$16 -> 180 | AF18: 1 | AG18: =IF(I18="","",IF(I18>1,AF18)) | AH18: =IF(S18="","",IF(S18>1,AF18)) | AI18: =IF(AC18="","",IF(AC18>1,AF18))
B19: 4. | I19: =IF(H19=0,"",(I14-H19)) | J19: =IF(I19="","",IF(I19>1,K19)) | K19: =$K$16 -> 180 | L19: 4. | S19: =IF(R19=0,"",(S14-R19)) | T19: =IF(S19="","",IF(S19>1,U19)) | U19: =$U$16 -> 180 | V19: 4. | AC19: =IF(AB19=0,"",(AC14-AB19)) | AD19: =IF(AC19="","",IF(AC19>1,AE19)) | AE19: =$AE$16 -> 180 | AF19: 1 | AG19: =IF(I19="","",IF(I19>1,AF19)) | AH19: =IF(S19="","",IF(S19>1,AF19)) | AI19: =IF(AC19="","",IF(AC19>1,AF19))
B20: 5. | I20: =IF(H20=0,"",(I14-H20)) | J20: =IF(I20="","",IF(I20>1,K20)) | K20: =$K$16 -> 180 | L20: 5. | S20: =IF(R20=0,"",(S14-R20)) | T20: =IF(S20="","",IF(S20>1,U20)) | U20: =$U$16 -> 180 | V20: 5. | AC20: =IF(AB20=0,"",(AC14-AB20)) | AD20: =IF(AC20="","",IF(AC20>1,AE20)) | AE20: =$AE$16 -> 180 | AF20: 1 | AG20: =IF(I20="","",IF(I20>1,AF20)) | AH20: =IF(S20="","",IF(S20>1,AF20)) | AI20: =IF(AC20="","",IF(AC20>1,AF20))
B21: 6. | I21: =IF(H21=0,"",(I14-H21)) | J21: =IF(I21="","",IF(I21>1,K21)) | K21: =$K$16 -> 180 | L21: 6. | S21: =IF(R21=0,"",(S14-R21)) | T21: =IF(S21="","",IF(S21>1,U21)) | U21: =$U$16 -> 180 | V21: 6. | AC21: =IF(AB21=0,"",(AC14-AB21)) | AD21: =IF(AC21="","",IF(AC21>1,AE21)) | AE21: =$AE$16 -> 180 | AF21: 1 | AG21: =IF(I21="","",IF(I21>1,AF21)) | AH21: =IF(S21="","",IF(S21>1,AF21)) | AI21: =IF(AC21="","",IF(AC21>1,AF21))
B22: 7. | I22: =IF(H22=0,"",(I14-H22)) | J22: =IF(I22="","",IF(I22>1,K22)) | K22: =$K$16 -> 180 | L22: 7. | S22: =IF(R22=0,"",(S14-R22)) | T22: =IF(S22="","",IF(S22>1,U22)) | U22: =$U$16 -> 180 | V22: 7. | AC22: =IF(AB22=0,"",(AC14-AB22)) | AD22: =IF(AC22="","",IF(AC22>1,AE22)) | AE22: =$AE$16 -> 180 | AF22: 1 | AG22: =IF(I22="","",IF(I22>1,AF22)) | AH22: =IF(S22="","",IF(S22>1,AF22)) | AI22: =IF(AC22="","",IF(AC22>1,AF22))
B23: 8. | I23: =IF(H23=0,"",(I14-H23)) | J23: =IF(I23="","",IF(I23>1,K23)) | K23: =$K$16 -> 180 | L23: 8. | S23: =IF(R23=0,"",(S14-R23)) | T23: =IF(S23="","",IF(S23>1,U23)) | U23: =$U$16 -> 180 | V23: 8. | AC23: =IF(AB23=0,"",(AC14-AB23)) | AD23: =IF(AC23="","",IF(AC23>1,AE23)) | AE23: =$AE$16 -> 180 | AF23: 1 | AG23: =IF(I23="","",IF(I23>1,AF23)) | AH23: =IF(S23="","",IF(S23>1,AF23)) | AI23: =IF(AC23="","",IF(AC23>1,AF23))
B24: 9. | I24: =IF(H24=0,"",(I14-H24)) | J24: =IF(I24="","",IF(I24>1,K24)) | K24: =$K$16 -> 180 | L24: 9. | S24: =IF(R24=0,"",(S14-R24)) | T24: =IF(S24="","",IF(S24>1,U24)) | U24: =$U$16 -> 180 | V24: 9. | AC24: =IF(AB24=0,"",(AC14-AB24)) | AD24: =IF(AC24="","",IF(AC24>1,AE24)) | AE24: =$AE$16 -> 180 | AF24: 1 | AG24: =IF(I24="","",IF(I24>1,AF24)) | AH24: =IF(S24="","",IF(S24>1,AF24)) | AI24: =IF(AC24="","",IF(AC24>1,AF24))
B25: 10. | I25: =IF(H25=0,"",(I14-H25)) | J25: =IF(I25="","",IF(I25>1,K25)) | K25: =$K$16 -> 180 | L25: 10. | S25: =IF(R25=0,"",(S14-R25)) | T25: =IF(S25="","",IF(S25>1,U25)) | U25: =$U$16 -> 180 | V25: 10. | AC25: =IF(AB25=0,"",(AC14-AB25)) | AD25: =IF(AC25="","",IF(AC25>1,AE25)) | AE25: =$AE$16 -> 180 | AF25: 1 | AG25: =IF(I25="","",IF(I25>1,AF25)) | AH25: =IF(S25="","",IF(S25>1,AF25)) | AI25: =IF(AC25="","",IF(AC25>1,AF25))
B26: 11. | I26: =IF(H26=0,"",(I14-H26)) | J26: =IF(I26="","",IF(I26>1,K26)) | K26: =$K$16 -> 180 | L26: 11. | S26: =IF(R26=0,"",(S14-R26)) | T26: =IF(S26="","",IF(S26>1,U26)) | U26: =$U$16 -> 180 | V26: 11. | AC26: =IF(AB26=0,"",(AC14-AB26)) | AD26: =IF(AC26="","",IF(AC26>1,AE26)) | AE26: =$AE$16 -> 180 | AF26: 1 | AG26: =IF(I26="","",IF(I26>1,AF26)) | AH26: =IF(S26="","",IF(S26>1,AF26)) | AI26: =IF(AC26="","",IF(AC26>1,AF26))
B27: 12. | I27: =IF(H27=0,"",(I14-H27)) | J27: =IF(I27="","",IF(I27>1,K27)) | K27: =$K$16 -> 180 | L27: 12. | S27: =IF(R27=0,"",(S14-R27)) | T27: =IF(S27="","",IF(S27>1,U27)) | U27: =$U$16 -> 180 | V27: 12. | AC27: =IF(AB27=0,"",(AC14-AB27)) | AD27: =IF(AC27="","",IF(AC27>1,AE27)) | AE27: =$AE$16 -> 180 | AF27: 1 | AG27: =IF(I27="","",IF(I27>1,AF27)) | AH27: =IF(S27="","",IF(S27>1,AF27)) | AI27: =IF(AC27="","",IF(AC27>1,AF27))
B28: 13. | I28: =IF(H28=0,"",(I14-H28)) | J28: =IF(I28="","",IF(I28>1,K28)) | K28: =$K$16 -> 180 | L28: 13. | S28: =IF(R28=0,"",(S14-R28)) | T28: =IF(S28="","",IF(S28>1,U28)) | U28: =$U$16 -> 180 | V28: 13. | AC28: =IF(AB28=0,"",(AC14-AB28)) | AD28: =IF(AC28="","",IF(AC28>1,AE28)) | AE28: =$AE$16 -> 180 | AF28: 1 | AG28: =IF(I28="","",IF(I28>1,AF28)) | AH28: =IF(S28="","",IF(S28>1,AF28)) | AI28: =IF(AC28="","",IF(AC28>1,AF28))
B29: 14. | I29: =IF(H29=0,"",(I14-H29)) | J29: =IF(I29="","",IF(I29>1,K29)) | K29: =$K$16 -> 180 | L29: 14. | S29: =IF(R29=0,"",(S14-R29)) | T29: =IF(S29="","",IF(S29>1,U29)) | U29: =$U$16 -> 180 | V29: 14. | AC29: =IF(AB29=0,"",(AC14-AB29)) | AD29: =IF(AC29="","",IF(AC29>1,AE29)) | AE29: =$AE$16 -> 180 | AF29: 1 | AG29: =IF(I29="","",IF(I29>1,AF29)) | AH29: =IF(S29="","",IF(S29>1,AF29)) | AI29: =IF(AC29="","",IF(AC29>1,AF29))
B30: 15. | I30: =IF(H30=0,"",(I14-H30)) | J30: =IF(I30="","",IF(I30>1,K30)) | K30: =$K$16 -> 180 | L30: 15. | S30: =IF(R30=0,"",(S14-R30)) | T30: =IF(S30="","",IF(S30>1,U30)) | U30: =$U$16 -> 180 | V30: 15. | AC30: =IF(AB30=0,"",(AC14-AB30)) | AD30: =IF(AC30="","",IF(AC30>1,AE30)) | AE30: =$AE$16 -> 180 | AF30: 1 | AG30: =IF(I30="","",IF(I30>1,AF30)) | AH30: =IF(S30="","",IF(S30>1,AF30)) | AI30: =IF(AC30="","",IF(AC30>1,AF30))
B31: 16. | I31: =IF(H31=0,"",(I14-H31)) | J31: =IF(I31="","",IF(I31>1,K31)) | K31: =$K$16 -> 180 | L31: 16. | S31: =IF(R31=0,"",(S14-R31)) | T31: =IF(S31="","",IF(S31>1,U31)) | U31: =$U$16 -> 180 | V31: 16. | AC31: =IF(AB31=0,"",(AC14-AB31)) | AD31: =IF(AC31="","",IF(AC31>1,AE31)) | AE31: =$AE$16 -> 180 | AF31: 1 | AG31: =IF(I31="","",IF(I31>1,AF31)) | AH31: =IF(S31="","",IF(S31>1,AF31)) | AI31: =IF(AC31="","",IF(AC31>1,AF31))
B32: 17. | I32: =IF(H32=0,"",(I14-H32)) | J32: =IF(I32="","",IF(I32>1,K32)) | K32: =$K$16 -> 180 | L32: 17. | S32: =IF(R32=0,"",(S14-R32)) | T32: =IF(S32="","",IF(S32>1,U32)) | U32: =$U$16 -> 180 | V32: 17. | AC32: =IF(AB32=0,"",(AC14-AB32)) | AD32: =IF(AC32="","",IF(AC32>1,AE32)) | AE32: =$AE$16 -> 180 | AF32: 1 | AG32: =IF(I32="","",IF(I32>1,AF32)) | AH32: =IF(S32="","",IF(S32>1,AF32)) | AI32: =IF(AC32="","",IF(AC32>1,AF32))
B33: 18. | I33: =IF(H33=0,"",(I14-H33)) | J33: =IF(I33="","",IF(I33>1,K33)) | K33: =$K$16 -> 180 | L33: 18. | S33: =IF(R33=0,"",(S14-R33)) | T33: =IF(S33="","",IF(S33>1,U33)) | U33: =$U$16 -> 180 | V33: 18. | AC33: =IF(AB33=0,"",(AC14-AB33)) | AD33: =IF(AC33="","",IF(AC33>1,AE33)) | AE33: =$AE$16 -> 180 | AF33: 1 | AG33: =IF(I33="","",IF(I33>1,AF33)) | AH33: =IF(S33="","",IF(S33>1,AF33)) | AI33: =IF(AC33="","",IF(AC33>1,AF33))
B34: 19. | I34: =IF(H34=0,"",(I14-H34)) | J34: =IF(I34="","",IF(I34>1,K34)) | K34: =$K$16 -> 180 | L34: 19. | S34: =IF(R34=0,"",(S14-R34)) | T34: =IF(S34="","",IF(S34>1,U34)) | U34: =$U$16 -> 180 | V34: 19. | AC34: =IF(AB34=0,"",(AC14-AB34)) | AD34: =IF(AC34="","",IF(AC34>1,AE34)) | AE34: =$AE$16 -> 180 | AF34: 1 | AG34: =IF(I34="","",IF(I34>1,AF34)) | AH34: =IF(S34="","",IF(S34>1,AF34)) | AI34: =IF(AC34="","",IF(AC34>1,AF34))
B35: 20. | I35: =IF(H35=0,"",(I14-H35)) | J35: =IF(I35="","",IF(I35>1,K35)) | K35: =$K$16 -> 180 | L35: 20. | S35: =IF(R35=0,"",(S14-R35)) | T35: =IF(S35="","",IF(S35>1,U35)) | U35: =$U$16 -> 180 | V35: 20. | AC35: =IF(AB35=0,"",(AC14-AB35)) | AD35: =IF(AC35="","",IF(AC35>1,AE35)) | AE35: =$AE$16 -> 180 | AF35: 1 | AG35: =IF(I35="","",IF(I35>1,AF35)) | AH35: =IF(S35="","",IF(S35>1,AF35)) | AI35: =IF(AC35="","",IF(AC35>1,AF35))
B36: 21. | I36: =IF(H36=0,"",(I14-H36)) | J36: =IF(I36="","",IF(I36>1,K36)) | K36: =$K$16 -> 180 | L36: 21. | S36: =IF(R36=0,"",(S14-R36)) | T36: =IF(S36="","",IF(S36>1,U36)) | U36: =$U$16 -> 180 | V36: 21. | AC36: =IF(AB36=0,"",(AC14-AB36)) | AD36: =IF(AC36="","",IF(AC36>1,AE36)) | AE36: =$AE$16 -> 180 | AF36: 1 | AG36: =IF(I36="","",IF(I36>1,AF36)) | AH36: =IF(S36="","",IF(S36>1,AF36)) | AI36: =IF(AC36="","",IF(AC36>1,AF36))
B37: 22. | I37: =IF(H37=0,"",(I14-H37)) | J37: =IF(I37="","",IF(I37>1,K37)) | K37: =$K$16 -> 180 | L37: 22. | S37: =IF(R37=0,"",(S14-R37)) | T37: =IF(S37="","",IF(S37>1,U37)) | U37: =$U$16 -> 180 | V37: 22. | AC37: =IF(AB37=0,"",(AC14-AB37)) | AD37: =IF(AC37="","",IF(AC37>1,AE37)) | AE37: =$AE$16 -> 180 | AF37: 1 | AG37: =IF(I37="","",IF(I37>1,AF37)) | AH37: =IF(S37="","",IF(S37>1,AF37)) | AI37: =IF(AC37="","",IF(AC37>1,AF37))
B38: 23. | I38: =IF(H38=0,"",(I14-H38)) | J38: =IF(I38="","",IF(I38>1,K38)) | K38: =$K$16 -> 180 | L38: 23. | S38: =IF(R38=0,"",(S14-R38)) | T38: =IF(S38="","",IF(S38>1,U38)) | U38: =$U$16 -> 180 | V38: 23. | AC38: =IF(AB38=0,"",(AC14-AB38)) | AD38: =IF(AC38="","",IF(AC38>1,AE38)) | AE38: =$AE$16 -> 180 | AF38: 1 | AG38: =IF(I38="","",IF(I38>1,AF38)) | AH38: =IF(S38="","",IF(S38>1,AF38)) | AI38: =IF(AC38="","",IF(AC38>1,AF38))
B39: 24. | I39: =IF(H39=0,"",(I14-H39)) | J39: =IF(I39="","",IF(I39>1,K39)) | K39: =$K$16 -> 180 | L39: 24. | S39: =IF(R39=0,"",(S14-R39)) | T39: =IF(S39="","",IF(S39>1,U39)) | U39: =$U$16 -> 180 | V39: 24. | AC39: =IF(AB39=0,"",(AC14-AB39)) | AD39: =IF(AC39="","",IF(AC39>1,AE39)) | AE39: =$AE$16 -> 180 | AF39: 1 | AG39: =IF(I39="","",IF(I39>1,AF39)) | AH39: =IF(S39="","",IF(S39>1,AF39)) | AI39: =IF(AC39="","",IF(AC39>1,AF39))
B40: 25. | I40: =IF(H40=0,"",(I14-H40)) | J40: =IF(I40="","",IF(I40>1,K40)) | K40: =$K$16 -> 180 | L40: 25. | S40: =IF(R40=0,"",(S14-R40)) | T40: =IF(S40="","",IF(S40>1,U40)) | U40: =$U$16 -> 180 | V40: 25. | AC40: =IF(AB40=0,"",(AC14-AB40)) | AD40: =IF(AC40="","",IF(AC40>1,AE40)) | AE40: =$AE$16 -> 180 | AF40: 1 | AG40: =IF(I40="","",IF(I40>1,AF40)) | AH40: =IF(S40="","",IF(S40>1,AF40)) | AI40: =IF(AC40="","",IF(AC40>1,AF40))
AG41: =SUM(AG16:AG40) -> 0 | AH41: =SUM(AH16:AH40) -> 0 | AI41: =SUM(AI16:AI40) -> 0

Sheet Miniformace mix
B1: Miniformace mix | E1: =údaje!A1 -> 2026 | L1: Miniformace mix | O1: =údaje!A1 -> 2026 | V1: Miniformace mix | Y1: =údaje!A1 -> 2026
B2: =údaje!A2 -> 15. ročník mažoretkové soutěže "O pohár města Hranice" | L2: =údaje!A2 -> 15. ročník mažoretkové soutěže "O pohár města Hranice" | V2: =údaje!A2 -> 15. ročník mažoretkové soutěže "O pohár města Hranice"
B4: Název skupiny | L4: Název skupiny | V4: Název skupiny
B5: Město | L5: Město | V5: Město
B6: Délka skladby | L6: Délka skladby | V6: Délka skladby
B7: Zda máte více skupin pro stejnou disciplínu, tak pro druhou skupinu, použíjte vedlejší tabulku. | L7: Zda máte více skupin pro stejnou disciplínu, tak pro druhou skupinu, použíjte vedlejší tabulku.
B9: Věkový průměr | F9: =AVERAGE(I16:I22) -> #DIV/0! | L9: Věkový průměr | P9: =AVERAGE(S16:S22) -> #DIV/0! | V9: Věkový průměr | Z9: =AVERAGE(AC16:AC22) -> #DIV/0!
B10: Zařazení do soutěžní kategorie | F10: =IF($F$9<6,"děti",IF($F$9<8,"kadetky ml",IF($F$9<10,"kadetky st",IF($F$9<12,"juniorky ml",IF($F$9<15,"juniorky st","seniorky"))))) -> #DIV/0! | L10: Zařazení do soutěžní kategorie | P10: =IF($P$9<6,"děti",IF($P$9<8,"kadetky ml",IF($P$9<10,"kadetky st",IF($P$9<12,"juniorky ml",IF($P$9<15,"juniorky st","seniorky"))))) -> #DIV/0! | V10: Zařazení do soutěžní kategorie | Z10: =IF($Z$9<6,"děti",IF($Z$9<8,"kadetky ml",IF($Z$9<10,"kadetky st",IF($Z$9<12,"juniorky ml",IF($Z$9<15,"juniorky st","seniorky"))))) -> #DIV/0!
B11: Startovné celkem | F11: =SUM(J16:J22) -> 0 | L11: Startovné celkem | P11: =SUM(T16:T22) -> 0 | V11: Startovné celkem | Z11: =SUM(AD16:AD22) -> 0
F14: Datum narození | I14: =údaje!A1 -> 2026 | P14: Datum narození | S14: =údaje!A1 -> 2026 | Z14: Datum narození | AC14: =údaje!A1 -> 2026
B15: Jméno a příjmení | F15: den | G15: měsíc | H15: rok | I15: věk | J15: Startovné | L15: Jméno a příjmení | P15: den | Q15: měsíc | R15: rok | S15: věk | T15: Startovné | V15: Jméno a příjmení | Z15: den | AA15: měsíc | AB15: rok | AC15: věk | AD15: Startovné
B16: 1. | I16: =IF(H16=0,"",(I14-H16)) | J16: =IF(I16="","",IF(I16>1,K16)) | K16: =údaje!A3 -> 180 | L16: 1. | S16: =IF(R16=0,"",(S14-R16)) | T16: =IF(S16="","",IF(S16>1,U16)) | U16: =údaje!A3 -> 180 | V16: 1. | AC16: =IF(AB16=0,"",(AC14-AB16)) | AD16: =IF(AC16="","",IF(AC16>1,AE16)) | AE16: =údaje!A3 -> 180 | AF16: 1 | AG16: =IF(I16="","",IF(I16>1,AF16)) | AH16: =IF(S16="","",IF(S16>1,AF16)) | AI16: =IF(AC16="","",IF(AC16>1,AF16))
B17: 2. | I17: =IF(H17=0,"",(I14-H17)) | J17: =IF(I17="","",IF(I17>1,K17)) | K17: =$K$16 -> 180 | L17: 2. | S17: =IF(R17=0,"",(S14-R17)) | T17: =IF(S17="","",IF(S17>1,U17)) | U17: =$U$16 -> 180 | V17: 2. | AC17: =IF(AB17=0,"",(AC14-AB17)) | AD17: =IF(AC17="","",IF(AC17>1,AE17)) | AE17: =$AE$16 -> 180 | AF17: 1 | AG17: =IF(I17="","",IF(I17>1,AF17)) | AH17: =IF(S17="","",IF(S17>1,AF17)) | AI17: =IF(AC17="","",IF(AC17>1,AF17))
B18: 3. | I18: =IF(H18=0,"",(I14-H18)) | J18: =IF(I18="","",IF(I18>1,K18)) | K18: =$K$16 -> 180 | L18: 3. | S18: =IF(R18=0,"",(S14-R18)) | T18: =IF(S18="","",IF(S18>1,U18)) | U18: =$U$16 -> 180 | V18: 3. | AC18: =IF(AB18=0,"",(AC14-AB18)) | AD18: =IF(AC18="","",IF(AC18>1,AE18)) | AE18: =$AE$16 -> 180 | AF18: 1 | AG18: =IF(I18="","",IF(I18>1,AF18)) | AH18: =IF(S18="","",IF(S18>1,AF18)) | AI18: =IF(AC18="","",IF(AC18>1,AF18))
B19: 4. | I19: =IF(H19=0,"",(I14-H19)) | J19: =IF(I19="","",IF(I19>1,K19)) | K19: =$K$16 -> 180 | L19: 4. | S19: =IF(R19=0,"",(S14-R19)) | T19: =IF(S19="","",IF(S19>1,U19)) | U19: =$U$16 -> 180 | V19: 4. | AC19: =IF(AB19=0,"",(AC14-AB19)) | AD19: =IF(AC19="","",IF(AC19>1,AE19)) | AE19: =$AE$16 -> 180 | AF19: 1 | AG19: =IF(I19="","",IF(I19>1,AF19)) | AH19: =IF(S19="","",IF(S19>1,AF19)) | AI19: =IF(AC19="","",IF(AC19>1,AF19))
B20: 5. | I20: =IF(H20=0,"",(I14-H20)) | J20: =IF(I20="","",IF(I20>1,K20)) | K20: =$K$16 -> 180 | L20: 5. | S20: =IF(R20=0,"",(S14-R20)) | T20: =IF(S20="","",IF(S20>1,U20)) | U20: =$U$16 -> 180 | V20: 5. | AC20: =IF(AB20=0,"",(AC14-AB20)) | AD20: =IF(AC20="","",IF(AC20>1,AE20)) | AE20: =$AE$16 -> 180 | AF20: 1 | AG20: =IF(I20="","",IF(I20>1,AF20)) | AH20: =IF(S20="","",IF(S20>1,AF20)) | AI20: =IF(AC20="","",IF(AC20>1,AF20))
B21: 6. | I21: =IF(H21=0,"",(I14-H21)) | J21: =IF(I21="","",IF(I21>1,K21)) | K21: =$K$16 -> 180 | L21: 6. | S21: =IF(R21=0,"",(S14-R21)) | T21: =IF(S21="","",IF(S21>1,U21)) | U21: =$U$16 -> 180 | V21: 6. | AC21: =IF(AB21=0,"",(AC14-AB21)) | AD21: =IF(AC21="","",IF(AC21>1,AE21)) | AE21: =$AE$16 -> 180 | AF21: 1 | AG21: =IF(I21="","",IF(I21>1,AF21)) | AH21: =IF(S21="","",IF(S21>1,AF21)) | AI21: =IF(AC21="","",IF(AC21>1,AF21))
B22: 7. | I22: =IF(H22=0,"",(I14-H22)) | J22: =IF(I22="","",IF(I22>1,K22)) | K22: =$K$16 -> 180 | L22: 7. | S22: =IF(R22=0,"",(S14-R22)) | T22: =IF(S22="","",IF(S22>1,U22)) | U22: =$U$16 -> 180 | V22: 7. | AC22: =IF(AB22=0,"",(AC14-AB22)) | AD22: =IF(AC22="","",IF(AC22>1,AE22)) | AE22: =$AE$16 -> 180 | AF22: 1 | AG22: =IF(I22="","",IF(I22>1,AF22)) | AH22: =IF(S22="","",IF(S22>1,AF22)) | AI22: =IF(AC22="","",IF(AC22>1,AF22))
AG23: =SUM(AG16:AG22) -> 0 | AH23: =SUM(AH16:AH22) -> 0 | AI23: =SUM(AI16:AI22) -> 0

Sheet Rodičovské týmy
B1: Rodičovské týmy | E1: =údaje!A1 -> 2026
B2: =údaje!A2 -> 15. ročník mažoretkové soutěže "O pohár města Hranice"
B4: Název skupiny
B5: Město
B6: Délka skladby
B9: Startovné celkem | F9: =SUM(F14:F38) -> 0
F12: =údaje!A1 -> 2026
B13: Jméno a příjmení | F13: Startovné
B14: 1. | F14: =IF(C14="","",IF(C14>1,G14)) | G14: =údaje!A3 -> 180 | H14: 1 | I14: =IF(F14="","",IF(F14>1,H14))
B15: 2. | F15: =IF(C15="","",IF(C15>1,G15)) | G15: =$G$14 -> 180 | H15: 1 | I15: =IF(F15="","",IF(F15>1,H15))
B16: 3. | F16: =IF(C16="","",IF(C16>1,G16)) | G16: =$G$14 -> 180 | H16: 1 | I16: =IF(F16="","",IF(F16>1,H16))
B17: 4. | F17: =IF(C17="","",IF(C17>1,G17)) | G17: =$G$14 -> 180 | H17: 1 | I17: =IF(F17="","",IF(F17>1,H17))
B18: 5. | F18: =IF(C18="","",IF(C18>1,G18)) | G18: =$G$14 -> 180 | H18: 1 | I18: =IF(F18="","",IF(F18>1,H18))
B19: 6. | F19: =IF(C19="","",IF(C19>1,G19)) | G19: =$G$14 -> 180 | H19: 1 | I19: =IF(F19="","",IF(F19>1,H19))
B20: 7. | F20: =IF(C20="","",IF(C20>1,G20)) | G20: =$G$14 -> 180 | H20: 1 | I20: =IF(F20="","",IF(F20>1,H20))
B21: 8. | F21: =IF(C21="","",IF(C21>1,G21)) | G21: =$G$14 -> 180 | H21: 1 | I21: =IF(F21="","",IF(F21>1,H21))
B22: 9. | F22: =IF(C22="","",IF(C22>1,G22)) | G22: =$G$14 -> 180 | H22: 1 | I22: =IF(F22="","",IF(F22>1,H22))
B23: 10. | F23: =IF(C23="","",IF(C23>1,G23)) | G23: =$G$14 -> 180 | H23: 1 | I23: =IF(F23="","",IF(F23>1,H23))
B24: 11. | F24: =IF(C24="","",IF(C24>1,G24)) | G24: =$G$14 -> 180 | H24: 1 | I24: =IF(F24="","",IF(F24>1,H24))
B25: 12. | F25: =IF(C25="","",IF(C25>1,G25)) | G25: =$G$14 -> 180 | H25: 1 | I25: =IF(F25="","",IF(F25>1,H25))
B26: 13. | F26: =IF(C26="","",IF(C26>1,G26)) | G26: =$G$14 -> 180 | H26: 1 | I26: =IF(F26="","",IF(F26>1,H26))
... B38: 25. | F38: =IF(C38="","",IF(C38>1,G38)) | G38: =$G$14 -> 180 | H38: 1 | I38: =IF(F38="","",IF(F38>1,H38))
I39: =SUM(I14:I38) -> 0

Sheet Sólo baton
B1: Sólo baton | F1: =údaje!A1 -> 2026
B2: =údaje!A2 -> 15. ročník mažoretkové soutěže "O pohár města Hranice"
C4: Město | H4: Startovné celkem | K4: =SUM(L8:L22) -> 0
H6: Datum narození | K6: =údaje!A1 -> 2026
B7: Jméno a příjmení | F7: Název skupiny | G7: Délka sóla | H7: den | I7: měsíc | J7: rok | K7: věk | L7: Startovné | M7: Kategorie
B8: 1. | K8: =IF(J8=0,"",(K6-J8)) | L8: =IF(K8="","",IF(K8>1,N8)) | M8: =IF(L8="","",IF(L8>1,O8)) | N8: =údaje!A3 -> 180 | O8: =IF($K$8<6,"děti",IF($K$8<8,"kadetky ml",IF($K$8<10,"kadetky st",IF($K$8<12,"juniorky ml",IF($K$8<15,"juniorky st","seniorky"))))) -> seniorky
B9: 2. | K9: =IF(J9=0,"",(K6-J9)) | L9: =IF(K9="","",IF(K9>1,N9)) | M9: =IF(L9="","",IF(L9>1,O9)) | N9: =$N$8 -> 180 | O9: =IF($K$9<6,"děti",IF($K$9<8,"kadetky ml",IF($K$9<10,"kadetky st",IF($K$9<12,"juniorky ml",IF($K$9<15,"juniorky st","seniorky"))))) -> seniorky
B10: 3. | K10: =IF(J10=0,"",(K6-J10)) | L10: =IF(K10="","",IF(K10>1,N10)) | M10: =IF(L10="","",IF(L10>1,O10)) | N10: =$N$8 -> 180 | O10: =IF($K$10<6,"děti",IF($K$10<8,"kadetky ml",IF($K$10<10,"kadetky st",IF($K$10<12,"juniorky ml",IF($K$10<15,"juniorky st","seniorky"))))) -> seniorky
B11: 4. | K11: =IF(J11=0,"",(K6-J11)) | L11: =IF(K11="","",IF(K11>1,N11)) | M11: =IF(L11="","",IF(L11>1,O11)) | N11: =$N$8 -> 180 | O11: =IF($K$11<6,"děti",IF($K$11<8,"kadetky ml",IF($K$11<10,"kadetky st",IF($K$11<12,"juniorky ml",IF($K$11<15,"juniorky st","seniorky"))))) -> seniorky
B12: 5. | K12: =IF(J12=0,"",(K6-J12)) | L12: =IF(K12="","",IF(K12>1,N12)) | M12: =IF(L12="","",IF(L12>1,O12)) | N12: =$N$8 -> 180 | O12: =IF($K$12<6,"děti",IF($K$12<8,"kadetky ml",IF($K$12<10,"kadetky st",IF($K$12<12,"juniorky ml",IF($K$12<15,"juniorky st","seniorky"))))) -> seniorky
B13: 6. | K13: =IF(J13=0,"",(K6-J13)) | L13: =IF(K13="","",IF(K13>1,N13)) | M13: =IF(L13="","",IF(L13>1,O13)) | N13: =$N$8 -> 180 | O13: =IF($K$13<6,"děti",IF($K$13<8,"kadetky ml",IF($K$13<10,"kadetky st",IF($K$13<12,"juniorky ml",IF($K$13<15,"juniorky st","seniorky"))))) -> seniorky
B14: 7. | K14: =IF(J14=0,"",(K6-J14)) | L14: =IF(K14="","",IF(K14>1,N14)) | M14: =IF(L14="","",IF(L14>1,O14)) | N14: =$N$8 -> 180 | O14: =IF($K$14<6,"děti",IF($K$14<8,"kadetky ml",IF($K$14<10,"kadetky st",IF($K$14<12,"juniorky ml",IF($K$14<15,"juniorky st","seniorky"))))) -> seniorky
B15: 8. | K15: =IF(J15=0,"",(K6-J15)) | L15: =IF(K15="","",IF(K15>1,N15)) | M15: =IF(L15="","",IF(L15>1,O15)) | N15: =$N$8 -> 180 | O15: =IF($K$15<6,"děti",IF($K$15<8,"kadetky ml",IF($K$15<10,"kadetky st",IF($K$15<12,"juniorky ml",IF($K$15<15,"juniorky st","seniorky"))))) -> seniorky
B16: 9. | K16: =IF(J16=0,"",(K6-J16)) | L16: =IF(K16="","",IF(K16>1,N16)) | M16: =IF(L16="","",IF(L16>1,O16)) | N16: =$N$8 -> 180 | O16: =IF($K$16<6,"děti",IF($K$16<8,"kadetky ml",IF($K$16<10,"kadetky st",IF($K16<12,"juniorky ml",IF($K$16<15,"juniorky st","seniorky"))))) -> seniorky
B17: 10. | K17: =IF(J17=0,"",(K6-J17)) | L17: =IF(K17="","",IF(K17>1,N17)) | M17: =IF(L17="","",IF(L17>1,O17)) | N17: =$N$8 -> 180 | O17: =IF($K$17<6,"děti",IF($K$17<8,"kadetky ml",IF($K$17<10,"kadetky st",IF($K$17<12,"juniorky ml",IF($K$17<15,"juniorky st","seniorky"))))) -> seniorky
B18: 11. | K18: =IF(J18=0,"",(K6-J18)) | L18: =IF(K18="","",IF(K18>1,N18)) | M18: =IF(L18="","",IF(L18>1,O18)) | N18: =$N$8 -> 180 | O18: =IF($K$18<6,"děti",IF($K$18<8,"kadetky ml",IF($K$18<10,"kadetky st",IF($K$18<12,"juniorky ml",IF($K$18<15,"juniorky st","seniorky"))))) -> seniorky
B19: 12. | K19: =IF(J19=0,"",(K6-J19)) | L19: =IF(K19="","",IF(K19>1,N19)) | M19: =IF(L19="","",IF(L19>1,O19)) | N19: =$N$8 -> 180 | O19: =IF($K$19<6,"děti",IF($K$19<8,"kadetky ml",IF($K$19<10,"kadetky st",IF($K$19<12,"juniorky ml",IF($K$19<15,"juniorky st","seniorky"))))) -> seniorky
B20: 13. | K20: =IF(J20=0,"",(K6-J20)) | L20: =IF(K20="","",IF(K20>1,N20)) | M20: =IF(L20="","",IF(L20>1,O20)) | N20: =$N$8 -> 180 | O20: =IF($K$20<6,"děti",IF($K$20<8,"kadetky ml",IF($K$20<10,"kadetky st",IF($K$20<12,"juniorky ml",IF($K$20<15,"juniorky st","seniorky"))))) -> seniorky
B21: 14. | K21: =IF(J21=0,"",(K6-J21)) | L21: =IF(K21="","",IF(K21>1,N21)) | M21: =IF(L21="","",IF(L21>1,O21)) | N21: =$N$8 -> 180 | O21: =IF($K$21<6,"děti",IF($K$21<8,"kadetky ml",IF($K$21<10,"kadetky st",IF($K$21<12,"juniorky ml",IF($K$21<15,"juniorky st","seniorky"))))) -> seniorky
B22: 15. | K22: =IF(J22=0,"",(K6-J22)) | L22: =IF(K22="","",IF(K22>1,N22)) | M22: =IF(L22="","",IF(L22>1,O22)) | N22: =$N$8 -> 180 | O22: =IF($K$22<6,"děti",IF($K$22<8,"kadetky ml",IF($K$22<10,"kadetky st",IF($K$22<12,"juniorky ml",IF($K$22<15,"juniorky st","seniorky"))))) -> seniorky

Sheet Duo, trio baton
B1: Duo, trio baton | F1: =údaje!A1 -> 2026
B2: =údaje!A2 -> 15. ročník mažoretkové soutěže "O pohár města Hranice"
C4: Město | H4: Startovné celkem | K4: =SUM(L8:L34) -> 0
H6: Datum narození | K6: =údaje!A1 -> 2026
B7: Jméno a příjmení | F7: Název skupiny | G7: Délka skl. | H7: den | I7: měsíc | J7: rok | K7: věk | L7: Startovné | M7: Kategorie
B8: 1. | K8: =IF(J8=0,"",(K6-J8)) | L8: =IF(K8="","",IF(K8>1,N8)) | M8: =IF(L8="","",IF(L8>1,O8)) | N8: =údaje!A3 -> 180 | O8: =IF($M$10<6,"děti",IF($M$10<8,"kadetky ml",IF($M$10<10,"kadetky st",IF($M$10<12,"juniorky ml",IF($M$10<15,"juniorky st","seniorky"))))) -> #DIV/0!
K9: =IF(J9=0,"",(K6-J9)) | L9: =IF(K9="","",IF(K9>1,N9)) | N9: =$N$8 -> 180
K10: =IF(J10=0,"",(K6-J10)) | L10: =IF(K10="","",IF(K10>1,N10)) | M10: =AVERAGE(K8:K10) -> #DIV/0! | N10: =$N$8 -> 180
B11: 2. | K11: =IF(J11=0,"",(K6-J11)) | L11: =IF(K11="","",IF(K11>1,N11)) | M11: =IF(L11="","",IF(L11>1,O11)) | N11: =$N$8 -> 180 | O11: =IF($M$13<6,"děti",IF($M$13<8,"kadetky ml",IF($M$13<10,"kadetky st",IF($M$13<12,"juniorky ml",IF($M$13<15,"juniorky st","seniorky"))))) -> #DIV/0!
K12: =IF(J12=0,"",(K6-J12)) | L12: =IF(K12="","",IF(K12>1,N12)) | N12: =$N$8 -> 180
K13: =IF(J13=0,"",(K6-J13)) | L13: =IF(K13="","",IF(K13>1,N13)) | M13: =AVERAGE(K11:K13) -> #DIV/0! | N13: =$N$8 -> 180
B14: 3. | K14: =IF(J14=0,"",(K6-J14)) | L14: =IF(K14="","",IF(K14>1,N14)) | M14: =IF(L14="","",IF(L14>1,O14)) | N14: =$N$8 -> 180 | O14: =IF($M$16<6,"děti",IF($M$16<8,"kadetky ml",IF($M$16<10,"kadetky st",IF($M$16<12,"juniorky ml",IF($M$16<15,"juniorky st","seniorky"))))) -> #DIV/0!
K15: =IF(J15=0,"",(K6-J15)) | L15: =IF(K15="","",IF(K15>1,N15)) | N15: =$N$8 -> 180
K16: =IF(J16=0,"",(K6-J16)) | L16: =IF(K16="","",IF(K16>1,N16)) | M16: =AVERAGE(K14:K16) -> #DIV/0! | N16: =$N$8 -> 180
B17: 4. | K17: =IF(J17=0,"",(K6-J17)) | L17: =IF(K17="","",IF(K17>1,N17)) | M17: =IF(L17="","",IF(L17>1,O17)) | N17: =$N$8 -> 180 | O17: =IF($M$19<6,"děti",IF($M$19<8,"kadetky ml",IF($M$19<10,"kadetky st",IF($M$19<12,"juniorky ml",IF($M$19<15,"juniorky st","seniorky"))))) -> #DIV/0!
K18: =IF(J18=0,"",(K6-J18)) | L18: =IF(K18="","",IF(K18>1,N18)) | N18: =$N$8 -> 180
K19: =IF(J19=0,"",(K6-J19)) | L19: =IF(K19="","",IF(K19>1,N19)) | M19: =AVERAGE(K17:K19) -> #DIV/0! | N19: =$N$8 -> 180
B20: 5. | K20: =IF(J20=0,"",(K6-J20)) | L20: =IF(K20="","",IF(K20>1,N20)) | M20: =IF(L20="","",IF(L20>1,O20)) | N20: =$N$8 -> 180 | O20: =IF($M$22<6,"děti",IF($M$22<8,"kadetky ml",IF($M$22<10,"kadetky st",IF($M$22<12,"juniorky ml",IF($M$22<15,"juniorky st","seniorky"))))) -> #DIV/0!
K21: =IF(J21=0,"",(K6-J21)) | L21: =IF(K21="","",IF(K21>1,N21)) | N21: =$N$8 -> 180
K22: =IF(J22=0,"",(K6-J22)) | L22: =IF(K22="","",IF(K22>1,N22)) | M22: =AVERAGE(K20:K22) -> #DIV/0! | N22: =$N$8 -> 180
B23: 6. | K23: =IF(J23=0,"",(K6-J23)) | L23: =IF(K23="","",IF(K23>1,N23)) | M23: =IF(L23="","",IF(L23>1,O23)) | N23: =$N$8 -> 180 | O23: =IF($M$25<6,"děti",IF($M$25<8,"kadetky ml",IF($M$25<10,"kadetky st",IF($M$25<12,"juniorky ml",IF($M$25<15,"juniorky st","seniorky"))))) -> #DIV/0!
K24: =IF(J24=0,"",(K6-J24)) | L24: =IF(K24="","",IF(K24>1,N24)) | N24: =$N$8 -> 180
K25: =IF(J25=0,"",(K6-J25)) | L25: =IF(K25="","",IF(K25>1,N25)) | M25: =AVERAGE(K23:K25) -> #DIV/0! | N25: =$N$8 -> 180
B26: 7. | K26: =IF(J26=0,"",(K6-J26)) | L26: =IF(K26="","",IF(K26>1,N26)) | M26: =IF(L26="","",IF(L26>1,O26)) | N26: =$N$8 -> 180 | O26: =IF($M$28<6,"děti",IF($M$28<8,"kadetky ml",IF($M$28<10,"kadetky st",IF($M$28<12,"juniorky ml",IF($M$28<15,"juniorky st","seniorky"))))) -> #DIV/0!
K27: =IF(J27=0,"",(K6-J27)) | L27: =IF(K27="","",IF(K27>1,N27)) | N27: =$N$8 -> 180
K28: =IF(J28=0,"",(K6-J28)) | L28: =IF(K28="","",IF(K28>1,N28)) | M28: =AVERAGE(K26:K28) -> #DIV/0! | N28: =$N$8 -> 180
B29: 8. | K29: =IF(J29=0,"",(K6-J29)) | L29: =IF(K29="","",IF(K29>1,N29)) | M29: =IF(L29="","",IF(L29>1,O29)) | N29: =$N$8 -> 180 | O29: =IF($M$31<6,"děti",IF($M$31<8,"kadetky ml",IF($M$31<10,"kadetky st",IF($M$31<12,"juniorky ml",IF($M$31<15,"juniorky st","seniorky"))))) -> #DIV/0!
K30: =IF(J30=0,"",(K6-J30)) | L30: =IF(K30="","",IF(K30>1,N30)) | N30: =$N$8 -> 180
K31: =IF(J31=0,"",(K6-J31)) | L31: =IF(K31="","",IF(K31>1,N31)) | M31: =AVERAGE(K29:K31) -> #DIV/0! | N31: =$N$8 -> 180
B32: 9. | K32: =IF(J32=0,"",(K6-J32)) | L32: =IF(K32="","",IF(K32>1,N32)) | M32: =IF(L32="","",IF(L32>1,O32)) | N32: =$N$8 -> 180 | O32: =IF($M$34<6,"děti",IF($M$34<8,"kadetky ml",IF($M$34<10,"kadetky st",IF($M$34<12,"juniorky ml",IF($M$34<15,"juniorky st","seniorky"))))) -> #DIV/0!
K33: =IF(J33=0,"",(K6-J33)) | L33: =IF(K33="","",IF(K33>1,N33)) | N33: =$N$8 -> 180
K34: =IF(J34=0,"",(K6-J34)) | L34: =IF(K34="","",IF(K34>1,N34)) | M34: =AVERAGE(K32:K34) -> #DIV/0! | N34: =$N$8 -> 180

Sheet Sólo 2 baton
B1: Sólo 2 baton | F1: =údaje!A1 -> 2026
B2: =údaje!A2 -> 15. ročník mažoretkové soutěže "O pohár města Hranice"
C4: Město | H4: Startovné celkem | K4: =SUM(L8:L22) -> 0
H6: Datum narození | K6: =údaje!A1 -> 2026
B7: Jméno a příjmení | F7: Název skupiny | G7: Délka sóla | H7: den | I7: měsíc | J7: rok | K7: věk | L7: Startovné | M7: Kategorie
B8: 1. | K8: =IF(J8=0,"",(K6-J8)) | L8: =IF(K8="","",IF(K8>1,N8)) | M8: =IF(L8="","",IF(L8>1,O8)) | N8: =údaje!A3 -> 180 | O8: =IF($K$8<6,"děti",IF($K$8<8,"kadetky",IF($K$8<10,"kadetky",IF($K$8<12,"juniorky",IF($K$8<15,"juniorky","seniorky"))))) -> seniorky
B9: 2. | K9: =IF(J9=0,"",(K6-J9)) | L9: =IF(K9="","",IF(K9>1,N9)) | M9: =IF(L9="","",IF(L9>1,O9)) | N9: =$N$8 -> 180 | O9: =IF($K$9<6,"děti",IF($K$9<8,"kadetky",IF($K$9<10,"kadetky",IF($K$9<12,"juniorky",IF($K$9<15,"juniorky","seniorky"))))) -> seniorky
B10: 3. | K10: =IF(J10=0,"",(K6-J10)) | L10: =IF(K10="","",IF(K10>1,N10)) | M10: =IF(L10="","",IF(L10>1,O10)) | N10: =$N$8 -> 180 | O10: =IF($K$10<6,"děti",IF($K$10<8,"kadetky",IF($K$10<10,"kadetky",IF($K$10<12,"juniorky",IF($K$10<15,"juniorky","seniorky"))))) -> seniorky
B11: 4. | K11: =IF(J11=0,"",(K6-J11)) | L11: =IF(K11="","",IF(K11>1,N11)) | M11: =IF(L11="","",IF(L11>1,O11)) | N11: =$N$8 -> 180 | O11: =IF($K$11<6,"děti",IF($K$11<8,"kadetky",IF($K$11<10,"kadetky",IF($K$11<12,"juniorky",IF($K$11<15,"juniorky","seniorky"))))) -> seniorky
B12: 5. | K12: =IF(J12=0,"",(K6-J12)) | L12: =IF(K12="","",IF(K12>1,N12)) | M12: =IF(L12="","",IF(L12>1,O12)) | N12: =$N$8 -> 180 | O12: =IF($K$12<6,"děti",IF($K$12<8,"kadetky",IF($K$12<10,"kadetky",IF($K$12<12,"juniorky",IF($K$12<15,"juniorky","seniorky"))))) -> seniorky
B13: 6. | K13: =IF(J13=0,"",(K6-J13)) | L13: =IF(K13="","",IF(K13>1,N13)) | M13: =IF(L13="","",IF(L13>1,O13)) | N13: =$N$8 -> 180 | O13: =IF($K$13<6,"děti",IF($K$13<8,"kadetky",IF($K$13<10,"kadetky",IF($K$13<12,"juniorky",IF($K$13<15,"juniorky","seniorky"))))) -> seniorky
B14: 7. | K14: =IF(J14=0,"",(K6-J14)) | L14: =IF(K14="","",IF(K14>1,N14)) | M14: =IF(L14="","",IF(L14>1,O14)) | N14: =$N$8 -> 180 | O14: =IF($K$14<6,"děti",IF($K$14<8,"kadetky",IF($K$14<10,"kadetky",IF($K$14<12,"juniorky",IF($K$14<15,"juniorky","seniorky"))))) -> seniorky
B15: 8. | K15: =IF(J15=0,"",(K6-J15)) | L15: =IF(K15="","",IF(K15>1,N15)) | M15: =IF(L15="","",IF(L15>1,O15)) | N15: =$N$8 -> 180 | O15: =IF($K$15<6,"děti",IF($K$15<8,"kadetky",IF($K$15<10,"kadetky",IF($K$15<12,"juniorky",IF($K$15<15,"juniorky","seniorky"))))) -> seniorky
B16: 9. | K16: =IF(J16=0,"",(K6-J16)) | L16: =IF(K16="","",IF(K16>1,N16)) | M16: =IF(L16="","",IF(L16>1,O16)) | N16: =$N$8 -> 180 | O16: =IF($K$16<6,"děti",IF($K$16<8,"kadetky",IF($K$16<10,"kadetky",IF($K16<12,"juniorky",IF($K$16<15,"juniorky","seniorky"))))) -> seniorky
B17: 10. | K17: =IF(J17=0,"",(K6-J17)) | L17: =IF(K17="","",IF(K17>1,N17)) | M17: =IF(L17="","",IF(L17>1,O17)) | N17: =$N$8 -> 180 | O17: =IF($K$17<6,"děti",IF($K$17<8,"kadetky",IF($K$17<10,"kadetky",IF($K$17<12,"juniorky",IF($K$17<15,"juniorky","seniorky"))))) -> seniorky
B18: 11. | K18: =IF(J18=0,"",(K6-J18)) | L18: =IF(K18="","",IF(K18>1,N18)) | M18: =IF(L18="","",IF(L18>1,O18)) | N18: =$N$8 -> 180 | O18: =IF($K$18<6,"děti",IF($K$18<8,"kadetky",IF($K$18<10,"kadetky",IF($K$18<12,"juniorky",IF($K$18<15,"juniorky","seniorky"))))) -> seniorky
B19: 12. | K19: =IF(J19=0,"",(K6-J19)) | L19: =IF(K19="","",IF(K19>1,N19)) | M19: =IF(L19="","",IF(L19>1,O19)) | N19: =$N$8 -> 180 | O19: =IF($K$19<6,"děti",IF($K$19<8,"kadetky",IF($K$19<10,"kadetky",IF($K$19<12,"juniorky",IF($K$19<15,"juniorky","seniorky"))))) -> seniorky
B20: 13. | K20: =IF(J20=0,"",(K6-J20)) | L20: =IF(K20="","",IF(K20>1,N20)) | M20: =IF(L20="","",IF(L20>1,O20)) | N20: =$N$8 -> 180 | O20: =IF($K$20<6,"děti",IF($K$20<8,"kadetky",IF($K$20<10,"kadetky",IF($K$20<12,"juniorky",IF($K$20<15,"juniorky","seniorky"))))) -> seniorky
B21: 14. | K21: =IF(J21=0,"",(K6-J21)) | L21: =IF(K21="","",IF(K21>1,N21)) | M21: =IF(L21="","",IF(L21>1,O21)) | N21: =$N$8 -> 180 | O21: =IF($K$21<6,"děti",IF($K$21<8,"kadetky",IF($K$21<10,"kadetky",IF($K$21<12,"juniorky",IF($K$21<15,"juniorky","seniorky"))))) -> seniorky
B22: 15. | K22: =IF(J22=0,"",(K6-J22)) | L22: =IF(K22="","",IF(K22>1,N22)) | M22: =IF(L22="","",IF(L22>1,O22)) | N22: =$N$8 -> 180 | O22: =IF($K$22<6,"děti",IF($K$22<8,"kadetky",IF($K$22<10,"kadetky",IF($K$22<12,"juniorky",IF($K$22<15,"juniorky","seniorky"))))) -> seniorky

Sheet Duo, trio 2 baton
B1: Duo, trio 2 baton | F1: =údaje!A1 -> 2026
B2: =údaje!A2 -> 15. ročník mažoretkové soutěže "O pohár města Hranice"
C4: Město | H4: Startovné celkem | K4: =SUM(L8:L34) -> 0
H6: Datum narození | K6: =údaje!A1 -> 2026
B7: Jméno a příjmení | F7: Název skupiny | G7: Délka skl. | H7: den | I7: měsíc | J7: rok | K7: věk | L7: Startovné | M7: Kategorie
B8: 1. | K8: =IF(J8=0,"",(K6-J8)) | L8: =IF(K8="","",IF(K8>1,N8)) | M8: =IF(L8="","",IF(L8>1,O8)) | N8: =údaje!A3 -> 180 | O8: =IF($M$10<6,"děti",IF($M$10<8,"kadetky",IF($M$10<10,"kadetky",IF($M$10<12,"juniorky",IF($M$10<15,"juniorky","seniorky"))))) -> #DIV/0!
K9: =IF(J9=0,"",(K6-J9)) | L9: =IF(K9="","",IF(K9>1,N9)) | N9: =$N$8 -> 180
K10: =IF(J10=0,"",(K6-J10)) | L10: =IF(K10="","",IF(K10>1,N10)) | M10: =AVERAGE(K8:K10) -> #DIV/0! | N10: =$N$8 -> 180
B11: 2. | K11: =IF(J11=0,"",(K6-J11)) | L11: =IF(K11="","",IF(K11>1,N11)) | M11: =IF(L11="","",IF(L11>1,O11)) | N11: =$N$8 -> 180 | O11: =IF($M$13<6,"děti",IF($M$13<8,"kadetky",IF($M$13<10,"kadetky",IF($M$13<12,"juniorky",IF($M$13<15,"juniorky","seniorky"))))) -> #DIV/0!
K12: =IF(J12=0,"",(K6-J12)) | L12: =IF(K12="","",IF(K12>1,N12)) | N12: =$N$8 -> 180
K13: =IF(J13=0,"",(K6-J13)) | L13: =IF(K13="","",IF(K13>1,N13)) | M13: =AVERAGE(K11:K13) -> #DIV/0! | N13: =$N$8 -> 180
B14: 3. | K14: =IF(J14=0,"",(K6-J14)) | L14: =IF(K14="","",IF(K14>1,N14)) | M14: =IF(L14="","",IF(L14>1,O14)) | N14: =$N$8 -> 180 | O14: =IF($M$16<6,"děti",IF($M$16<8,"kadetky",IF($M$16<10,"kadetky",IF($M$16<12,"juniorky",IF($M$16<15,"juniorky","seniorky"))))) -> #DIV/0!
K15: =IF(J15=0,"",(K6-J15)) | L15: =IF(K15="","",IF(K15>1,N15)) | N15: =$N$8 -> 180
K16: =IF(J16=0,"",(K6-J16)) | L16: =IF(K16="","",IF(K16>1,N16)) | M16: =AVERAGE(K14:K16) -> #DIV/0! | N16: =$N$8 -> 180
B17: 4. | K17: =IF(J17=0,"",(K6-J17)) | L17: =IF(K17="","",IF(K17>1,N17)) | M17: =IF(L17="","",IF(L17>1,O17)) | N17: =$N$8 -> 180 | O17: =IF($M$19<6,"děti",IF($M$19<8,"kadetky",IF($M$19<10,"kadetky",IF($M$19<12,"juniorky",IF($M$19<15,"juniorky","seniorky"))))) -> #DIV/0!
K18: =IF(J18=0,"",(K6-J18)) | L18: =IF(K18="","",IF(K18>1,N18)) | N18: =$N$8 -> 180
K19: =IF(J19=0,"",(K6-J19)) | L19: =IF(K19="","",IF(K19>1,N19)) | M19: =AVERAGE(K17:K19) -> #DIV/0! | N19: =$N$8 -> 180
B20: 5. | K20: =IF(J20=0,"",(K6-J20)) | L20: =IF(K20="","",IF(K20>1,N20)) | M20: =IF(L20="","",IF(L20>1,O20)) | N20: =$N$8 -> 180 | O20: =IF($M$22<6,"děti",IF($M$22<8,"kadetky",IF($M$22<10,"kadetky",IF($M$22<12,"juniorky",IF($M$22<15,"juniorky","seniorky"))))) -> #DIV/0!
K21: =IF(J21=0,"",(K6-J21)) | L21: =IF(K21="","",IF(K21>1,N21)) | N21: =$N$8 -> 180
K22: =IF(J22=0,"",(K6-J22)) | L22: =IF(K22="","",IF(K22>1,N22)) | M22: =AVERAGE(K20:K22) -> #DIV/0! | N22: =$N$8 -> 180
B23: 6. | K23: =IF(J23=0,"",(K6-J23)) | L23: =IF(K23="","",IF(K23>1,N23)) | M23: =IF(L23="","",IF(L23>1,O23)) | N23: =$N$8 -> 180 | O23: =IF($M$25<6,"děti",IF($M$25<8,"kadetky",IF($M$25<10,"kadetky",IF($M$25<12,"juniorky",IF($M$25<15,"juniorky","seniorky"))))) -> #DIV/0!
K24: =IF(J24=0,"",(K6-J24)) | L24: =IF(K24="","",IF(K24>1,N24)) | N24: =$N$8 -> 180
K25: =IF(J25=0,"",(K6-J25)) | L25: =IF(K25="","",IF(K25>1,N25)) | M25: =AVERAGE(K23:K25) -> #DIV/0! | N25: =$N$8 -> 180
B26: 7. | K26: =IF(J26=0,"",(K6-J26)) | L26: =IF(K26="","",IF(K26>1,N26)) | M26: =IF(L26="","",IF(L26>1,O26)) | N26: =$N$8 -> 180 | O26: =IF($M$28<6,"děti",IF($M$28<8,"kadetky",IF($M$28<10,"kadetky",IF($M$28<12,"juniorky",IF($M$28<15,"juniorky","seniorky"))))) -> #DIV/0!
K27: =IF(J27=0,"",(K6-J27)) | L27: =IF(K27="","",IF(K27>1,N27)) | N27: =$N$8 -> 180
K28: =IF(J28=0,"",(K6-J28)) | L28: =IF(K28="","",IF(K28>1,N28)) | M28: =AVERAGE(K26:K28) -> #DIV/0! | N28: =$N$8 -> 180
B29: 8. | K29: =IF(J29=0,"",(K6-J29)) | L29: =IF(K29="","",IF(K29>1,N29)) | M29: =IF(L29="","",IF(L29>1,O29)) | N29: =$N$8 -> 180 | O29: =IF($M$31<6,"děti",IF($M$31<8,"kadetky",IF($M$31<10,"kadetky",IF($M$31<12,"juniorky",IF($M$31<15,"juniorky","seniorky"))))) -> #DIV/0!
K30: =IF(J30=0,"",(K6-J30)) | L30: =IF(K30="","",IF(K30>1,N30)) | N30: =$N$8 -> 180
K31: =IF(J31=0,"",(K6-J31)) | L31: =IF(K31="","",IF(K31>1,N31)) | M31: =AVERAGE(K29:K31) -> #DIV/0! | N31: =$N$8 -> 180
B32: 9. | K32: =IF(J32=0,"",(K6-J32)) | L32: =IF(K32="","",IF(K32>1,N32)) | M32: =IF(L32="","",IF(L32>1,O32)) | N32: =$N$8 -> 180 | O32: =IF($M$34<6,"děti",IF($M$34<8,"kadetky",IF($M$34<10,"kadetky",IF($M$34<12,"juniorky",IF($M$34<15,"juniorky","seniorky"))))) -> #DIV/0!
K33: =IF(J33=0,"",(K6-J33)) | L33: =IF(K33="","",IF(K33>1,N33)) | N33: =$N$8 -> 180
K34: =IF(J34=0,"",(K6-J34)) | L34: =IF(K34="","",IF(K34>1,N34)) | M34: =AVERAGE(K32:K34) -> #DIV/0! | N34: =$N$8 -> 180

Sheet Sólo freestyle_taneční rytmické
B1: Sólo freestyle / taneční rytmické sólo | F1: =údaje!A1 -> 2026
B2: =údaje!A2 -> 15. ročník mažoretkové soutěže "O pohár města Hranice"
C4: Město | H4: Startovné celkem | K4: =SUM(L8:L22) -> 0
H6: Datum narození | K6: =údaje!A1 -> 2026
B7: Jméno a příjmení | F7: Název skupiny | G7: Délka sóla | H7: den | I7: měsíc | J7: rok | K7: věk | L7: Startovné | M7: Kategorie
B8: 1. | K8: =IF(J8=0,"",(K6-J8)) | L8: =IF(K8="","",IF(K8>1,N8)) | M8: =IF(L8="","",IF(L8>1,O8)) | N8: =údaje!A3 -> 180 | O8: =IF($K$8<6,"děti",IF($K$8<8,"kadetky",IF($K$8<10,"kadetky",IF($K$8<12,"juniorky",IF($K$8<15,"juniorky","seniorky"))))) -> seniorky
B9: 2. | K9: =IF(J9=0,"",(K6-J9)) | L9: =IF(K9="","",IF(K9>1,N9)) | M9: =IF(L9="","",IF(L9>1,O9)) | N9: =$N$8 -> 180 | O9: =IF($K$9<6,"děti",IF($K$9<8,"kadetky",IF($K$9<10,"kadetky",IF($K$9<12,"juniorky",IF($K$9<15,"juniorky","seniorky"))))) -> seniorky
B10: 3. | K10: =IF(J10=0,"",(K6-J10)) | L10: =IF(K10="","",IF(K10>1,N10)) | M10: =IF(L10="","",IF(L10>1,O10)) | N10: =$N$8 -> 180 | O10: =IF($K$10<6,"děti",IF($K$10<8,"kadetky ml",IF($K$10<10,"kadetky st",IF($K$10<12,"juniorky ml",IF($K$10<15,"juniorky st","seniorky"))))) -> seniorky
B11: 4. | K11: =IF(J11=0,"",(K6-J11)) | L11: =IF(K11="","",IF(K11>1,N11)) | M11: =IF(L11="","",IF(L11>1,O11)) | N11: =$N$8 -> 180 | O11: =IF($K$11<6,"děti",IF($K$11<8,"kadetky",IF($K$11<10,"kadetky",IF($K$11<12,"juniorky",IF($K$11<15,"juniorky","seniorky"))))) -> seniorky
B12: 5. | K12: =IF(J12=0,"",(K6-J12)) | L12: =IF(K12="","",IF(K12>1,N12)) | M12: =IF(L12="","",IF(L12>1,O12)) | N12: =$N$8 -> 180 | O12: =IF($K$12<6,"děti",IF($K$12<8,"kadetky",IF($K$12<10,"kadetky",IF($K$12<12,"juniorky",IF($K$12<15,"juniorky","seniorky"))))) -> seniorky
B13: 6. | K13: =IF(J13=0,"",(K6-J13)) | L13: =IF(K13="","",IF(K13>1,N13)) | M13: =IF(L13="","",IF(L13>1,O13)) | N13: =$N$8 -> 180 | O13: =IF($K$13<6,"děti",IF($K$13<8,"kadetky",IF($K$13<10,"kadetky",IF($K$13<12,"juniorky",IF($K$13<15,"juniorky","seniorky"))))) -> seniorky
B14: 7. | K14: =IF(J14=0,"",(K6-J14)) | L14: =IF(K14="","",IF(K14>1,N14)) | M14: =IF(L14="","",IF(L14>1,O14)) | N14: =$N$8 -> 180 | O14: =IF($K$14<6,"děti",IF($K$14<8,"kadetky",IF($K$14<10,"kadetky",IF($K$14<12,"juniorky",IF($K$14<15,"juniorky","seniorky"))))) -> seniorky
B15: 8. | K15: =IF(J15=0,"",(K6-J15)) | L15: =IF(K15="","",IF(K15>1,N15)) | M15: =IF(L15="","",IF(L15>1,O15)) | N15: =$N$8 -> 180 | O15: =IF($K$15<6,"děti",IF($K$15<8,"kadetky",IF($K$15<10,"kadetky",IF($K$15<12,"juniorky",IF($K$15<15,"juniorky","seniorky"))))) -> seniorky
B16: 9. | K16: =IF(J16=0,"",(K6-J16)) | L16: =IF(K16="","",IF(K16>1,N16)) | M16: =IF(L16="","",IF(L16>1,O16)) | N16: =$N$8 -> 180 | O16: =IF($K$16<6,"děti",IF($K$16<8,"kadetky",IF($K$16<10,"kadetky",IF($K16<12,"juniorky",IF($K$16<15,"juniorky","seniorky"))))) -> seniorky
B17: 10. | K17: =IF(J17=0,"",(K6-J17)) | L17: =IF(K17="","",IF(K17>1,N17)) | M17: =IF(L17="","",IF(L17>1,O17)) | N17: =$N$8 -> 180 | O17: =IF($K$17<6,"děti",IF($K$17<8,"kadetky",IF($K$17<10,"kadetky",IF($K$17<12,"juniorky",IF($K$17<15,"juniorky","seniorky"))))) -> seniorky
B18: 11. | K18: =IF(J18=0,"",(K6-J18)) | L18: =IF(K18="","",IF(K18>1,N18)) | M18: =IF(L18="","",IF(L18>1,O18)) | N18: =$N$8 -> 180 | O18: =IF($K$18<6,"děti",IF($K$18<8,"kadetky",IF($K$18<10,"kadetky",IF($K$18<12,"juniorky",IF($K$18<15,"juniorky","seniorky"))))) -> seniorky
B19: 12. | K19: =IF(J19=0,"",(K6-J19)) | L19: =IF(K19="","",IF(K19>1,N19)) | M19: =IF(L19="","",IF(L19>1,O19)) | N19: =$N$8 -> 180 | O19: =IF($K$19<6,"děti",IF($K$19<8,"kadetky",IF($K$19<10,"kadetky",IF($K$19<12,"juniorky",IF($K$19<15,"juniorky","seniorky"))))) -> seniorky
B20: 13. | K20: =IF(J20=0,"",(K6-J20)) | L20: =IF(K20="","",IF(K20>1,N20)) | M20: =IF(L20="","",IF(L20>1,O20)) | N20: =$N$8 -> 180 | O20: =IF($K$20<6,"děti",IF($K$20<8,"kadetky",IF($K$20<10,"kadetky",IF($K$20<12,"juniorky",IF($K$20<15,"juniorky","seniorky"))))) -> seniorky
B21: 14. | K21: =IF(J21=0,"",(K6-J21)) | L21: =IF(K21="","",IF(K21>1,N21)) | M21: =IF(L21="","",IF(L21>1,O21)) | N21: =$N$8 -> 180 | O21: =IF($K$21<6,"děti",IF($K$21<8,"kadetky",IF($K$21<10,"kadetky",IF($K$21<12,"juniorky",IF($K$21<15,"juniorky","seniorky"))))) -> seniorky
B22: 15. | K22: =IF(J22=0,"",(K6-J22)) | L22: =IF(K22="","",IF(K22>1,N22)) | M22: =IF(L22="","",IF(L22>1,O22)) | N22: =$N$8 -> 180 | O22: =IF($K$22<6,"děti",IF($K$22<8,"kadetky",IF($K$22<10,"kadetky",IF($K$22<12,"juniorky",IF($K$22<15,"juniorky","seniorky"))))) -> seniorky

Sheet Sólo mace
B1: Sólo mace | F1: =údaje!A1 -> 2026
B2: =údaje!A2 -> 15. ročník mažoretkové soutěže "O pohár města Hranice"
C4: Město | H4: Startovné celkem | K4: =SUM(L8:L22) -> 0
H6: Datum narození | K6: =údaje!A1 -> 2026
B7: Jméno a příjmení | F7: Název skupiny | G7: Délka sóla | H7: den | I7: měsíc | J7: rok | K7: věk | L7: Startovné | M7: Kategorie
B8: 1. | K8: =IF(J8=0,"",(K6-J8)) | L8: =IF(K8="","",IF(K8>1,N8)) | M8: =IF(L8="","",IF(L8>1,O8)) | N8: =údaje!A3 -> 180 | O8: =IF($K$8<6,"děti",IF($K$8<8,"kadetky",IF($K$8<10,"kadetky",IF($K$8<12,"juniorky",IF($K$8<15,"juniorky","seniorky"))))) -> seniorky
B9: 2. | K9: =IF(J9=0,"",(K6-J9)) | L9: =IF(K9="","",IF(K9>1,N9)) | M9: =IF(L9="","",IF(L9>1,O9)) | N9: =$N$8 -> 180 | O9: =IF($K$9<6,"děti",IF($K$9<8,"kadetky",IF($K$9<10,"kadetky",IF($K$9<12,"juniorky",IF($K$9<15,"juniorky","seniorky"))))) -> seniorky
B10: 3. | K10: =IF(J10=0,"",(K6-J10)) | L10: =IF(K10="","",IF(K10>1,N10)) | M10: =IF(L10="","",IF(L10>1,O10)) | N10: =$N$8 -> 180 | O10: =IF($K$10<6,"děti",IF($K$10<8,"kadetky",IF($K$10<10,"kadetky",IF($K$10<12,"juniorky",IF($K$10<15,"juniorky","seniorky"))))) -> seniorky
B11: 4. | K11: =IF(J11=0,"",(K6-J11)) | L11: =IF(K11="","",IF(K11>1,N11)) | M11: =IF(L11="","",IF(L11>1,O11)) | N11: =$N$8 -> 180 | O11: =IF($K$11<6,"děti",IF($K$11<8,"kadetky",IF($K$11<10,"kadetky",IF($K$11<12,"juniorky",IF($K$11<15,"juniorky","seniorky"))))) -> seniorky
B12: 5. | K12: =IF(J12=0,"",(K6-J12)) | L12: =IF(K12="","",IF(K12>1,N12)) | M12: =IF(L12="","",IF(L12>1,O12)) | N12: =$N$8 -> 180 | O12: =IF($K$12<6,"děti",IF($K$12<8,"kadetky",IF($K$12<10,"kadetky",IF($K$12<12,"juniorky",IF($K$12<15,"juniorky","seniorky"))))) -> seniorky
B13: 6. | K13: =IF(J13=0,"",(K6-J13)) | L13: =IF(K13="","",IF(K13>1,N13)) | M13: =IF(L13="","",IF(L13>1,O13)) | N13: =$N$8 -> 180 | O13: =IF($K$13<6,"děti",IF($K$13<8,"kadetky",IF($K$13<10,"kadetky",IF($K$13<12,"juniorky",IF($K$13<15,"juniorky","seniorky"))))) -> seniorky
B14: 7. | K14: =IF(J14=0,"",(K6-J14)) | L14: =IF(K14="","",IF(K14>1,N14)) | M14: =IF(L14="","",IF(L14>1,O14)) | N14: =$N$8 -> 180 | O14: =IF($K$14<6,"děti",IF($K$14<8,"kadetky",IF($K$14<10,"kadetky",IF($K$14<12,"juniorky",IF($K$14<15,"juniorky","seniorky"))))) -> seniorky
B15: 8. | K15: =IF(J15=0,"",(K6-J15)) | L15: =IF(K15="","",IF(K15>1,N15)) | M15: =IF(L15="","",IF(L15>1,O15)) | N15: =$N$8 -> 180 | O15: =IF($K$15<6,"děti",IF($K$15<8,"kadetky",IF($K$15<10,"kadetky",IF($K$15<12,"juniorky",IF($K$15<15,"juniorky","seniorky"))))) -> seniorky
B16: 9. | K16: =IF(J16=0,"",(K6-J16)) | L16: =IF(K16="","",IF(K16>1,N16)) | M16: =IF(L16="","",IF(L16>1,O16)) | N16: =$N$8 -> 180 | O16: =IF($K$16<6,"děti",IF($K$16<8,"kadetky",IF($K$16<10,"kadetky",IF($K16<12,"juniorky",IF($K$16<15,"juniorky","seniorky"))))) -> seniorky
B17: 10. | K17: =IF(J17=0,"",(K6-J17)) | L17: =IF(K17="","",IF(K17>1,N17)) | M17: =IF(L17="","",IF(L17>1,O17)) | N17: =$N$8 -> 180 | O17: =IF($K$17<6,"děti",IF($K$17<8,"kadetky",IF($K$17<10,"kadetky",IF($K$17<12,"juniorky",IF($K$17<15,"juniorky","seniorky"))))) -> seniorky
B18: 11. | K18: =IF(J18=0,"",(K6-J18)) | L18: =IF(K18="","",IF(K18>1,N18)) | M18: =IF(L18="","",IF(L18>1,O18)) | N18: =$N$8 -> 180 | O18: =IF($K$18<6,"děti",IF($K$18<8,"kadetky",IF($K$18<10,"kadetky",IF($K$18<12,"juniorky",IF($K$18<15,"juniorky","seniorky"))))) -> seniorky
B19: 12. | K19: =IF(J19=0,"",(K6-J19)) | L19: =IF(K19="","",IF(K19>1,N19)) | M19: =IF(L19="","",IF(L19>1,O19)) | N19: =$N$8 -> 180 | O19: =IF($K$19<6,"děti",IF($K$19<8,"kadetky",IF($K$19<10,"kadetky",IF($K$19<12,"juniorky",IF($K$19<15,"juniorky","seniorky"))))) -> seniorky
B20: 13. | K20: =IF(J20=0,"",(K6-J20)) | L20: =IF(K20="","",IF(K20>1,N20)) | M20: =IF(L20="","",IF(L20>1,O20)) | N20: =$N$8 -> 180 | O20: =IF($K$20<6,"děti",IF($K$20<8,"kadetky",IF($K$20<10,"kadetky",IF($K$20<12,"juniorky",IF($K$20<15,"juniorky","seniorky"))))) -> seniorky
B21: 14. | K21: =IF(J21=0,"",(K6-J21)) | L21: =IF(K21="","",IF(K21>1,N21)) | M21: =IF(L21="","",IF(L21>1,O21)) | N21: =$N$8 -> 180 | O21: =IF($K$21<6,"děti",IF($K$21<8,"kadetky",IF($K$21<10,"kadetky",IF($K$21<12,"juniorky",IF($K$21<15,"juniorky","seniorky"))))) -> seniorky
B22: 15. | K22: =IF(J22=0,"",(K6-J22)) | L22: =IF(K22="","",IF(K22>1,N22)) | M22: =IF(L22="","",IF(L22>1,O22)) | N22: =$N$8 -> 180 | O22: =IF($K$22<6,"děti",IF($K$22<8,"kadetky",IF($K$22<10,"kadetky",IF($K$22<12,"juniorky",IF($K$22<15,"juniorky","seniorky"))))) -> seniorky

Sheet Duo, trio mace
B1: Duo, trio mace | F1: =údaje!A1 -> 2026
B2: =údaje!A2 -> 15. ročník mažoretkové soutěže "O pohár města Hranice"
C4: Město | H4: Startovné celkem | K4: =SUM(L8:L34) -> 0
H6: Datum narození | K6: =údaje!A1 -> 2026
B7: Jméno a příjmení | F7: Název skupiny | G7: Délka skl. | H7: den | I7: měsíc | J7: rok | K7: věk | L7: Startovné | M7: Kategorie
B8: 1. | K8: =IF(J8=0,"",(K6-J8)) | L8: =IF(K8="","",IF(K8>1,N8)) | M8: =IF(L8="","",IF(L8>1,O8)) | N8: =údaje!A3 -> 180 | O8: =IF($M$10<6,"děti",IF($M$10<8,"kadetky",IF($M$10<10,"kadetky",IF($M$10<12,"juniorky",IF($M$10<15,"juniorky","seniorky"))))) -> #DIV/0!
K9: =IF(J9=0,"",(K6-J9)) | L9: =IF(K9="","",IF(K9>1,N9)) | N9: =$N$8 -> 180
K10: =IF(J10=0,"",(K6-J10)) | L10: =IF(K10="","",IF(K10>1,N10)) | M10: =AVERAGE(K8:K10) -> #DIV/0! | N10: =$N$8 -> 180
B11: 2. | K11: =IF(J11=0,"",(K6-J11)) | L11: =IF(K11="","",IF(K11>1,N11)) | M11: =IF(L11="","",IF(L11>1,O11)) | N11: =$N$8 -> 180 | O11: =IF($M$13<6,"děti",IF($M$13<8,"kadetky",IF($M$13<10,"kadetky",IF($M$13<12,"juniorky",IF($M$13<15,"juniorky","seniorky"))))) -> #DIV/0!
K12: =IF(J12=0,"",(K6-J12)) | L12: =IF(K12="","",IF(K12>1,N12)) | N12: =$N$8 -> 180
K13: =IF(J13=0,"",(K6-J13)) | L13: =IF(K13="","",IF(K13>1,N13)) | M13: =AVERAGE(K11:K13) -> #DIV/0! | N13: =$N$8 -> 180
B14: 3. | K14: =IF(J14=0,"",(K6-J14)) | L14: =IF(K14="","",IF(K14>1,N14)) | M14: =IF(L14="","",IF(L14>1,O14)) | N14: =$N$8 -> 180 | O14: =IF($M$16<6,"děti",IF($M$16<8,"kadetky",IF($M$16<10,"kadetky",IF($M$16<12,"juniorky",IF($M$16<15,"juniorky","seniorky"))))) -> #DIV/0!
K15: =IF(J15=0,"",(K6-J15)) | L15: =IF(K15="","",IF(K15>1,N15)) | N15: =$N$8 -> 180
K16: =IF(J16=0,"",(K6-J16)) | L16: =IF(K16="","",IF(K16>1,N16)) | M16: =AVERAGE(K14:K16) -> #DIV/0! | N16: =$N$8 -> 180
B17: 4. | K17: =IF(J17=0,"",(K6-J17)) | L17: =IF(K17="","",IF(K17>1,N17)) | M17: =IF(L17="","",IF(L17>1,O17)) | N17: =$N$8 -> 180 | O17: =IF($M$19<6,"děti",IF($M$19<8,"kadetky",IF($M$19<10,"kadetky",IF($M$19<12,"juniorky",IF($M$19<15,"juniorky","seniorky"))))) -> #DIV/0!
K18: =IF(J18=0,"",(K6-J18)) | L18: =IF(K18="","",IF(K18>1,N18)) | N18: =$N$8 -> 180
K19: =IF(J19=0,"",(K6-J19)) | L19: =IF(K19="","",IF(K19>1,N19)) | M19: =AVERAGE(K17:K19) -> #DIV/0! | N19: =$N$8 -> 180
B20: 5. | K20: =IF(J20=0,"",(K6-J20)) | L20: =IF(K20="","",IF(K20>1,N20)) | M20: =IF(L20="","",IF(L20>1,O20)) | N20: =$N$8 -> 180 | O20: =IF($M$22<6,"děti",IF($M$22<8,"kadetky",IF($M$22<10,"kadetky",IF($M$22<12,"juniorky",IF($M$22<15,"juniorky","seniorky"))))) -> #DIV/0!
K21: =IF(J21=0,"",(K6-J21)) | L21: =IF(K21="","",IF(K21>1,N21)) | N21: =$N$8 -> 180
K22: =IF(J22=0,"",(K6-J22)) | L22: =IF(K22="","",IF(K22>1,N22)) | M22: =AVERAGE(K20:K22) -> #DIV/0! | N22: =$N$8 -> 180
B23: 6. | K23: =IF(J23=0,"",(K6-J23)) | L23: =IF(K23="","",IF(K23>1,N23)) | M23: =IF(L23="","",IF(L23>1,O23)) | N23: =$N$8 -> 180 | O23: =IF($M$25<6,"děti",IF($M$25<8,"kadetky",IF($M$25<10,"kadetky",IF($M$25<12,"juniorky",IF($M$25<15,"juniorky","seniorky"))))) -> #DIV/0!
K24: =IF(J24=0,"",(K6-J24)) | L24: =IF(K24="","",IF(K24>1,N24)) | N24: =$N$8 -> 180
K25: =IF(J25=0,"",(K6-J25)) | L25: =IF(K25="","",IF(K25>1,N25)) | M25: =AVERAGE(K23:K25) -> #DIV/0! | N25: =$N$8 -> 180
B26: 7. | K26: =IF(J26=0,"",(K6-J26)) | L26: =IF(K26="","",IF(K26>1,N26)) | M26: =IF(L26="","",IF(L26>1,O26)) | N26: =$N$8 -> 180 | O26: =IF($M$28<6,"děti",IF($M$28<8,"kadetky",IF($M$28<10,"kadetky",IF($M$28<12,"juniorky",IF($M$28<15,"juniorky","seniorky"))))) -> #DIV/0!
K27: =IF(J27=0,"",(K6-J27)) | L27: =IF(K27="","",IF(K27>1,N27)) | N27: =$N$8 -> 180
K28: =IF(J28=0,"",(K6-J28)) | L28: =IF(K28="","",IF(K28>1,N28)) | M28: =AVERAGE(K26:K28) -> #DIV/0! | N28: =$N$8 -> 180
B29: 8. | K29: =IF(J29=0,"",(K6-J29)) | L29: =IF(K29="","",IF(K29>1,N29)) | M29: =IF(L29="","",IF(L29>1,O29)) | N29: =$N$8 -> 180 | O29: =IF($M$31<6,"děti",IF($M$31<8,"kadetky",IF($M$31<10,"kadetky",IF($M$31<12,"juniorky",IF($M$31<15,"juniorky","seniorky"))))) -> #DIV/0!
K30: =IF(J30=0,"",(K6-J30)) | L30: =IF(K30="","",IF(K30>1,N30)) | N30: =$N$8 -> 180
K31: =IF(J31=0,"",(K6-J31)) | L31: =IF(K31="","",IF(K31>1,N31)) | M31: =AVERAGE(K29:K31) -> #DIV/0! | N31: =$N$8 -> 180
B32: 9. | K32: =IF(J32=0,"",(K6-J32)) | L32: =IF(K32="","",IF(K32>1,N32)) | M32: =IF(L32="","",IF(L32>1,O32)) | N32: =$N$8 -> 180 | O32: =IF($M$34<6,"děti",IF($M$34<8,"kadetky",IF($M$34<10,"kadetky",IF($M$34<12,"juniorky",IF($M$34<15,"juniorky","seniorky"))))) -> #DIV/0!
K33: =IF(J33=0,"",(K6-J33)) | L33: =IF(K33="","",IF(K33>1,N33)) | N33: =$N$8 -> 180
K34: =IF(J34=0,"",(K6-J34)) | L34: =IF(K34="","",IF(K34>1,N34)) | M34: =AVERAGE(K32:K34) -> #DIV/0! | N34: =$N$8 -> 180

Sheet Sólo flag
B1: Sólo flag | F1: =údaje!A1 -> 2026
B2: =údaje!A2 -> 15. ročník mažoretkové soutěže "O pohár města Hranice"
C4: Město | H4: Startovné celkem | K4: =SUM(L8:L22) -> 0
H6: Datum narození | K6: =údaje!A1 -> 2026
B7: Jméno a příjmení | F7: Název skupiny | G7: Délka sóla | H7: den | I7: měsíc | J7: rok | K7: věk | L7: Startovné | M7: Kategorie
B8: 1. | K8: =IF(J8=0,"",(K6-J8)) | L8: =IF(K8="","",IF(K8>1,N8)) | M8: =IF(L8="","",IF(L8>1,O8)) | N8: =údaje!A3 -> 180 | O8: =IF($K$8<6,"děti",IF($K$8<8,"kadetky",IF($K$8<10,"kadetky",IF($K$8<12,"juniorky",IF($K$8<15,"juniorky","seniorky"))))) -> seniorky
B9: 2. | K9: =IF(J9=0,"",(K6-J9)) | L9: =IF(K9="","",IF(K9>1,N9)) | M9: =IF(L9="","",IF(L9>1,O9)) | N9: =$N$8 -> 180 | O9: =IF($K$9<6,"děti",IF($K$9<8,"kadetky",IF($K$9<10,"kadetky",IF($K$9<12,"juniorky",IF($K$9<15,"juniorky","seniorky"))))) -> seniorky
B10: 3. | K10: =IF(J10=0,"",(K6-J10)) | L10: =IF(K10="","",IF(K10>1,N10)) | M10: =IF(L10="","",IF(L10>1,O10)) | N10: =$N$8 -> 180 | O10: =IF($K$10<6,"děti",IF($K$10<8,"kadetky",IF($K$10<10,"kadetky",IF($K$10<12,"juniorky",IF($K$10<15,"juniorky","seniorky"))))) -> seniorky
B11: 4. | K11: =IF(J11=0,"",(K6-J11)) | L11: =IF(K11="","",IF(K11>1,N11)) | M11: =IF(L11="","",IF(L11>1,O11)) | N11: =$N$8 -> 180 | O11: =IF($K$11<6,"děti",IF($K$11<8,"kadetky",IF($K$11<10,"kadetky",IF($K$11<12,"juniorky",IF($K$11<15,"juniorky","seniorky"))))) -> seniorky
B12: 5. | K12: =IF(J12=0,"",(K6-J12)) | L12: =IF(K12="","",IF(K12>1,N12)) | M12: =IF(L12="","",IF(L12>1,O12)) | N12: =$N$8 -> 180 | O12: =IF($K$12<6,"děti",IF($K$12<8,"kadetky",IF($K$12<10,"kadetky",IF($K$12<12,"juniorky",IF($K$12<15,"juniorky","seniorky"))))) -> seniorky
B13: 6. | K13: =IF(J13=0,"",(K6-J13)) | L13: =IF(K13="","",IF(K13>1,N13)) | M13: =IF(L13="","",IF(L13>1,O13)) | N13: =$N$8 -> 180 | O13: =IF($K$13<6,"děti",IF($K$13<8,"kadetky",IF($K$13<10,"kadetky",IF($K$13<12,"juniorky",IF($K$13<15,"juniorky","seniorky"))))) -> seniorky
B14: 7. | K14: =IF(J14=0,"",(K6-J14)) | L14: =IF(K14="","",IF(K14>1,N14)) | M14: =IF(L14="","",IF(L14>1,O14)) | N14: =$N$8 -> 180 | O14: =IF($K$14<6,"děti",IF($K$14<8,"kadetky",IF($K$14<10,"kadetky",IF($K$14<12,"juniorky",IF($K$14<15,"juniorky","seniorky"))))) -> seniorky
B15: 8. | K15: =IF(J15=0,"",(K6-J15)) | L15: =IF(K15="","",IF(K15>1,N15)) | M15: =IF(L15="","",IF(L15>1,O15)) | N15: =$N$8 -> 180 | O15: =IF($K$15<6,"děti",IF($K$15<8,"kadetky",IF($K$15<10,"kadetky",IF($K$15<12,"juniorky",IF($K$15<15,"juniorky","seniorky"))))) -> seniorky
B16: 9. | K16: =IF(J16=0,"",(K6-J16)) | L16: =IF(K16="","",IF(K16>1,N16)) | M16: =IF(L16="","",IF(L16>1,O16)) | N16: =$N$8 -> 180 | O16: =IF($K$16<6,"děti",IF($K$16<8,"kadetky",IF($K$16<10,"kadetky",IF($K16<12,"juniorky",IF($K$16<15,"juniorky","seniorky"))))) -> seniorky
B17: 10. | K17: =IF(J17=0,"",(K6-J17)) | L17: =IF(K17="","",IF(K17>1,N17)) | M17: =IF(L17="","",IF(L17>1,O17)) | N17: =$N$8 -> 180 | O17: =IF($K$17<6,"děti",IF($K$17<8,"kadetky",IF($K$17<10,"kadetky",IF($K$17<12,"juniorky",IF($K$17<15,"juniorky","seniorky"))))) -> seniorky
B18: 11. | K18: =IF(J18=0,"",(K6-J18)) | L18: =IF(K18="","",IF(K18>1,N18)) | M18: =IF(L18="","",IF(L18>1,O18)) | N18: =$N$8 -> 180 | O18: =IF($K$18<6,"děti",IF($K$18<8,"kadetky",IF($K$18<10,"kadetky",IF($K$18<12,"juniorky",IF($K$18<15,"juniorky","seniorky"))))) -> seniorky
B19: 12. | K19: =IF(J19=0,"",(K6-J19)) | L19: =IF(K19="","",IF(K19>1,N19)) | M19: =IF(L19="","",IF(L19>1,O19)) | N19: =$N$8 -> 180 | O19: =IF($K$19<6,"děti",IF($K$19<8,"kadetky",IF($K$19<10,"kadetky",IF($K$19<12,"juniorky",IF($K$19<15,"juniorky","seniorky"))))) -> seniorky
B20: 13. | K20: =IF(J20=0,"",(K6-J20)) | L20: =IF(K20="","",IF(K20>1,N20)) | M20: =IF(L20="","",IF(L20>1,O20)) | N20: =$N$8 -> 180 | O20: =IF($K$20<6,"děti",IF($K$20<8,"kadetky",IF($K$20<10,"kadetky",IF($K$20<12,"juniorky",IF($K$20<15,"juniorky","seniorky"))))) -> seniorky
B21: 14. | K21: =IF(J21=0,"",(K6-J21)) | L21: =IF(K21="","",IF(K21>1,N21)) | M21: =IF(L21="","",IF(L21>1,O21)) | N21: =$N$8 -> 180 | O21: =IF($K$21<6,"děti",IF($K$21<8,"kadetky",IF($K$21<10,"kadetky",IF($K$21<12,"juniorky",IF($K$21<15,"juniorky","seniorky"))))) -> seniorky
B22: 15. | K22: =IF(J22=0,"",(K6-J22)) | L22: =IF(K22="","",IF(K22>1,N22)) | M22: =IF(L22="","",IF(L22>1,O22)) | N22: =$N$8 -> 180 | O22: =IF($K$22<6,"děti",IF($K$22<8,"kadetky",IF($K$22<10,"kadetky",IF($K$22<12,"juniorky",IF($K$22<15,"juniorky","seniorky"))))) -> seniorky

Sheet Duo, trio flag
B1: Duo, trio flag | F1: =údaje!A1 -> 2026
B2: =údaje!A2 -> 15. ročník mažoretkové soutěže "O pohár města Hranice"
C4: Město | H4: Startovné celkem | K4: =SUM(L8:L34) -> 0
H6: Datum narození | K6: =údaje!A1 -> 2026
B7: Jméno a příjmení | F7: Název skupiny | G7: Délka skl. | H7: den | I7: měsíc | J7: rok | K7: věk | L7: Startovné | M7: Kategorie
B8: 1. | K8: =IF(J8=0,"",(K6-J8)) | L8: =IF(K8="","",IF(K8>1,N8)) | M8: =IF(L8="","",IF(L8>1,O8)) | N8: =údaje!A3 -> 180 | O8: =IF($M$10<6,"děti",IF($M$10<8,"kadetky",IF($M$10<10,"kadetky",IF($M$10<12,"juniorky",IF($M$10<15,"juniorky","seniorky"))))) -> #DIV/0!
K9: =IF(J9=0,"",(K6-J9)) | L9: =IF(K9="","",IF(K9>1,N9)) | N9: =$N$8 -> 180
K10: =IF(J10=0,"",(K6-J10)) | L10: =IF(K10="","",IF(K10>1,N10)) | M10: =AVERAGE(K8:K10) -> #DIV/0! | N10: =$N$8 -> 180
B11: 2. | K11: =IF(J11=0,"",(K6-J11)) | L11: =IF(K11="","",IF(K11>1,N11)) | M11: =IF(L11="","",IF(L11>1,O11)) | N11: =$N$8 -> 180 | O11: =IF($M$13<6,"děti",IF($M$13<8,"kadetky",IF($M$13<10,"kadetky",IF($M$13<12,"juniorky",IF($M$13<15,"juniorky","seniorky"))))) -> #DIV/0!
K12: =IF(J12=0,"",(K6-J12)) | L12: =IF(K12="","",IF(K12>1,N12)) | N12: =$N$8 -> 180
K13: =IF(J13=0,"",(K6-J13)) | L13: =IF(K13="","",IF(K13>1,N13)) | M13: =AVERAGE(K11:K13) -> #DIV/0! | N13: =$N$8 -> 180
B14: 3. | K14: =IF(J14=0,"",(K6-J14)) | L14: =IF(K14="","",IF(K14>1,N14)) | M14: =IF(L14="","",IF(L14>1,O14)) | N14: =$N$8 -> 180 | O14: =IF($M$16<6,"děti",IF($M$16<8,"kadetky",IF($M$16<10,"kadetky",IF($M$16<12,"juniorky",IF($M$16<15,"juniorky","seniorky"))))) -> #DIV/0!
K15: =IF(J15=0,"",(K6-J15)) | L15: =IF(K15="","",IF(K15>1,N15)) | N15: =$N$8 -> 180
K16: =IF(J16=0,"",(K6-J16)) | L16: =IF(K16="","",IF(K16>1,N16)) | M16: =AVERAGE(K14:K16) -> #DIV/0! | N16: =$N$8 -> 180
B17: 4. | K17: =IF(J17=0,"",(K6-J17)) | L17: =IF(K17="","",IF(K17>1,N17)) | M17: =IF(L17="","",IF(L17>1,O17)) | N17: =$N$8 -> 180 | O17: =IF($M$19<6,"děti",IF($M$19<8,"kadetky",IF($M$19<10,"kadetky",IF($M$19<12,"juniorky",IF($M$19<15,"juniorky","seniorky"))))) -> #DIV/0!
K18: =IF(J18=0,"",(K6-J18)) | L18: =IF(K18="","",IF(K18>1,N18)) | N18: =$N$8 -> 180
K19: =IF(J19=0,"",(K6-J19)) | L19: =IF(K19="","",IF(K19>1,N19)) | M19: =AVERAGE(K17:K19) -> #DIV/0! | N19: =$N$8 -> 180
B20: 5. | K20: =IF(J20=0,"",(K6-J20)) | L20: =IF(K20="","",IF(K20>1,N20)) | M20: =IF(L20="","",IF(L20>1,O20)) | N20: =$N$8 -> 180 | O20: =IF($M$22<6,"děti",IF($M$22<8,"kadetky",IF($M$22<10,"kadetky",IF($M$22<12,"juniorky",IF($M$22<15,"juniorky","seniorky"))))) -> #DIV/0!
K21: =IF(J21=0,"",(K6-J21)) | L21: =IF(K21="","",IF(K21>1,N21)) | N21: =$N$8 -> 180
K22: =IF(J22=0,"",(K6-J22)) | L22: =IF(K22="","",IF(K22>1,N22)) | M22: =AVERAGE(K20:K22) -> #DIV/0! | N22: =$N$8 -> 180
B23: 6. | K23: =IF(J23=0,"",(K6-J23)) | L23: =IF(K23="","",IF(K23>1,N23)) | M23: =IF(L23="","",IF(L23>1,O23)) | N23: =$N$8 -> 180 | O23: =IF($M$25<6,"děti",IF($M$25<8,"kadetky",IF($M$25<10,"kadetky",IF($M$25<12,"juniorky",IF($M$25<15,"juniorky","seniorky"))))) -> #DIV/0!
K24: =IF(J24=0,"",(K6-J24)) | L24: =IF(K24="","",IF(K24>1,N24)) | N24: =$N$8 -> 180
K25: =IF(J25=0,"",(K6-J25)) | L25: =IF(K25="","",IF(K25>1,N25)) | M25: =AVERAGE(K23:K25) -> #DIV/0! | N25: =$N$8 -> 180
B26: 7. | K26: =IF(J26=0,"",(K6-J26)) | L26: =IF(K26="","",IF(K26>1,N26)) | M26: =IF(L26="","",IF(L26>1,O26)) | N26: =$N$8 -> 180 | O26: =IF($M$28<6,"děti",IF($M$28<8,"kadetky",IF($M$28<10,"kadetky",IF($M$28<12,"juniorky",IF($M$28<15,"juniorky","seniorky"))))) -> #DIV/0!
K27: =IF(J27=0,"",(K6-J27)) | L27: =IF(K27="","",IF(K27>1,N27)) | N27: =$N$8 -> 180
K28: =IF(J28=0,"",(K6-J28)) | L28: =IF(K28="","",IF(K28>1,N28)) | M28: =AVERAGE(K26:K28) -> #DIV/0! | N28: =$N$8 -> 180
B29: 8. | K29: =IF(J29=0,"",(K6-J29)) | L29: =IF(K29="","",IF(K29>1,N29)) | M29: =IF(L29="","",IF(L29>1,O29)) | N29: =$N$8 -> 180 | O29: =IF($M$31<6,"děti",IF($M$31<8,"kadetky",IF($M$31<10,"kadetky",IF($M$31<12,"juniorky",IF($M$31<15,"juniorky","seniorky"))))) -> #DIV/0!
K30: =IF(J30=0,"",(K6-J30)) | L30: =IF(K30="","",IF(K30>1,N30)) | N30: =$N$8 -> 180
K31: =IF(J31=0,"",(K6-J31)) | L31: =IF(K31="","",IF(K31>1,N31)) | M31: =AVERAGE(K29:K31) -> #DIV/0! | N31: =$N$8 -> 180
B32: 9. | K32: =IF(J32=0,"",(K6-J32)) | L32: =IF(K32="","",IF(K32>1,N32)) | M32: =IF(L32="","",IF(L32>1,O32)) | N32: =$N$8 -> 180 | O32: =IF($M$34<6,"děti",IF($M$34<8,"kadetky",IF($M$34<10,"kadetky",IF($M$34<12,"juniorky",IF($M$34<15,"juniorky","seniorky"))))) -> #DIV/0!
K33: =IF(J33=0,"",(K6-J33)) | L33: =IF(K33="","",IF(K33>1,N33)) | N33: =$N$8 -> 180
K34: =IF(J34=0,"",(K6-J34)) | L34: =IF(K34="","",IF(K34>1,N34)) | M34: =AVERAGE(K32:K34) -> #DIV/0! | N34: =$N$8 -> 180

Sheet Duo, trio mix
B1: Duo, trio mix | F1: =údaje!A1 -> 2026
B2: =údaje!A2 -> 15. ročník mažoretkové soutěže "O pohár města Hranice"
C4: Město | H4: Startovné celkem | K4: =SUM(L8:L34) -> 0
H6: Datum narození | K6: =údaje!A1 -> 2026
B7: Jméno a příjmení | F7: Název skupiny | G7: Délka skl. | H7: den | I7: měsíc | J7: rok | K7: věk | L7: Startovné | M7: Kategorie
B8: 1. | K8: =IF(J8=0,"",(K6-J8)) | L8: =IF(K8="","",IF(K8>1,N8)) | M8: =IF(L8="","",IF(L8>1,O8)) | N8: =údaje!A3 -> 180 | O8: =IF($M$10<6,"děti",IF($M$10<8,"kadetky",IF($M$10<10,"kadetky",IF($M$10<12,"juniorky",IF($M$10<15,"juniorky","seniorky"))))) -> #DIV/0!
K9: =IF(J9=0,"",(K6-J9)) | L9: =IF(K9="","",IF(K9>1,N9)) | N9: =$N$8 -> 180
K10: =IF(J10=0,"",(K6-J10)) | L10: =IF(K10="","",IF(K10>1,N10)) | M10: =AVERAGE(K8:K10) -> #DIV/0! | N10: =$N$8 -> 180
B11: 2. | K11: =IF(J11=0,"",(K6-J11)) | L11: =IF(K11="","",IF(K11>1,N11)) | M11: =IF(L11="","",IF(L11>1,O11)) | N11: =$N$8 -> 180 | O11: =IF($M$13<6,"děti",IF($M$13<8,"kadetky",IF($M$13<10,"kadetky",IF($M$13<12,"juniorky",IF($M$13<15,"juniorky","seniorky"))))) -> #DIV/0!
K12: =IF(J12=0,"",(K6-J12)) | L12: =IF(K12="","",IF(K12>1,N12)) | N12: =$N$8 -> 180
K13: =IF(J13=0,"",(K6-J13)) | L13: =IF(K13="","",IF(K13>1,N13)) | M13: =AVERAGE(K11:K13) -> #DIV/0! | N13: =$N$8 -> 180
B14: 3. | K14: =IF(J14=0,"",(K6-J14)) | L14: =IF(K14="","",IF(K14>1,N14)) | M14: =IF(L14="","",IF(L14>1,O14)) | N14: =$N$8 -> 180 | O14: =IF($M$16<6,"děti",IF($M$16<8,"kadetky",IF($M$16<10,"kadetky",IF($M$16<12,"juniorky",IF($M$16<15,"juniorky","seniorky"))))) -> #DIV/0!
K15: =IF(J15=0,"",(K6-J15)) | L15: =IF(K15="","",IF(K15>1,N15)) | N15: =$N$8 -> 180
K16: =IF(J16=0,"",(K6-J16)) | L16: =IF(K16="","",IF(K16>1,N16)) | M16: =AVERAGE(K14:K16) -> #DIV/0! | N16: =$N$8 -> 180
B17: 4. | K17: =IF(J17=0,"",(K6-J17)) | L17: =IF(K17="","",IF(K17>1,N17)) | M17: =IF(L17="","",IF(L17>1,O17)) | N17: =$N$8 -> 180 | O17: =IF($M$19<6,"děti",IF($M$19<8,"kadetky",IF($M$19<10,"kadetky",IF($M$19<12,"juniorky",IF($M$19<15,"juniorky","seniorky"))))) -> #DIV/0!
K18: =IF(J18=0,"",(K6-J18)) | L18: =IF(K18="","",IF(K18>1,N18)) | N18: =$N$8 -> 180
K19: =IF(J19=0,"",(K6-J19)) | L19: =IF(K19="","",IF(K19>1,N19)) | M19: =AVERAGE(K17:K19) -> #DIV/0! | N19: =$N$8 -> 180
B20: 5. | K20: =IF(J20=0,"",(K6-J20)) | L20: =IF(K20="","",IF(K20>1,N20)) | M20: =IF(L20="","",IF(L20>1,O20)) | N20: =$N$8 -> 180 | O20: =IF($M$22<6,"děti",IF($M$22<8,"kadetky",IF($M$22<10,"kadetky",IF($M$22<12,"juniorky",IF($M$22<15,"juniorky","seniorky"))))) -> #DIV/0!
K21: =IF(J21=0,"",(K6-J21)) | L21: =IF(K21="","",IF(K21>1,N21)) | N21: =$N$8 -> 180
K22: =IF(J22=0,"",(K6-J22)) | L22: =IF(K22="","",IF(K22>1,N22)) | M22: =AVERAGE(K20:K22) -> #DIV/0! | N22: =$N$8 -> 180
B23: 6. | K23: =IF(J23=0,"",(K6-J23)) | L23: =IF(K23="","",IF(K23>1,N23)) | M23: =IF(L23="","",IF(L23>1,O23)) | N23: =$N$8 -> 180 | O23: =IF($M$25<6,"děti",IF($M$25<8,"kadetky",IF($M$25<10,"kadetky",IF($M$25<12,"juniorky",IF($M$25<15,"juniorky","seniorky"))))) -> #DIV/0!
K24: =IF(J24=0,"",(K6-J24)) | L24: =IF(K24="","",IF(K24>1,N24)) | N24: =$N$8 -> 180
K25: =IF(J25=0,"",(K6-J25)) | L25: =IF(K25="","",IF(K25>1,N25)) | M25: =AVERAGE(K23:K25) -> #DIV/0! | N25: =$N$8 -> 180
B26: 7. | K26: =IF(J26=0,"",(K6-J26)) | L26: =IF(K26="","",IF(K26>1,N26)) | M26: =IF(L26="","",IF(L26>1,O26)) | N26: =$N$8 -> 180 | O26: =IF($M$28<6,"děti",IF($M$28<8,"kadetky",IF($M$28<10,"kadetky",IF($M$28<12,"juniorky",IF($M$28<15,"juniorky","seniorky"))))) -> #DIV/0!
K27: =IF(J27=0,"",(K6-J27)) | L27: =IF(K27="","",IF(K27>1,N27)) | N27: =$N$8 -> 180
K28: =IF(J28=0,"",(K6-J28)) | L28: =IF(K28="","",IF(K28>1,N28)) | M28: =AVERAGE(K26:K28) -> #DIV/0! | N28: =$N$8 -> 180
B29: 8. | K29: =IF(J29=0,"",(K6-J29)) | L29: =IF(K29="","",IF(K29>1,N29)) | M29: =IF(L29="","",IF(L29>1,O29)) | N29: =$N$8 -> 180 | O29: =IF($M$31<6,"děti",IF($M$31<8,"kadetky",IF($M$31<10,"kadetky",IF($M$31<12,"juniorky",IF($M$31<15,"juniorky","seniorky"))))) -> #DIV/0!
K30: =IF(J30=0,"",(K6-J30)) | L30: =IF(K30="","",IF(K30>1,N30)) | N30: =$N$8 -> 180
K31: =IF(J31=0,"",(K6-J31)) | L31: =IF(K31="","",IF(K31>1,N31)) | M31: =AVERAGE(K29:K31) -> #DIV/0! | N31: =$N$8 -> 180
B32: 9. | K32: =IF(J32=0,"",(K6-J32)) | L32: =IF(K32="","",IF(K32>1,N32)) | M32: =IF(L32="","",IF(L32>1,O32)) | N32: =$N$8 -> 180 | O32: =IF($M$34<6,"děti",IF($M$34<8,"kadetky",IF($M$34<10,"kadetky",IF($M$34<12,"juniorky",IF($M$34<15,"juniorky","seniorky"))))) -> #DIV/0!
K33: =IF(J33=0,"",(K6-J33)) | L33: =IF(K33="","",IF(K33>1,N33)) | N33: =$N$8 -> 180
K34: =IF(J34=0,"",(K6-J34)) | L34: =IF(K34="","",IF(K34>1,N34)) | M34: =AVERAGE(K32:K34) -> #DIV/0! | N34: =$N$8 -> 180

Sheet Sólo pompony
B1: Sólo pompony | E1: =údaje!A1 -> 2026
B2: =údaje!A2 -> 15. ročník mažoretkové soutěže "O pohár města Hranice"
C4: Město | H4: Startovné celkem | K4: =SUM(L8:L22) -> 0
H6: Datum narození | K6: =údaje!A1 -> 2026
B7: Jméno a příjmení | F7: Název skupiny | G7: Délka sóla | H7: den | I7: měsíc | J7: rok | K7: věk | L7: Startovné | M7: Kategorie
B8: 1. | K8: =IF(J8=0,"",(K6-J8)) | L8: =IF(K8="","",IF(K8>1,N8)) | M8: =IF(L8="","",IF(L8>1,O8)) | N8: =údaje!A3 -> 180 | O8: =IF($K$8<6,"děti",IF($K$8<8,"kadetky ml",IF($K$8<10,"kadetky st",IF($K$8<12,"juniorky ml",IF($K$8<15,"juniorky st","seniorky"))))) -> seniorky
B9: 2. | K9: =IF(J9=0,"",(K6-J9)) | L9: =IF(K9="","",IF(K9>1,N9)) | M9: =IF(L9="","",IF(L9>1,O9)) | N9: =$N$8 -> 180 | O9: =IF($K$9<6,"děti",IF($K$9<8,"kadetky ml",IF($K$9<10,"kadetky st",IF($K$9<12,"juniorky ml",IF($K$9<15,"juniorky st","seniorky"))))) -> seniorky
B10: 3. | K10: =IF(J10=0,"",(K6-J10)) | L10: =IF(K10="","",IF(K10>1,N10)) | M10: =IF(L10="","",IF(L10>1,O10)) | N10: =$N$8 -> 180 | O10: =IF($K$10<6,"děti",IF($K$10<8,"kadetky ml",IF($K$10<10,"kadetky st",IF($K$10<12,"juniorky ml",IF($K$10<15,"juniorky st","seniorky"))))) -> seniorky
B11: 4. | K11: =IF(J11=0,"",(K6-J11)) | L11: =IF(K11="","",IF(K11>1,N11)) | M11: =IF(L11="","",IF(L11>1,O11)) | N11: =$N$8 -> 180 | O11: =IF($K$11<6,"děti",IF($K$11<8,"kadetky ml",IF($K$11<10,"kadetky st",IF($K$11<12,"juniorky ml",IF($K$11<15,"juniorky st","seniorky"))))) -> seniorky
B12: 5. | K12: =IF(J12=0,"",(K6-J12)) | L12: =IF(K12="","",IF(K12>1,N12)) | M12: =IF(L12="","",IF(L12>1,O12)) | N12: =$N$8 -> 180 | O12: =IF($K$12<6,"děti",IF($K$12<8,"kadetky ml",IF($K$12<10,"kadetky st",IF($K$12<12,"juniorky ml",IF($K$12<15,"juniorky st","seniorky"))))) -> seniorky
B13: 6. | K13: =IF(J13=0,"",(K6-J13)) | L13: =IF(K13="","",IF(K13>1,N13)) | M13: =IF(L13="","",IF(L13>1,O13)) | N13: =$N$8 -> 180 | O13: =IF($K$13<6,"děti",IF($K$13<8,"kadetky ml",IF($K$13<10,"kadetky st",IF($K$13<12,"juniorky ml",IF($K$13<15,"juniorky st","seniorky"))))) -> seniorky
B14: 7. | K14: =IF(J14=0,"",(K6-J14)) | L14: =IF(K14="","",IF(K14>1,N14)) | M14: =IF(L14="","",IF(L14>1,O14)) | N14: =$N$8 -> 180 | O14: =IF($K$14<6,"děti",IF($K$14<8,"kadetky ml",IF($K$14<10,"kadetky st",IF($K$14<12,"juniorky ml",IF($K$14<15,"juniorky st","seniorky"))))) -> seniorky
B15: 8. | K15: =IF(J15=0,"",(K6-J15)) | L15: =IF(K15="","",IF(K15>1,N15)) | M15: =IF(L15="","",IF(L15>1,O15)) | N15: =$N$8 -> 180 | O15: =IF($K$15<6,"děti",IF($K$15<8,"kadetky ml",IF($K$15<10,"kadetky st",IF($K$15<12,"juniorky ml",IF($K$15<15,"juniorky st","seniorky"))))) -> seniorky
B16: 9. | K16: =IF(J16=0,"",(K6-J16)) | L16: =IF(K16="","",IF(K16>1,N16)) | M16: =IF(L16="","",IF(L16>1,O16)) | N16: =$N$8 -> 180 | O16: =IF($K$16<6,"děti",IF($K$16<8,"kadetky ml",IF($K$16<10,"kadetky st",IF($K16<12,"juniorky ml",IF($K$16<15,"juniorky st","seniorky"))))) -> seniorky
B17: 10. | K17: =IF(J17=0,"",(K6-J17)) | L17: =IF(K17="","",IF(K17>1,N17)) | M17: =IF(L17="","",IF(L17>1,O17)) | N17: =$N$8 -> 180 | O17: =IF($K$17<6,"děti",IF($K$17<8,"kadetky ml",IF($K$17<10,"kadetky st",IF($K$17<12,"juniorky ml",IF($K$17<15,"juniorky st","seniorky"))))) -> seniorky
B18: 11. | K18: =IF(J18=0,"",(K6-J18)) | L18: =IF(K18="","",IF(K18>1,N18)) | M18: =IF(L18="","",IF(L18>1,O18)) | N18: =$N$8 -> 180 | O18: =IF($K$18<6,"děti",IF($K$18<8,"kadetky ml",IF($K$18<10,"kadetky st",IF($K$18<12,"juniorky ml",IF($K$18<15,"juniorky st","seniorky"))))) -> seniorky
B19: 12. | K19: =IF(J19=0,"",(K6-J19)) | L19: =IF(K19="","",IF(K19>1,N19)) | M19: =IF(L19="","",IF(L19>1,O19)) | N19: =$N$8 -> 180 | O19: =IF($K$19<6,"děti",IF($K$19<8,"kadetky ml",IF($K$19<10,"kadetky st",IF($K$19<12,"juniorky ml",IF($K$19<15,"juniorky st","seniorky"))))) -> seniorky
B20: 13. | K20: =IF(J20=0,"",(K6-J20)) | L20: =IF(K20="","",IF(K20>1,N20)) | M20: =IF(L20="","",IF(L20>1,O20)) | N20: =$N$8 -> 180 | O20: =IF($K$20<6,"děti",IF($K$20<8,"kadetky ml",IF($K$20<10,"kadetky st",IF($K$20<12,"juniorky ml",IF($K$20<15,"juniorky st","seniorky"))))) -> seniorky
B21: 14. | K21: =IF(J21=0,"",(K6-J21)) | L21: =IF(K21="","",IF(K21>1,N21)) | M21: =IF(L21="","",IF(L21>1,O21)) | N21: =$N$8 -> 180 | O21: =IF($K$21<6,"děti",IF($K$21<8,"kadetky ml",IF($K$21<10,"kadetky st",IF($K$21<12,"juniorky ml",IF($K$21<15,"juniorky st","seniorky"))))) -> seniorky
B22: 15. | K22: =IF(J22=0,"",(K6-J22)) | L22: =IF(K22="","",IF(K22>1,N22)) | M22: =IF(L22="","",IF(L22>1,O22)) | N22: =$N$8 -> 180 | O22: =IF($K$22<6,"děti",IF($K$22<8,"kadetky ml",IF($K$22<10,"kadetky st",IF($K$22<12,"juniorky ml",IF($K$22<15,"juniorky st","seniorky"))))) -> seniorky

Sheet Duo, trio pompony
B1: Duo, trio pompony | F1: =údaje!A1 -> 2026
B2: =údaje!A2 -> 15. ročník mažoretkové soutěže "O pohár města Hranice"
C4: Město | H4: Startovné celkem | K4: =SUM(L8:L34) -> 0
H6: Datum narození | K6: =údaje!A1 -> 2026
B7: Jméno a příjmení | F7: Název skupiny | G7: Délka skl. | H7: den | I7: měsíc | J7: rok | K7: věk | L7: Startovné | M7: Kategorie
B8: 1. | K8: =IF(J8=0,"",(K6-J8)) | L8: =IF(K8="","",IF(K8>1,N8)) | M8: =IF(L8="","",IF(L8>1,O8)) | N8: =údaje!A3 -> 180 | O8: =IF($M$10<6,"děti",IF($M$10<8,"kadetky ml",IF($M$10<10,"kadetky st",IF($M$10<12,"juniorky ml",IF($M$10<15,"juniorky st","seniorky"))))) -> #DIV/0!
K9: =IF(J9=0,"",(K6-J9)) | L9: =IF(K9="","",IF(K9>1,N9)) | N9: =$N$8 -> 180
K10: =IF(J10=0,"",(K6-J10)) | L10: =IF(K10="","",IF(K10>1,N10)) | M10: =AVERAGE(K8:K10) -> #DIV/0! | N10: =$N$8 -> 180
B11: 2. | K11: =IF(J11=0,"",(K6-J11)) | L11: =IF(K11="","",IF(K11>1,N11)) | M11: =IF(L11="","",IF(L11>1,O11)) | N11: =$N$8 -> 180 | O11: =IF($M$13<6,"děti",IF($M$13<8,"kadetky ml",IF($M$13<10,"kadetky st",IF($M$13<12,"juniorky ml",IF($M$13<15,"juniorky st","seniorky"))))) -> #DIV/0!
K12: =IF(J12=0,"",(K6-J12)) | L12: =IF(K12="","",IF(K12>1,N12)) | N12: =$N$8 -> 180
K13: =IF(J13=0,"",(K6-J13)) | L13: =IF(K13="","",IF(K13>1,N13)) | M13: =AVERAGE(K11:K13) -> #DIV/0! | N13: =$N$8 -> 180
B14: 3. | K14: =IF(J14=0,"",(K6-J14)) | L14: =IF(K14="","",IF(K14>1,N14)) | M14: =IF(L14="","",IF(L14>1,O14)) | N14: =$N$8 -> 180 | O14: =IF($M$16<6,"děti",IF($M$16<8,"kadetky ml",IF($M$16<10,"kadetky st",IF($M$16<12,"juniorky ml",IF($M$16<15,"juniorky st","seniorky"))))) -> #DIV/0!
K15: =IF(J15=0,"",(K6-J15)) | L15: =IF(K15="","",IF(K15>1,N15)) | N15: =$N$8 -> 180
K16: =IF(J16=0,"",(K6-J16)) | L16: =IF(K16="","",IF(K16>1,N16)) | M16: =AVERAGE(K14:K16) -> #DIV/0! | N16: =$N$8 -> 180
B17: 4. | K17: =IF(J17=0,"",(K6-J17)) | L17: =IF(K17="","",IF(K17>1,N17)) | M17: =IF(L17="","",IF(L17>1,O17)) | N17: =$N$8 -> 180 | O17: =IF($M$19<6,"děti",IF($M$19<8,"kadetky ml",IF($M$19<10,"kadetky st",IF($M$19<12,"juniorky ml",IF($M$19<15,"juniorky st","seniorky"))))) -> #DIV/0!
K18: =IF(J18=0,"",(K6-J18)) | L18: =IF(K18="","",IF(K18>1,N18)) | N18: =$N$8 -> 180
K19: =IF(J19=0,"",(K6-J19)) | L19: =IF(K19="","",IF(K19>1,N19)) | M19: =AVERAGE(K17:K19) -> #DIV/0! | N19: =$N$8 -> 180
B20: 5. | K20: =IF(J20=0,"",(K6-J20)) | L20: =IF(K20="","",IF(K20>1,N20)) | M20: =IF(L20="","",IF(L20>1,O20)) | N20: =$N$8 -> 180 | O20: =IF($M$22<6,"děti",IF($M$22<8,"kadetky ml",IF($M$22<10,"kadetky st",IF($M$22<12,"juniorky ml",IF($M$22<15,"juniorky st","seniorky"))))) -> #DIV/0!
K21: =IF(J21=0,"",(K6-J21)) | L21: =IF(K21="","",IF(K21>1,N21)) | N21: =$N$8 -> 180
K22: =IF(J22=0,"",(K6-J22)) | L22: =IF(K22="","",IF(K22>1,N22)) | M22: =AVERAGE(K20:K22) -> #DIV/0! | N22: =$N$8 -> 180
B23: 6. | K23: =IF(J23=0,"",(K6-J23)) | L23: =IF(K23="","",IF(K23>1,N23)) | M23: =IF(L23="","",IF(L23>1,O23)) | N23: =$N$8 -> 180 | O23: =IF($M$25<6,"děti",IF($M$25<8,"kadetky ml",IF($M$25<10,"kadetky st",IF($M$25<12,"juniorky ml",IF($M$25<15,"juniorky st","seniorky"))))) -> #DIV/0!
K24: =IF(J24=0,"",(K6-J24)) | L24: =IF(K24="","",IF(K24>1,N24)) | N24: =$N$8 -> 180
K25: =IF(J25=0,"",(K6-J25)) | L25: =IF(K25="","",IF(K25>1,N25)) | M25: =AVERAGE(K23:K25) -> #DIV/0! | N25: =$N$8 -> 180
B26: 7. | K26: =IF(J26=0,"",(K6-J26)) | L26: =IF(K26="","",IF(K26>1,N26)) | M26: =IF(L26="","",IF(L26>1,O26)) | N26: =$N$8 -> 180 | O26: =IF($M$28<6,"děti",IF($M$28<8,"kadetky ml",IF($M$28<10,"kadetky st",IF($M$28<12,"juniorky ml",IF($M$28<15,"juniorky st","seniorky"))))) -> #DIV/0!
K27: =IF(J27=0,"",(K6-J27)) | L27: =IF(K27="","",IF(K27>1,N27)) | N27: =$N$8 -> 180
K28: =IF(J28=0,"",(K6-J28)) | L28: =IF(K28="","",IF(K28>1,N28)) | M28: =AVERAGE(K26:K28) -> #DIV/0! | N28: =$N$8 -> 180
B29: 8. | K29: =IF(J29=0,"",(K6-J29)) | L29: =IF(K29="","",IF(K29>1,N29)) | M29: =IF(L29="","",IF(L29>1,O29)) | N29: =$N$8 -> 180 | O29: =IF($M$31<6,"děti",IF($M$31<8,"kadetky ml",IF($M$31<10,"kadetky st",IF($M$31<12,"juniorky ml",IF($M$31<15,"juniorky st","seniorky"))))) -> #DIV/0!
K30: =IF(J30=0,"",(K6-J30)) | L30: =IF(K30="","",IF(K30>1,N30)) | N30: =$N$8 -> 180
K31: =IF(J31=0,"",(K6-J31)) | L31: =IF(K31="","",IF(K31>1,N31)) | M31: =AVERAGE(K29:K31) -> #DIV/0! | N31: =$N$8 -> 180
B32: 9. | K32: =IF(J32=0,"",(K6-J32)) | L32: =IF(K32="","",IF(K32>1,N32)) | M32: =IF(L32="","",IF(L32>1,O32)) | N32: =$N$8 -> 180 | O32: =IF($M$34<6,"děti",IF($M$34<8,"kadetky ml",IF($M$34<10,"kadetky st",IF($M$34<12,"juniorky ml",IF($M$34<15,"juniorky st","seniorky"))))) -> #DIV/0!
K33: =IF(J33=0,"",(K6-J33)) | L33: =IF(K33="","",IF(K33>1,N33)) | N33: =$N$8 -> 180
K34: =IF(J34=0,"",(K6-J34)) | L34: =IF(K34="","",IF(K34>1,N34)) | M34: =AVERAGE(K32:K34) -> #DIV/0! | N34: =$N$8 -> 180

Sheet Sólo pompony klasik
B1: Sólo pompony klasik | F1: =údaje!A1 -> 2026
B2: =údaje!A2 -> 15. ročník mažoretkové soutěže "O pohár města Hranice"
C4: Město | H4: Startovné celkem | K4: =SUM(L8:L22) -> 0
H6: Datum narození | K6: =údaje!A1 -> 2026
B7: Jméno a příjmení | F7: Název skupiny | G7: Délka sóla | H7: den | I7: měsíc | J7: rok | K7: věk | L7: Startovné | M7: Kategorie
B8: 1. | K8: =IF(J8=0,"",(K6-J8)) | L8: =IF(K8="","",IF(K8>1,N8)) | M8: =IF(L8="","",IF(L8>1,O8)) | N8: =údaje!A3 -> 180 | O8: =IF($K$8<6,"děti",IF($K$8<8,"kadetky",IF($K$8<10,"kadetky",IF($K$8<12,"juniorky",IF($K$8<15,"juniorky","seniorky"))))) -> seniorky
B9: 2. | K9: =IF(J9=0,"",(K6-J9)) | L9: =IF(K9="","",IF(K9>1,N9)) | M9: =IF(L9="","",IF(L9>1,O9)) | N9: =$N$8 -> 180 | O9: =IF($K$9<6,"děti",IF($K$9<8,"kadetky",IF($K$9<10,"kadetky",IF($K$9<12,"juniorky",IF($K$9<15,"juniorky","seniorky"))))) -> seniorky
B10: 3. | K10: =IF(J10=0,"",(K6-J10)) | L10: =IF(K10="","",IF(K10>1,N10)) | M10: =IF(L10="","",IF(L10>1,O10)) | N10: =$N$8 -> 180 | O10: =IF($K$10<6,"děti",IF($K$10<8,"kadetky",IF($K$10<10,"kadetky",IF($K$10<12,"juniorky",IF($K$10<15,"juniorky","seniorky"))))) -> seniorky
B11: 4. | K11: =IF(J11=0,"",(K6-J11)) | L11: =IF(K11="","",IF(K11>1,N11)) | M11: =IF(L11="","",IF(L11>1,O11)) | N11: =$N$8 -> 180 | O11: =IF($K$11<6,"děti",IF($K$11<8,"kadetky",IF($K$11<10,"kadetky",IF($K$11<12,"juniorky",IF($K$11<15,"juniorky","seniorky"))))) -> seniorky
B12: 5. | K12: =IF(J12=0,"",(K6-J12)) | L12: =IF(K12="","",IF(K12>1,N12)) | M12: =IF(L12="","",IF(L12>1,O12)) | N12: =$N$8 -> 180 | O12: =IF($K$12<6,"děti",IF($K$12<8,"kadetky",IF($K$12<10,"kadetky",IF($K$12<12,"juniorky",IF($K$12<15,"juniorky","seniorky"))))) -> seniorky
B13: 6. | K13: =IF(J13=0,"",(K6-J13)) | L13: =IF(K13="","",IF(K13>1,N13)) | M13: =IF(L13="","",IF(L13>1,O13)) | N13: =$N$8 -> 180 | O13: =IF($K$13<6,"děti",IF($K$13<8,"kadetky",IF($K$13<10,"kadetky",IF($K$13<12,"juniorky",IF($K$13<15,"juniorky","seniorky"))))) -> seniorky
B14: 7. | K14: =IF(J14=0,"",(K6-J14)) | L14: =IF(K14="","",IF(K14>1,N14)) | M14: =IF(L14="","",IF(L14>1,O14)) | N14: =$N$8 -> 180 | O14: =IF($K$14<6,"děti",IF($K$14<8,"kadetky",IF($K$14<10,"kadetky",IF($K$14<12,"juniorky",IF($K$14<15,"juniorky","seniorky"))))) -> seniorky
B15: 8. | K15: =IF(J15=0,"",(K6-J15)) | L15: =IF(K15="","",IF(K15>1,N15)) | M15: =IF(L15="","",IF(L15>1,O15)) | N15: =$N$8 -> 180 | O15: =IF($K$15<6,"děti",IF($K$15<8,"kadetky",IF($K$15<10,"kadetky",IF($K$15<12,"juniorky",IF($K$15<15,"juniorky","seniorky"))))) -> seniorky
B16: 9. | K16: =IF(J16=0,"",(K6-J16)) | L16: =IF(K16="","",IF(K16>1,N16)) | M16: =IF(L16="","",IF(L16>1,O16)) | N16: =$N$8 -> 180 | O16: =IF($K$16<6,"děti",IF($K$16<8,"kadetky",IF($K$16<10,"kadetky",IF($K16<12,"juniorky",IF($K$16<15,"juniorky","seniorky"))))) -> seniorky
B17: 10. | K17: =IF(J17=0,"",(K6-J17)) | L17: =IF(K17="","",IF(K17>1,N17)) | M17: =IF(L17="","",IF(L17>1,O17)) | N17: =$N$8 -> 180 | O17: =IF($K$17<6,"děti",IF($K$17<8,"kadetky",IF($K$17<10,"kadetky",IF($K$17<12,"juniorky",IF($K$17<15,"juniorky","seniorky"))))) -> seniorky
B18: 11. | K18: =IF(J18=0,"",(K6-J18)) | L18: =IF(K18="","",IF(K18>1,N18)) | M18: =IF(L18="","",IF(L18>1,O18)) | N18: =$N$8 -> 180 | O18: =IF($K$18<6,"děti",IF($K$18<8,"kadetky",IF($K$18<10,"kadetky",IF($K$18<12,"juniorky",IF($K$18<15,"juniorky","seniorky"))))) -> seniorky
B19: 12. | K19: =IF(J19=0,"",(K6-J19)) | L19: =IF(K19="","",IF(K19>1,N19)) | M19: =IF(L19="","",IF(L19>1,O19)) | N19: =$N$8 -> 180 | O19: =IF($K$19<6,"děti",IF($K$19<8,"kadetky",IF($K$19<10,"kadetky",IF($K$19<12,"juniorky",IF($K$19<15,"juniorky","seniorky"))))) -> seniorky
B20: 13. | K20: =IF(J20=0,"",(K6-J20)) | L20: =IF(K20="","",IF(K20>1,N20)) | M20: =IF(L20="","",IF(L20>1,O20)) | N20: =$N$8 -> 180 | O20: =IF($K$20<6,"děti",IF($K$20<8,"kadetky",IF($K$20<10,"kadetky",IF($K$20<12,"juniorky",IF($K$20<15,"juniorky","seniorky"))))) -> seniorky
B21: 14. | K21: =IF(J21=0,"",(K6-J21)) | L21: =IF(K21="","",IF(K21>1,N21)) | M21: =IF(L21="","",IF(L21>1,O21)) | N21: =$N$8 -> 180 | O21: =IF($K$21<6,"děti",IF($K$21<8,"kadetky",IF($K$21<10,"kadetky",IF($K$21<12,"juniorky",IF($K$21<15,"juniorky","seniorky"))))) -> seniorky
B22: 15. | K22: =IF(J22=0,"",(K6-J22)) | L22: =IF(K22="","",IF(K22>1,N22)) | M22: =IF(L22="","",IF(L22>1,O22)) | N22: =$N$8 -> 180 | O22: =IF($K$22<6,"děti",IF($K$22<8,"kadetky",IF($K$22<10,"kadetky",IF($K$22<12,"juniorky",IF($K$22<15,"juniorky","seniorky"))))) -> seniorky

Sheet Duo, trio pompony klasik
B1: Duo, trio pompony klasik | F1: =údaje!A1 -> 2026
B2: =údaje!A2 -> 15. ročník mažoretkové soutěže "O pohár města Hranice"
C4: Město | H4: Startovné celkem | K4: =SUM(L8:L34) -> 0
H6: Datum narození | K6: =údaje!A1 -> 2026
B7: Jméno a příjmení | F7: Název skupiny | G7: Délka skl. | H7: den | I7: měsíc | J7: rok | K7: věk | L7: Startovné | M7: Kategorie
B8: 1. | K8: =IF(J8=0,"",(K6-J8)) | L8: =IF(K8="","",IF(K8>1,N8)) | M8: =IF(L8="","",IF(L8>1,O8)) | N8: =údaje!A3 -> 180 | O8: =IF($M$10<6,"děti",IF($M$10<8,"kadetky",IF($M$10<10,"kadetky",IF($M$10<12,"juniorky",IF($M$10<15,"juniorky","seniorky"))))) -> #DIV/0!
K9: =IF(J9=0,"",(K6-J9)) | L9: =IF(K9="","",IF(K9>1,N9)) | N9: =$N$8 -> 180
K10: =IF(J10=0,"",(K6-J10)) | L10: =IF(K10="","",IF(K10>1,N10)) | M10: =AVERAGE(K8:K10) -> #DIV/0! | N10: =$N$8 -> 180
B11: 2. | K11: =IF(J11=0,"",(K6-J11)) | L11: =IF(K11="","",IF(K11>1,N11)) | M11: =IF(L11="","",IF(L11>1,O11)) | N11: =$N$8 -> 180 | O11: =IF($M$13<6,"děti",IF($M$13<8,"kadetky",IF($M$13<10,"kadetky",IF($M$13<12,"juniorky",IF($M$13<15,"juniorky","seniorky"))))) -> #DIV/0!
K12: =IF(J12=0,"",(K6-J12)) | L12: =IF(K12="","",IF(K12>1,N12)) | N12: =$N$8 -> 180
K13: =IF(J13=0,"",(K6-J13)) | L13: =IF(K13="","",IF(K13>1,N13)) | M13: =AVERAGE(K11:K13) -> #DIV/0! | N13: =$N$8 -> 180
B14: 3. | K14: =IF(J14=0,"",(K6-J14)) | L14: =IF(K14="","",IF(K14>1,N14)) | M14: =IF(L14="","",IF(L14>1,O14)) | N14: =$N$8 -> 180 | O14: =IF($M$16<6,"děti",IF($M$16<8,"kadetky",IF($M$16<10,"kadetky",IF($M$16<12,"juniorky",IF($M$16<15,"juniorky","seniorky"))))) -> #DIV/0!
K15: =IF(J15=0,"",(K6-J15)) | L15: =IF(K15="","",IF(K15>1,N15)) | N15: =$N$8 -> 180
K16: =IF(J16=0,"",(K6-J16)) | L16: =IF(K16="","",IF(K16>1,N16)) | M16: =AVERAGE(K14:K16) -> #DIV/0! | N16: =$N$8 -> 180
B17: 4. | K17: =IF(J17=0,"",(K6-J17)) | L17: =IF(K17="","",IF(K17>1,N17)) | M17: =IF(L17="","",IF(L17>1,O17)) | N17: =$N$8 -> 180 | O17: =IF($M$19<6,"děti",IF($M$19<8,"kadetky",IF($M$19<10,"kadetky",IF($M$19<12,"juniorky",IF($M$19<15,"juniorky","seniorky"))))) -> #DIV/0!
K18: =IF(J18=0,"",(K6-J18)) | L18: =IF(K18="","",IF(K18>1,N18)) | N18: =$N$8 -> 180
K19: =IF(J19=0,"",(K6-J19)) | L19: =IF(K19="","",IF(K19>1,N19)) | M19: =AVERAGE(K17:K19) -> #DIV/0! | N19: =$N$8 -> 180
B20: 5. | K20: =IF(J20=0,"",(K6-J20)) | L20: =IF(K20="","",IF(K20>1,N20)) | M20: =IF(L20="","",IF(L20>1,O20)) | N20: =$N$8 -> 180 | O20: =IF($M$22<6,"děti",IF($M$22<8,"kadetky",IF($M$22<10,"kadetky",IF($M$22<12,"juniorky",IF($M$22<15,"juniorky","seniorky"))))) -> #DIV/0!
K21: =IF(J21=0,"",(K6-J21)) | L21: =IF(K21="","",IF(K21>1,N21)) | N21: =$N$8 -> 180
K22: =IF(J22=0,"",(K6-J22)) | L22: =IF(K22="","",IF(K22>1,N22)) | M22: =AVERAGE(K20:K22) -> #DIV/0! | N22: =$N$8 -> 180
B23: 6. | K23: =IF(J23=0,"",(K6-J23)) | L23: =IF(K23="","",IF(K23>1,N23)) | M23: =IF(L23="","",IF(L23>1,O23)) | N23: =$N$8 -> 180 | O23: =IF($M$25<6,"děti",IF($M$25<8,"kadetky",IF($M$25<10,"kadetky",IF($M$25<12,"juniorky",IF($M$25<15,"juniorky","seniorky"))))) -> #DIV/0!
K24: =IF(J24=0,"",(K6-J24)) | L24: =IF(K24="","",IF(K24>1,N24)) | N24: =$N$8 -> 180
K25: =IF(J25=0,"",(K6-J25)) | L25: =IF(K25="","",IF(K25>1,N25)) | M25: =AVERAGE(K23:K25) -> #DIV/0! | N25: =$N$8 -> 180
B26: 7. | K26: =IF(J26=0,"",(K6-J26)) | L26: =IF(K26="","",IF(K26>1,N26)) | M26: =IF(L26="","",IF(L26>1,O26)) | N26: =$N$8 -> 180 | O26: =IF($M$28<6,"děti",IF($M$28<8,"kadetky",IF($M$28<10,"kadetky",IF($M$28<12,"juniorky",IF($M$28<15,"juniorky","seniorky"))))) -> #DIV/0!
K27: =IF(J27=0,"",(K6-J27)) | L27: =IF(K27="","",IF(K27>1,N27)) | N27: =$N$8 -> 180
K28: =IF(J28=0,"",(K6-J28)) | L28: =IF(K28="","",IF(K28>1,N28)) | M28: =AVERAGE(K26:K28) -> #DIV/0! | N28: =$N$8 -> 180
B29: 8. | K29: =IF(J29=0,"",(K6-J29)) | L29: =IF(K29="","",IF(K29>1,N29)) | M29: =IF(L29="","",IF(L29>1,O29)) | N29: =$N$8 -> 180 | O29: =IF($M$31<6,"děti",IF($M$31<8,"kadetky",IF($M$31<10,"kadetky",IF($M$31<12,"juniorky",IF($M$31<15,"juniorky","seniorky"))))) -> #DIV/0!
K30: =IF(J30=0,"",(K6-J30)) | L30: =IF(K30="","",IF(K30>1,N30)) | N30: =$N$8 -> 180
K31: =IF(J31=0,"",(K6-J31)) | L31: =IF(K31="","",IF(K31>1,N31)) | M31: =AVERAGE(K29:K31) -> #DIV/0! | N31: =$N$8 -> 180
B32: 9. | K32: =IF(J32=0,"",(K6-J32)) | L32: =IF(K32="","",IF(K32>1,N32)) | M32: =IF(L32="","",IF(L32>1,O32)) | N32: =$N$8 -> 180 | O32: =IF($M$34<6,"děti",IF($M$34<8,"kadetky",IF($M$34<10,"kadetky",IF($M$34<12,"juniorky",IF($M$34<15,"juniorky","seniorky"))))) -> #DIV/0!
K33: =IF(J33=0,"",(K6-J33)) | L33: =IF(K33="","",IF(K33>1,N33)) | N33: =$N$8 -> 180
K34: =IF(J34=0,"",(K6-J34)) | L34: =IF(K34="","",IF(K34>1,N34)) | M34: =AVERAGE(K32:K34) -> #DIV/0! | N34: =$N$8 -> 180

Sheet Seznam 1
A1: jméno | B1: den | C1: měsíc | D1: rok | E1: skupina | F1: město | G1: kat. | I1: jméno | J1: den | K1: měsíc | L1: rok | M1: skupina | N1: město | O1: kat. | Q1: jméno | R1: den | S1: měsíc | T1: rok | U1: skupina | V1: město | W1: kat. | X1: Skupina baton
A2: ='Skupina baton'!C16 -> 0 | B2: ='Skupina baton'!F16 -> 0 | C2: ='Skupina baton'!G16 -> 0 | D2: ='Skupina baton'!H16 -> 0 | E2: ='Skupina baton'!E4 -> 0 | F2: ='Skupina baton'!E5 -> 0 | G2: ='Skupina baton'!F10 -> #DIV/0! | I2: ='Skupina baton'!M16 -> 0 | J2: ='Skupina baton'!P16 -> 0 | K2: ='Skupina baton'!Q16 -> 0 | L2: ='Skupina baton'!R16 -> 0 | M2: ='Skupina baton'!O4 -> 0 | N2: ='Skupina baton'!O5 -> 0 | O2: ='Skupina baton'!P10 -> #DIV/0! | Q2: ='Skupina baton'!W16 -> 0 | R2: ='Skupina baton'!Z16 -> 0 | S2: ='Skupina baton'!AA16 -> 0 | T2: ='Skupina baton'!AB16 -> 0 | U2: ='Skupina baton'!Y4 -> 0 | V2: ='Skupina baton'!Y5 -> 0 | W2: ='Skupina baton'!Z10 -> #DIV/0!
A3: ='Skupina baton'!C17 -> 0 | B3: ='Skupina baton'!F17 -> 0 | C3: ='Skupina baton'!G17 -> 0 | D3: ='Skupina baton'!H17 -> 0 | I3: ='Skupina baton'!M17 -> 0 | J3: ='Skupina baton'!P17 -> 0 | K3: ='Skupina baton'!Q17 -> 0 | L3: ='Skupina baton'!R17 -> 0 | Q3: ='Skupina baton'!W17 -> 0 | R3: ='Skupina baton'!Z17 -> 0 | S3: ='Skupina baton'!AA17 -> 0 | T3: ='Skupina baton'!AB17 -> 0
A4: ='Skupina baton'!C18 -> 0 | B4: ='Skupina baton'!F18 -> 0 | C4: ='Skupina baton'!G18 -> 0 | D4: ='Skupina baton'!H18 -> 0 | I4: ='Skupina baton'!M18 -> 0 | J4: ='Skupina baton'!P18 -> 0 | K4: ='Skupina baton'!Q18 -> 0 | L4: ='Skupina baton'!R18 -> 0 | Q4: ='Skupina baton'!W18 -> 0 | R4: ='Skupina baton'!Z18 -> 0 | S4: ='Skupina baton'!AA18 -> 0 | T4: ='Skupina baton'!AB18 -> 0
A5: ='Skupina baton'!C19 -> 0 | B5: ='Skupina baton'!F19 -> 0 | C5: ='Skupina baton'!G19 -> 0 | D5: ='Skupina baton'!H19 -> 0 | I5: ='Skupina baton'!M19 -> 0 | J5: ='Skupina baton'!P19 -> 0 | K5: ='Skupina baton'!Q19 -> 0 | L5: ='Skupina baton'!R19 -> 0 | Q5: ='Skupina baton'!W19 -> 0 | R5: ='Skupina baton'!Z19 -> 0 | S5: ='Skupina baton'!AA19 -> 0 | T5: ='Skupina baton'!AB19 -> 0
A6: ='Skupina baton'!C20 -> 0 | B6: ='Skupina baton'!F20 -> 0 | C6: ='Skupina baton'!G20 -> 0 | D6: ='Skupina baton'!H20 -> 0 | I6: ='Skupina baton'!M20 -> 0 | J6: ='Skupina baton'!P20 -> 0 | K6: ='Skupina baton'!Q20 -> 0 | L6: ='Skupina baton'!R20 -> 0 | Q6: ='Skupina baton'!W20 -> 0 | R6: ='Skupina baton'!Z20 -> 0 | S6: ='Skupina baton'!AA20 -> 0 | T6: ='Skupina baton'!AB20 -> 0
A7: ='Skupina baton'!C21 -> 0 | B7: ='Skupina baton'!F21 -> 0 | C7: ='Skupina baton'!G21 -> 0 | D7: ='Skupina baton'!H21 -> 0 | I7: ='Skupina baton'!M21 -> 0 | J7: ='Skupina baton'!P21 -> 0 | K7: ='Skupina baton'!Q21 -> 0 | L7: ='Skupina baton'!R21 -> 0 | Q7: ='Skupina baton'!W21 -> 0 | R7: ='Skupina baton'!Z21 -> 0 | S7: ='Skupina baton'!AA21 -> 0 | T7: ='Skupina baton'!AB21 -> 0
A8: ='Skupina baton'!C22 -> 0 | B8: ='Skupina baton'!F22 -> 0 | C8: ='Skupina baton'!G22 -> 0 | D8: ='Skupina baton'!H22 -> 0 | I8: ='Skupina baton'!M22 -> 0 | J8: ='Skupina baton'!P22 -> 0 | K8: ='Skupina baton'!Q22 -> 0 | L8: ='Skupina baton'!R22 -> 0 | Q8: ='Skupina baton'!W22 -> 0 | R8: ='Skupina baton'!Z22 -> 0 | S8: ='Skupina baton'!AA22 -> 0 | T8: ='Skupina baton'!AB22 -> 0
A9: ='Skupina baton'!C23 -> 0 | B9: ='Skupina baton'!F23 -> 0 | C9: ='Skupina baton'!G23 -> 0 | D9: ='Skupina baton'!H23 -> 0 | I9: ='Skupina baton'!M23 -> 0 | J9: ='Skupina baton'!P23 -> 0 | K9: ='Skupina baton'!Q23 -> 0 | L9: ='Skupina baton'!R23 -> 0 | Q9: ='Skupina baton'!W23 -> 0 | R9: ='Skupina baton'!Z23 -> 0 | S9: ='Skupina baton'!AA23 -> 0 | T9: ='Skupina baton'!AB23 -> 0
A10: ='Skupina baton'!C24 -> 0 | B10: ='Skupina baton'!F24 -> 0 | C10: ='Skupina baton'!G24 -> 0 | D10: ='Skupina baton'!H24 -> 0 | I10: ='Skupina baton'!M24 -> 0 | J10: ='Skupina baton'!P24 -> 0 | K10: ='Skupina baton'!Q24 -> 0 | L10: ='Skupina baton'!R24 -> 0 | Q10: ='Skupina baton'!W24 -> 0 | R10: ='Skupina baton'!Z24 -> 0 | S10: ='Skupina baton'!AA24 -> 0 | T10: ='Skupina baton'!AB24 -> 0
A11: ='Skupina baton'!C25 -> 0 | B11: ='Skupina baton'!F25 -> 0 | C11: ='Skupina baton'!G25 -> 0 | D11: ='Skupina baton'!H25 -> 0 | I11: ='Skupina baton'!M25 -> 0 | J11: ='Skupina baton'!P25 -> 0 | K11: ='Skupina baton'!Q25 -> 0 | L11: ='Skupina baton'!R25 -> 0 | Q11: ='Skupina baton'!W25 -> 0 | R11: ='Skupina baton'!Z25 -> 0 | S11: ='Skupina baton'!AA25 -> 0 | T11: ='Skupina baton'!AB25 -> 0
A12: ='Skupina baton'!C26 -> 0 | B12: ='Skupina baton'!F26 -> 0 | C12: ='Skupina baton'!G26 -> 0 | D12: ='Skupina baton'!H26 -> 0 | I12: ='Skupina baton'!M26 -> 0 | J12: ='Skupina baton'!P26 -> 0 | K12: ='Skupina baton'!Q26 -> 0 | L12: ='Skupina baton'!R26 -> 0 | Q12: ='Skupina baton'!W26 -> 0 | R12: ='Skupina baton'!Z26 -> 0 | S12: ='Skupina baton'!AA26 -> 0 | T12: ='Skupina baton'!AB26 -> 0
A13: ='Skupina baton'!C27 -> 0 | B13: ='Skupina baton'!F27 -> 0 | C13: ='Skupina baton'!G27 -> 0 | D13: ='Skupina baton'!H27 -> 0 | I13: ='Skupina baton'!M27 -> 0 | J13: ='Skupina baton'!P27 -> 0 | K13: ='Skupina baton'!Q27 -> 0 | L13: ='Skupina baton'!R27 -> 0 | Q13: ='Skupina baton'!W27 -> 0 | R13: ='Skupina baton'!Z27 -> 0 | S13: ='Skupina baton'!AA27 -> 0 | T13: ='Skupina baton'!AB27 -> 0
A14: ='Skupina baton'!C28 -> 0 | B14: ='Skupina baton'!F28 -> 0 | C14: ='Skupina baton'!G28 -> 0 | D14: ='Skupina baton'!H28 -> 0 | I14: ='Skupina baton'!M28 -> 0 | J14: ='Skupina baton'!P28 -> 0 | K14: ='Skupina baton'!Q28 -> 0 | L14: ='Skupina baton'!R28 -> 0 | Q14: ='Skupina baton'!W28 -> 0 | R14: ='Skupina baton'!Z28 -> 0 | S14: ='Skupina baton'!AA28 -> 0 | T14: ='Skupina baton'!AB28 -> 0
... A26: ='Skupina baton'!C40 -> 0 | B26: ='Skupina baton'!F40 -> 0 | C26: ='Skupina baton'!G40 -> 0 | D26: ='Skupina baton'!H40 -> 0 | I26: ='Skupina baton'!M40 -> 0 | J26: ='Skupina baton'!P40 -> 0 | K26: ='Skupina baton'!Q40 -> 0 | L26: ='Skupina baton'!R40 -> 0 | Q26: ='Skupina baton'!W40 -> 0 | R26: ='Skupina baton'!Z40 -> 0 | S26: ='Skupina baton'!AA40 -> 0 | T26: ='Skupina baton'!AB40 -> 0
A27: jméno | B27: den | C27: měsíc | D27: rok | E27: skupina | F27: město | G27: kat. | I27: jméno | J27: den | K27: měsíc | L27: rok | M27: skupina | N27: město | O27: kat. | Q27: jméno | R27: den | S27: měsíc | T27: rok | U27: skupina | V27: město | W27: kat. | X27: Miniformace baton
A28: ='Miniformace baton'!C16 -> 0 | B28: ='Miniformace baton'!F16 -> 0 | C28: ='Miniformace baton'!G16 -> 0 | D28: ='Miniformace baton'!H16 -> 0 | E28: ='Miniformace baton'!E4 -> 0 | F28: ='Miniformace baton'!E5 -> 0 | G28: ='Miniformace baton'!F10 -> #DIV/0! | I28: ='Miniformace baton'!M16 -> 0 | J28: ='Miniformace baton'!P16 -> 0 | K28: ='Miniformace baton'!Q16 -> 0 | L28: ='Miniformace baton'!R16 -> 0 | M28: ='Miniformace baton'!O4 -> 0 | N28: ='Miniformace baton'!O5 -> 0 | O28: ='Miniformace baton'!P10 -> #DIV/0! | Q28: ='Miniformace baton'!W16 -> 0 | R28: ='Miniformace baton'!Z16 -> 0 | S28: ='Miniformace baton'!AA16 -> 0 | T28: ='Miniformace baton'!AB16 -> 0 | U28: ='Miniformace baton'!Y4 -> 0 | V28: ='Miniformace baton'!Y5 -> 0 | W28: ='Miniformace baton'!Z10 -> #DIV/0!
A29: ='Miniformace baton'!C17 -> 0 | B29: ='Miniformace baton'!F17 -> 0 | C29: ='Miniformace baton'!G17 -> 0 | D29: ='Miniformace baton'!H17 -> 0 | I29: ='Miniformace baton'!M17 -> 0 | J29: ='Miniformace baton'!P17 -> 0 | K29: ='Miniformace baton'!Q17 -> 0 | L29: ='Miniformace baton'!R17 -> 0 | Q29: ='Miniformace baton'!W17 -> 0 | R29: ='Miniformace baton'!Z17 -> 0 | S29: ='Miniformace baton'!AA17 -> 0 | T29: ='Miniformace baton'!AB17 -> 0
A30: ='Miniformace baton'!C18 -> 0 | B30: ='Miniformace baton'!F18 -> 0 | C30: ='Miniformace baton'!G18 -> 0 | D30: ='Miniformace baton'!H18 -> 0 | I30: ='Miniformace baton'!M18 -> 0 | J30: ='Miniformace baton'!P18 -> 0 | K30: ='Miniformace baton'!Q18 -> 0 | L30: ='Miniformace baton'!R18 -> 0 | Q30: ='Miniformace baton'!W18 -> 0 | R30: ='Miniformace baton'!Z18 -> 0 | S30: ='Miniformace baton'!AA18 -> 0 | T30: ='Miniformace baton'!AB18 -> 0
A31: ='Miniformace baton'!C19 -> 0 | B31: ='Miniformace baton'!F19 -> 0 | C31: ='Miniformace baton'!G19 -> 0 | D31: ='Miniformace baton'!H19 -> 0 | I31: ='Miniformace baton'!M19 -> 0 | J31: ='Miniformace baton'!P19 -> 0 | K31: ='Miniformace baton'!Q19 -> 0 | L31: ='Miniformace baton'!R19 -> 0 | Q31: ='Miniformace baton'!W19 -> 0 | R31: ='Miniformace baton'!Z19 -> 0 | S31: ='Miniformace baton'!AA19 -> 0 | T31: ='Miniformace baton'!AB19 -> 0
A32: ='Miniformace baton'!C20 -> 0 | B32: ='Miniformace baton'!F20 -> 0 | C32: ='Miniformace baton'!G20 -> 0 | D32: ='Miniformace baton'!H20 -> 0 | I32: ='Miniformace baton'!M20 -> 0 | J32: ='Miniformace baton'!P20 -> 0 | K32: ='Miniformace baton'!Q20 -> 0 | L32: ='Miniformace baton'!R20 -> 0 | Q32: ='Miniformace baton'!W20 -> 0 | R32: ='Miniformace baton'!Z20 -> 0 | S32: ='Miniformace baton'!AA20 -> 0 | T32: ='Miniformace baton'!AB20 -> 0
A33: ='Miniformace baton'!C21 -> 0 | B33: ='Miniformace baton'!F21 -> 0 | C33: ='Miniformace baton'!G21 -> 0 | D33: ='Miniformace baton'!H21 -> 0 | I33: ='Miniformace baton'!M21 -> 0 | J33: ='Miniformace baton'!P21 -> 0 | K33: ='Miniformace baton'!Q21 -> 0 | L33: ='Miniformace baton'!R21 -> 0 | Q33: ='Miniformace baton'!W21 -> 0 | R33: ='Miniformace baton'!Z21 -> 0 | S33: ='Miniformace baton'!AA21 -> 0 | T33: ='Miniformace baton'!AB21 -> 0
A34: ='Miniformace baton'!C22 -> 0 | B34: ='Miniformace baton'!F22 -> 0 | C34: ='Miniformace baton'!G22 -> 0 | D34: ='Miniformace baton'!H22 -> 0 | I34: ='Miniformace baton'!M22 -> 0 | J34: ='Miniformace baton'!P22 -> 0 | K34: ='Miniformace baton'!Q22 -> 0 | L34: ='Miniformace baton'!R22 -> 0 | Q34: ='Miniformace baton'!W22 -> 0 | R34: ='Miniformace baton'!Z22 -> 0 | S34: ='Miniformace baton'!AA22 -> 0 | T34: ='Miniformace baton'!AB22 -> 0
A35: jméno | B35: den | C35: měsíc | D35: rok | E35: skupina | F35: město | G35: kat. | I35: jméno | J35: den | K35: měsíc | L35: rok | M35: skupina | N35: město | O35: kat. | Q35: jméno | R35: den | S35: měsíc | T35: rok | U35: skupina | V35: město | W35: kat. | X35: Skupina pompony
A36: ='Skupina pompony'!C16 -> 0 | B36: ='Skupina pompony'!F16 -> 0 | C36: ='Skupina pompony'!G16 -> 0 | D36: ='Skupina pompony'!H16 -> 0 | E36: ='Skupina pompony'!E4 -> 0 | F36: ='Skupina pompony'!E5 -> 0 | G36: ='Skupina pompony'!F10 -> #DIV/0! | I36: ='Skupina pompony'!M16 -> 0 | J36: ='Skupina pompony'!P16 -> 0 | K36: ='Skupina pompony'!Q16 -> 0 | L36: ='Skupina pompony'!R16 -> 0 | M36: ='Skupina pompony'!O4 -> 0 | N36: ='Skupina pompony'!O5 -> 0 | O36: ='Skupina pompony'!P10 -> #DIV/0! | Q36: ='Skupina pompony'!W16 -> 0 | R36: ='Skupina pompony'!Z16 -> 0 | S36: ='Skupina pompony'!AA16 -> 0 | T36: ='Skupina pompony'!AB16 -> 0 | U36: ='Skupina pompony'!Y4 -> 0 | V36: ='Skupina pompony'!Y5 -> 0 | W36: ='Skupina pompony'!Z10 -> #DIV/0!
A37: ='Skupina pompony'!C17 -> 0 | B37: ='Skupina pompony'!F17 -> 0 | C37: ='Skupina pompony'!G17 -> 0 | D37: ='Skupina pompony'!H17 -> 0 | I37: ='Skupina pompony'!M17 -> 0 | J37: ='Skupina pompony'!P17 -> 0 | K37: ='Skupina pompony'!Q17 -> 0 | L37: ='Skupina pompony'!R17 -> 0 | Q37: ='Skupina pompony'!W17 -> 0 | R37: ='Skupina pompony'!Z17 -> 0 | S37: ='Skupina pompony'!AA17 -> 0 | T37: ='Skupina pompony'!AB17 -> 0
A38: ='Skupina pompony'!C18 -> 0 | B38: ='Skupina pompony'!F18 -> 0 | C38: ='Skupina pompony'!G18 -> 0 | D38: ='Skupina pompony'!H18 -> 0 | I38: ='Skupina pompony'!M18 -> 0 | J38: ='Skupina pompony'!P18 -> 0 | K38: ='Skupina pompony'!Q18 -> 0 | L38: ='Skupina pompony'!R18 -> 0 | Q38: ='Skupina pompony'!W18 -> 0 | R38: ='Skupina pompony'!Z18 -> 0 | S38: ='Skupina pompony'!AA18 -> 0 | T38: ='Skupina pompony'!AB18 -> 0
A39: ='Skupina pompony'!C19 -> 0 | B39: ='Skupina pompony'!F19 -> 0 | C39: ='Skupina pompony'!G19 -> 0 | D39: ='Skupina pompony'!H19 -> 0 | I39: ='Skupina pompony'!M19 -> 0 | J39: ='Skupina pompony'!P19 -> 0 | K39: ='Skupina pompony'!Q19 -> 0 | L39: ='Skupina pompony'!R19 -> 0 | Q39: ='Skupina pompony'!W19 -> 0 | R39: ='Skupina pompony'!Z19 -> 0 | S39: ='Skupina pompony'!AA19 -> 0 | T39: ='Skupina pompony'!AB19 -> 0
A40: ='Skupina pompony'!C20 -> 0 | B40: ='Skupina pompony'!F20 -> 0 | C40: ='Skupina pompony'!G20 -> 0 | D40: ='Skupina pompony'!H20 -> 0 | I40: ='Skupina pompony'!M20 -> 0 | J40: ='Skupina pompony'!P20 -> 0 | K40: ='Skupina pompony'!Q20 -> 0 | L40: ='Skupina pompony'!R20 -> 0 | Q40: ='Skupina pompony'!W20 -> 0 | R40: ='Skupina pompony'!Z20 -> 0 | S40: ='Skupina pompony'!AA20 -> 0 | T40: ='Skupina pompony'!AB20 -> 0
A41: ='Skupina pompony'!C21 -> 0 | B41: ='Skupina pompony'!F21 -> 0 | C41: ='Skupina pompony'!G21 -> 0 | D41: ='Skupina pompony'!H21 -> 0 | I41: ='Skupina pompony'!M21 -> 0 | J41: ='Skupina pompony'!P21 -> 0 | K41: ='Skupina pompony'!Q21 -> 0 | L41: ='Skupina pompony'!R21 -> 0 | Q41: ='Skupina pompony'!W21 -> 0 | R41: ='Skupina pompony'!Z21 -> 0 | S41: ='Skupina pompony'!AA21 -> 0 | T41: ='Skupina pompony'!AB21 -> 0
A42: ='Skupina pompony'!C22 -> 0 | B42: ='Skupina pompony'!F22 -> 0 | C42: ='Skupina pompony'!G22 -> 0 | D42: ='Skupina pompony'!H22 -> 0 | I42: ='Skupina pompony'!M22 -> 0 | J42: ='Skupina pompony'!P22 -> 0 | K42: ='Skupina pompony'!Q22 -> 0 | L42: ='Skupina pompony'!R22 -> 0 | Q42: ='Skupina pompony'!W22 -> 0 | R42: ='Skupina pompony'!Z22 -> 0 | S42: ='Skupina pompony'!AA22 -> 0 | T42: ='Skupina pompony'!AB22 -> 0
A43: ='Skupina pompony'!C23 -> 0 | B43: ='Skupina pompony'!F23 -> 0 | C43: ='Skupina pompony'!G23 -> 0 | D43: ='Skupina pompony'!H23 -> 0 | I43: ='Skupina pompony'!M23 -> 0 | J43: ='Skupina pompony'!P23 -> 0 | K43: ='Skupina pompony'!Q23 -> 0 | L43: ='Skupina pompony'!R23 -> 0 | Q43: ='Skupina pompony'!W23 -> 0 | R43: ='Skupina pompony'!Z23 -> 0 | S43: ='Skupina pompony'!AA23 -> 0 | T43: ='Skupina pompony'!AB23 -> 0
A44: ='Skupina pompony'!C24 -> 0 | B44: ='Skupina pompony'!F24 -> 0 | C44: ='Skupina pompony'!G24 -> 0 | D44: ='Skupina pompony'!H24 -> 0 | I44: ='Skupina pompony'!M24 -> 0 | J44: ='Skupina pompony'!P24 -> 0 | K44: ='Skupina pompony'!Q24 -> 0 | L44: ='Skupina pompony'!R24 -> 0 | Q44: ='Skupina pompony'!W24 -> 0 | R44: ='Skupina pompony'!Z24 -> 0 | S44: ='Skupina pompony'!AA24 -> 0 | T44: ='Skupina pompony'!AB24 -> 0
A45: ='Skupina pompony'!C25 -> 0 | B45: ='Skupina pompony'!F25 -> 0 | C45: ='Skupina pompony'!G25 -> 0 | D45: ='Skupina pompony'!H25 -> 0 | I45: ='Skupina pompony'!M25 -> 0 | J45: ='Skupina pompony'!P25 -> 0 | K45: ='Skupina pompony'!Q25 -> 0 | L45: ='Skupina pompony'!R25 -> 0 | Q45: ='Skupina pompony'!W25 -> 0 | R45: ='Skupina pompony'!Z25 -> 0 | S45: ='Skupina pompony'!AA25 -> 0 | T45: ='Skupina pompony'!AB25 -> 0
A46: ='Skupina pompony'!C26 -> 0 | B46: ='Skupina pompony'!F26 -> 0 | C46: ='Skupina pompony'!G26 -> 0 | D46: ='Skupina pompony'!H26 -> 0 | I46: ='Skupina pompony'!M26 -> 0 | J46: ='Skupina pompony'!P26 -> 0 | K46: ='Skupina pompony'!Q26 -> 0 | L46: ='Skupina pompony'!R26 -> 0 | Q46: ='Skupina pompony'!W26 -> 0 | R46: ='Skupina pompony'!Z26 -> 0 | S46: ='Skupina pompony'!AA26 -> 0 | T46: ='Skupina pompony'!AB26 -> 0
A47: ='Skupina pompony'!C27 -> 0 | B47: ='Skupina pompony'!F27 -> 0 | C47: ='Skupina pompony'!G27 -> 0 | D47: ='Skupina pompony'!H27 -> 0 | I47: ='Skupina pompony'!M27 -> 0 | J47: ='Skupina pompony'!P27 -> 0 | K47: ='Skupina pompony'!Q27 -> 0 | L47: ='Skupina pompony'!R27 -> 0 | Q47: ='Skupina pompony'!W27 -> 0 | R47: ='Skupina pompony'!Z27 -> 0 | S47: ='Skupina pompony'!AA27 -> 0 | T47: ='Skupina pompony'!AB27 -> 0
A48: ='Skupina pompony'!C28 -> 0 | B48: ='Skupina pompony'!F28 -> 0 | C48: ='Skupina pompony'!G28 -> 0 | D48: ='Skupina pompony'!H28 -> 0 | I48: ='Skupina pompony'!M28 -> 0 | J48: ='Skupina pompony'!P28 -> 0 | K48: ='Skupina pompony'!Q28 -> 0 | L48: ='Skupina pompony'!R28 -> 0 | Q48: ='Skupina pompony'!W28 -> 0 | R48: ='Skupina pompony'!Z28 -> 0 | S48: ='Skupina pompony'!AA28 -> 0 | T48: ='Skupina pompony'!AB28 -> 0
... A62: ='Skupina pompony'!C42 -> 0 | B62: ='Skupina pompony'!F42 -> 0 | C62: ='Skupina pompony'!G42 -> 0 | D62: ='Skupina pompony'!H42 -> 0 | I62: ='Skupina pompony'!M42 -> 0 | J62: ='Skupina pompony'!P42 -> 0 | K62: ='Skupina pompony'!Q42 -> 0 | L62: ='Skupina pompony'!R42 -> 0 | Q62: ='Skupina pompony'!W42 -> 0 | R62: ='Skupina pompony'!Z42 -> 0 | S62: ='Skupina pompony'!AA42 -> 0 | T62: ='Skupina pompony'!AB42 -> 0
A63: jméno | B63: den | C63: měsíc | D63: rok | E63: skupina | F63: město | G63: kat. | I63: jméno | J63: den | K63: měsíc | L63: rok | M63: skupina | N63: město | O63: kat. | Q63: jméno | R63: den | S63: měsíc | T63: rok | U63: skupina | V63: město | W63: kat. | X63: Miniformace pompony
A64: ='Miniformace pompony'!C16 -> 0 | B64: ='Miniformace pompony'!F16 -> 0 | C64: ='Miniformace pompony'!G16 -> 0 | D64: ='Miniformace pompony'!H16 -> 0 | E64: ='Miniformace pompony'!E4 -> 0 | F64: ='Miniformace pompony'!E5 -> 0 | G64: ='Miniformace pompony'!F10 -> #DIV/0! | I64: ='Miniformace pompony'!M16 -> 0 | J64: ='Miniformace pompony'!P16 -> 0 | K64: ='Miniformace pompony'!Q16 -> 0 | L64: ='Miniformace pompony'!R16 -> 0 | M64: ='Miniformace pompony'!O4 -> 0 | N64: ='Miniformace pompony'!O5 -> 0 | O64: ='Miniformace pompony'!P10 -> #DIV/0! | Q64: ='Miniformace pompony'!W16 -> 0 | R64: ='Miniformace pompony'!Z16 -> 0 | S64: ='Miniformace pompony'!AA16 -> 0 | T64: ='Miniformace pompony'!AB16 -> 0 | U64: ='Miniformace pompony'!Y4 -> 0 | V64: ='Miniformace pompony'!Y5 -> 0 | W64: ='Miniformace pompony'!Z10 -> #DIV/0!
A65: ='Miniformace pompony'!C17 -> 0 | B65: ='Miniformace pompony'!F17 -> 0 | C65: ='Miniformace pompony'!G17 -> 0 | D65: ='Miniformace pompony'!H17 -> 0 | I65: ='Miniformace pompony'!M17 -> 0 | J65: ='Miniformace pompony'!P17 -> 0 | K65: ='Miniformace pompony'!Q17 -> 0 | L65: ='Miniformace pompony'!R17 -> 0 | Q65: ='Miniformace pompony'!W17 -> 0 | R65: ='Miniformace pompony'!Z17 -> 0 | S65: ='Miniformace pompony'!AA17 -> 0 | T65: ='Miniformace pompony'!AB17 -> 0
A66: ='Miniformace pompony'!C18 -> 0 | B66: ='Miniformace pompony'!F18 -> 0 | C66: ='Miniformace pompony'!G18 -> 0 | D66: ='Miniformace pompony'!H18 -> 0 | I66: ='Miniformace pompony'!M18 -> 0 | J66: ='Miniformace pompony'!P18 -> 0 | K66: ='Miniformace pompony'!Q18 -> 0 | L66: ='Miniformace pompony'!R18 -> 0 | Q66: ='Miniformace pompony'!W18 -> 0 | R66: ='Miniformace pompony'!Z18 -> 0 | S66: ='Miniformace pompony'!AA18 -> 0 | T66: ='Miniformace pompony'!AB18 -> 0
A67: ='Miniformace pompony'!C19 -> 0 | B67: ='Miniformace pompony'!F19 -> 0 | C67: ='Miniformace pompony'!G19 -> 0 | D67: ='Miniformace pompony'!H19 -> 0 | I67: ='Miniformace pompony'!M19 -> 0 | J67: ='Miniformace pompony'!P19 -> 0 | K67: ='Miniformace pompony'!Q19 -> 0 | L67: ='Miniformace pompony'!R19 -> 0 | Q67: ='Miniformace pompony'!W19 -> 0 | R67: ='Miniformace pompony'!Z19 -> 0 | S67: ='Miniformace pompony'!AA19 -> 0 | T67: ='Miniformace pompony'!AB19 -> 0
A68: ='Miniformace pompony'!C20 -> 0 | B68: ='Miniformace pompony'!F20 -> 0 | C68: ='Miniformace pompony'!G20 -> 0 | D68: ='Miniformace pompony'!H20 -> 0 | I68: ='Miniformace pompony'!M20 -> 0 | J68: ='Miniformace pompony'!P20 -> 0 | K68: ='Miniformace pompony'!Q20 -> 0 | L68: ='Miniformace pompony'!R20 -> 0 | Q68: ='Miniformace pompony'!W20 -> 0 | R68: ='Miniformace pompony'!Z20 -> 0 | S68: ='Miniformace pompony'!AA20 -> 0 | T68: ='Miniformace pompony'!AB20 -> 0
A69: ='Miniformace pompony'!C21 -> 0 | B69: ='Miniformace pompony'!F21 -> 0 | C69: ='Miniformace pompony'!G21 -> 0 | D69: ='Miniformace pompony'!H21 -> 0 | I69: ='Miniformace pompony'!M21 -> 0 | J69: ='Miniformace pompony'!P21 -> 0 | K69: ='Miniformace pompony'!Q21 -> 0 | L69: ='Miniformace pompony'!R21 -> 0 | Q69: ='Miniformace pompony'!W21 -> 0 | R69: ='Miniformace pompony'!Z21 -> 0 | S69: ='Miniformace pompony'!AA21 -> 0 | T69: ='Miniformace pompony'!AB21 -> 0
A70: ='Miniformace pompony'!C22 -> 0 | B70: ='Miniformace pompony'!F22 -> 0 | C70: ='Miniformace pompony'!G22 -> 0 | D70: ='Miniformace pompony'!H22 -> 0 | I70: ='Miniformace pompony'!M22 -> 0 | J70: ='Miniformace pompony'!P22 -> 0 | K70: ='Miniformace pompony'!Q22 -> 0 | L70: ='Miniformace pompony'!R22 -> 0 | Q70: ='Miniformace pompony'!W22 -> 0 | R70: ='Miniformace pompony'!Z22 -> 0 | S70: ='Miniformace pompony'!AA22 -> 0 | T70: ='Miniformace pompony'!AB22 -> 0
A71: jméno | B71: den | C71: měsíc | D71: rok | E71: skupina | F71: město | G71: kat. | I71: jméno | J71: den | K71: měsíc | L71: rok | M71: skupina | N71: město | O71: kat. | Q71: jméno | R71: den | S71: měsíc | T71: rok | U71: skupina | V71: město | W71: kat. | X71: Pompony klasik
A72: ='Skupina pompony klasik'!C16 -> 0 | B72: ='Skupina pompony klasik'!F16 -> 0 | C72: ='Skupina pompony klasik'!G16 -> 0 | D72: ='Skupina pompony klasik'!H16 -> 0 | E72: ='Skupina pompony klasik'!E4 -> 0 | F72: ='Skupina pompony klasik'!E5 -> 0 | G72: ='Skupina pompony klasik'!F10 -> #DIV/0! | I72: ='Skupina pompony klasik'!M16 -> 0 | J72: ='Skupina pompony klasik'!P16 -> 0 | K72: ='Skupina pompony klasik'!Q16 -> 0 | L72: ='Skupina pompony klasik'!R16 -> 0 | M72: ='Skupina pompony klasik'!O4 -> 0 | N72: ='Skupina pompony klasik'!O5 -> 0 | O72: ='Skupina pompony klasik'!P10 -> #DIV/0! | Q72: ='Skupina pompony klasik'!W16 -> 0 | R72: ='Skupina pompony klasik'!Z16 -> 0 | S72: ='Skupina pompony klasik'!AA16 -> 0 | T72: ='Skupina pompony klasik'!AB16 -> 0 | U72: ='Skupina pompony klasik'!Y4 -> 0 | V72: ='Skupina pompony klasik'!Y5 -> 0 | W72: ='Skupina pompony klasik'!Z10 -> #DIV/0!
A73: ='Skupina pompony klasik'!C17 -> 0 | B73: ='Skupina pompony klasik'!F17 -> 0 | C73: ='Skupina pompony klasik'!G17 -> 0 | D73: ='Skupina pompony klasik'!H17 -> 0 | I73: ='Skupina pompony klasik'!M17 -> 0 | J73: ='Skupina pompony klasik'!P17 -> 0 | K73: ='Skupina pompony klasik'!Q17 -> 0 | L73: ='Skupina pompony klasik'!R17 -> 0 | Q73: ='Skupina pompony klasik'!W17 -> 0 | R73: ='Skupina pompony klasik'!Z17 -> 0 | S73: ='Skupina pompony klasik'!AA17 -> 0 | T73: ='Skupina pompony klasik'!AB17 -> 0
A74: ='Skupina pompony klasik'!C18 -> 0 | B74: ='Skupina pompony klasik'!F18 -> 0 | C74: ='Skupina pompony klasik'!G18 -> 0 | D74: ='Skupina pompony klasik'!H18 -> 0 | I74: ='Skupina pompony klasik'!M18 -> 0 | J74: ='Skupina pompony klasik'!P18 -> 0 | K74: ='Skupina pompony klasik'!Q18 -> 0 | L74: ='Skupina pompony klasik'!R18 -> 0 | Q74: ='Skupina pompony klasik'!W18 -> 0 | R74: ='Skupina pompony klasik'!Z18 -> 0 | S74: ='Skupina pompony klasik'!AA18 -> 0 | T74: ='Skupina pompony klasik'!AB18 -> 0
A75: ='Skupina pompony klasik'!C19 -> 0 | B75: ='Skupina pompony klasik'!F19 -> 0 | C75: ='Skupina pompony klasik'!G19 -> 0 | D75: ='Skupina pompony klasik'!H19 -> 0 | I75: ='Skupina pompony klasik'!M19 -> 0 | J75: ='Skupina pompony klasik'!P19 -> 0 | K75: ='Skupina pompony klasik'!Q19 -> 0 | L75: ='Skupina pompony klasik'!R19 -> 0 | Q75: ='Skupina pompony klasik'!W19 -> 0 | R75: ='Skupina pompony klasik'!Z19 -> 0 | S75: ='Skupina pompony klasik'!AA19 -> 0 | T75: ='Skupina pompony klasik'!AB19 -> 0
A76: ='Skupina pompony klasik'!C20 -> 0 | B76: ='Skupina pompony klasik'!F20 -> 0 | C76: ='Skupina pompony klasik'!G20 -> 0 | D76: ='Skupina pompony klasik'!H20 -> 0 | I76: ='Skupina pompony klasik'!M20 -> 0 | J76: ='Skupina pompony klasik'!P20 -> 0 | K76: ='Skupina pompony klasik'!Q20 -> 0 | L76: ='Skupina pompony klasik'!R20 -> 0 | Q76: ='Skupina pompony klasik'!W20 -> 0 | R76: ='Skupina pompony klasik'!Z20 -> 0 | S76: ='Skupina pompony klasik'!AA20 -> 0 | T76: ='Skupina pompony klasik'!AB20 -> 0
A77: ='Skupina pompony klasik'!C21 -> 0 | B77: ='Skupina pompony klasik'!F21 -> 0 | C77: ='Skupina pompony klasik'!G21 -> 0 | D77: ='Skupina pompony klasik'!H21 -> 0 | I77: ='Skupina pompony klasik'!M21 -> 0 | J77: ='Skupina pompony klasik'!P21 -> 0 | K77: ='Skupina pompony klasik'!Q21 -> 0 | L77: ='Skupina pompony klasik'!R21 -> 0 | Q77: ='Skupina pompony klasik'!W21 -> 0 | R77: ='Skupina pompony klasik'!Z21 -> 0 | S77: ='Skupina pompony klasik'!AA21 -> 0 | T77: ='Skupina pompony klasik'!AB21 -> 0
A78: ='Skupina pompony klasik'!C22 -> 0 | B78: ='Skupina pompony klasik'!F22 -> 0 | C78: ='Skupina pompony klasik'!G22 -> 0 | D78: ='Skupina pompony klasik'!H22 -> 0 | I78: ='Skupina pompony klasik'!M22 -> 0 | J78: ='Skupina pompony klasik'!P22 -> 0 | K78: ='Skupina pompony klasik'!Q22 -> 0 | L78: ='Skupina pompony klasik'!R22 -> 0 | Q78: ='Skupina pompony klasik'!W22 -> 0 | R78: ='Skupina pompony klasik'!Z22 -> 0 | S78: ='Skupina pompony klasik'!AA22 -> 0 | T78: ='Skupina pompony klasik'!AB22 -> 0
A79: ='Skupina pompony klasik'!C23 -> 0 | B79: ='Skupina pompony klasik'!F23 -> 0 | C79: ='Skupina pompony klasik'!G23 -> 0 | D79: ='Skupina pompony klasik'!H23 -> 0 | I79: ='Skupina pompony klasik'!M23 -> 0 | J79: ='Skupina pompony klasik'!P23 -> 0 | K79: ='Skupina pompony klasik'!Q23 -> 0 | L79: ='Skupina pompony klasik'!R23 -> 0 | Q79: ='Skupina pompony klasik'!W23 -> 0 | R79: ='Skupina pompony klasik'!Z23 -> 0 | S79: ='Skupina pompony klasik'!AA23 -> 0 | T79: ='Skupina pompony klasik'!AB23 -> 0
A80: ='Skupina pompony klasik'!C24 -> 0 | B80: ='Skupina pompony klasik'!F24 -> 0 | C80: ='Skupina pompony klasik'!G24 -> 0 | D80: ='Skupina pompony klasik'!H24 -> 0 | I80: ='Skupina pompony klasik'!M24 -> 0 | J80: ='Skupina pompony klasik'!P24 -> 0 | K80: ='Skupina pompony klasik'!Q24 -> 0 | L80: ='Skupina pompony klasik'!R24 -> 0 | Q80: ='Skupina pompony klasik'!W24 -> 0 | R80: ='Skupina pompony klasik'!Z24 -> 0 | S80: ='Skupina pompony klasik'!AA24 -> 0 | T80: ='Skupina pompony klasik'!AB24 -> 0
A81: ='Skupina pompony klasik'!C25 -> 0 | B81: ='Skupina pompony klasik'!F25 -> 0 | C81: ='Skupina pompony klasik'!G25 -> 0 | D81: ='Skupina pompony klasik'!H25 -> 0 | I81: ='Skupina pompony klasik'!M25 -> 0 | J81: ='Skupina pompony klasik'!P25 -> 0 | K81: ='Skupina pompony klasik'!Q25 -> 0 | L81: ='Skupina pompony klasik'!R25 -> 0 | Q81: ='Skupina pompony klasik'!W25 -> 0 | R81: ='Skupina pompony klasik'!Z25 -> 0 | S81: ='Skupina pompony klasik'!AA25 -> 0 | T81: ='Skupina pompony klasik'!AB25 -> 0
A82: ='Skupina pompony klasik'!C26 -> 0 | B82: ='Skupina pompony klasik'!F26 -> 0 | C82: ='Skupina pompony klasik'!G26 -> 0 | D82: ='Skupina pompony klasik'!H26 -> 0 | I82: ='Skupina pompony klasik'!M26 -> 0 | J82: ='Skupina pompony klasik'!P26 -> 0 | K82: ='Skupina pompony klasik'!Q26 -> 0 | L82: ='Skupina pompony klasik'!R26 -> 0 | Q82: ='Skupina pompony klasik'!W26 -> 0 | R82: ='Skupina pompony klasik'!Z26 -> 0 | S82: ='Skupina pompony klasik'!AA26 -> 0 | T82: ='Skupina pompony klasik'!AB26 -> 0
A83: ='Skupina pompony klasik'!C27 -> 0 | B83: ='Skupina pompony klasik'!F27 -> 0 | C83: ='Skupina pompony klasik'!G27 -> 0 | D83: ='Skupina pompony klasik'!H27 -> 0 | I83: ='Skupina pompony klasik'!M27 -> 0 | J83: ='Skupina pompony klasik'!P27 -> 0 | K83: ='Skupina pompony klasik'!Q27 -> 0 | L83: ='Skupina pompony klasik'!R27 -> 0 | Q83: ='Skupina pompony klasik'!W27 -> 0 | R83: ='Skupina pompony klasik'!Z27 -> 0 | S83: ='Skupina pompony klasik'!AA27 -> 0 | T83: ='Skupina pompony klasik'!AB27 -> 0
A84: ='Skupina pompony klasik'!C28 -> 0 | B84: ='Skupina pompony klasik'!F28 -> 0 | C84: ='Skupina pompony klasik'!G28 -> 0 | D84: ='Skupina pompony klasik'!H28 -> 0 | I84: ='Skupina pompony klasik'!M28 -> 0 | J84: ='Skupina pompony klasik'!P28 -> 0 | K84: ='Skupina pompony klasik'!Q28 -> 0 | L84: ='Skupina pompony klasik'!R28 -> 0 | Q84: ='Skupina pompony klasik'!W28 -> 0 | R84: ='Skupina pompony klasik'!Z28 -> 0 | S84: ='Skupina pompony klasik'!AA28 -> 0 | T84: ='Skupina pompony klasik'!AB28 -> 0
... A96: ='Skupina pompony klasik'!C40 -> 0 | B96: ='Skupina pompony klasik'!F40 -> 0 | C96: ='Skupina pompony klasik'!G40 -> 0 | D96: ='Skupina pompony klasik'!H40 -> 0 | I96: ='Skupina pompony klasik'!M40 -> 0 | J96: ='Skupina pompony klasik'!P40 -> 0 | K96: ='Skupina pompony klasik'!Q40 -> 0 | L96: ='Skupina pompony klasik'!R40 -> 0 | Q96: ='Skupina pompony klasik'!W40 -> 0 | R96: ='Skupina pompony klasik'!Z40 -> 0 | S96: ='Skupina pompony klasik'!AA40 -> 0 | T96: ='Skupina pompony klasik'!AB40 -> 0
A97: jméno | B97: den | C97: měsíc | D97: rok | E97: skupina | F97: město | G97: kat. | I97: jméno | J97: den | K97: měsíc | L97: rok | M97: skupina | N97: město | O97: kat. | Q97: jméno | R97: den | S97: měsíc | T97: rok | U97: skupina | V97: město | W97: kat. | X97: Miniformace mix
A98: ='Miniformace mix'!C16 -> 0 | B98: ='Miniformace mix'!F16 -> 0 | C98: ='Miniformace mix'!G16 -> 0 | D98: ='Miniformace mix'!H16 -> 0 | E98: ='Miniformace mix'!E4 -> 0 | F98: ='Miniformace mix'!E5 -> 0 | G98: ='Miniformace mix'!F10 -> #DIV/0! | I98: ='Miniformace mix'!M16 -> 0 | J98: ='Miniformace mix'!P16 -> 0 | K98: ='Miniformace mix'!Q16 -> 0 | L98: ='Miniformace mix'!R16 -> 0 | M98: ='Miniformace mix'!O4 -> 0 | N98: ='Miniformace mix'!O5 -> 0 | O98: ='Miniformace mix'!P10 -> #DIV/0! | Q98: ='Miniformace mix'!W16 -> 0 | R98: ='Miniformace mix'!Z16 -> 0 | S98: ='Miniformace mix'!AA16 -> 0 | T98: ='Miniformace mix'!AB16 -> 0 | U98: ='Miniformace mix'!Y4 -> 0 | V98: ='Miniformace mix'!Y5 -> 0 | W98: ='Miniformace mix'!Z10 -> #DIV/0!
A99: ='Miniformace mix'!C17 -> 0 | B99: ='Miniformace mix'!F17 -> 0 | C99: ='Miniformace mix'!G17 -> 0 | D99: ='Miniformace mix'!H17 -> 0 | I99: ='Miniformace mix'!M17 -> 0 | J99: ='Miniformace mix'!P17 -> 0 | K99: ='Miniformace mix'!Q17 -> 0 | L99: ='Miniformace mix'!R17 -> 0 | Q99: ='Miniformace mix'!W17 -> 0 | R99: ='Miniformace mix'!Z17 -> 0 | S99: ='Miniformace mix'!AA17 -> 0 | T99: ='Miniformace mix'!AB17 -> 0
A100: ='Miniformace mix'!C18 -> 0 | B100: ='Miniformace mix'!F18 -> 0 | C100: ='Miniformace mix'!G18 -> 0 | D100: ='Miniformace mix'!H18 -> 0 | I100: ='Miniformace mix'!M18 -> 0 | J100: ='Miniformace mix'!P18 -> 0 | K100: ='Miniformace mix'!Q18 -> 0 | L100: ='Miniformace mix'!R18 -> 0 | Q100: ='Miniformace mix'!W18 -> 0 | R100: ='Miniformace mix'!Z18 -> 0 | S100: ='Miniformace mix'!AA18 -> 0 | T100: ='Miniformace mix'!AB18 -> 0
A101: ='Miniformace mix'!C19 -> 0 | B101: ='Miniformace mix'!F19 -> 0 | C101: ='Miniformace mix'!G19 -> 0 | D101: ='Miniformace mix'!H19 -> 0 | I101: ='Miniformace mix'!M19 -> 0 | J101: ='Miniformace mix'!P19 -> 0 | K101: ='Miniformace mix'!Q19 -> 0 | L101: ='Miniformace mix'!R19 -> 0 | Q101: ='Miniformace mix'!W19 -> 0 | R101: ='Miniformace mix'!Z19 -> 0 | S101: ='Miniformace mix'!AA19 -> 0 | T101: ='Miniformace mix'!AB19 -> 0
A102: ='Miniformace mix'!C20 -> 0 | B102: ='Miniformace mix'!F20 -> 0 | C102: ='Miniformace mix'!G20 -> 0 | D102: ='Miniformace mix'!H20 -> 0 | I102: ='Miniformace mix'!M20 -> 0 | J102: ='Miniformace mix'!P20 -> 0 | K102: ='Miniformace mix'!Q20 -> 0 | L102: ='Miniformace mix'!R20 -> 0 | Q102: ='Miniformace mix'!W20 -> 0 | R102: ='Miniformace mix'!Z20 -> 0 | S102: ='Miniformace mix'!AA20 -> 0 | T102: ='Miniformace mix'!AB20 -> 0
A103: ='Miniformace mix'!C21 -> 0 | B103: ='Miniformace mix'!F21 -> 0 | C103: ='Miniformace mix'!G21 -> 0 | D103: ='Miniformace mix'!H21 -> 0 | I103: ='Miniformace mix'!M21 -> 0 | J103: ='Miniformace mix'!P21 -> 0 | K103: ='Miniformace mix'!Q21 -> 0 | L103: ='Miniformace mix'!R21 -> 0 | Q103: ='Miniformace mix'!W21 -> 0 | R103: ='Miniformace mix'!Z21 -> 0 | S103: ='Miniformace mix'!AA21 -> 0 | T103: ='Miniformace mix'!AB21 -> 0
A104: ='Miniformace mix'!C22 -> 0 | B104: ='Miniformace mix'!F22 -> 0 | C104: ='Miniformace mix'!G22 -> 0 | D104: ='Miniformace mix'!H22 -> 0 | I104: ='Miniformace mix'!M22 -> 0 | J104: ='Miniformace mix'!P22 -> 0 | K104: ='Miniformace mix'!Q22 -> 0 | L104: ='Miniformace mix'!R22 -> 0 | Q104: ='Miniformace mix'!W22 -> 0 | R104: ='Miniformace mix'!Z22 -> 0 | S104: ='Miniformace mix'!AA22 -> 0 | T104: ='Miniformace mix'!AB22 -> 0

Sheet Seznam 2
A1: jméno | B1: skupina | C1: den | D1: měsíc | E1: rok | F1: Sólo baton | H1: jméno | I1: skupina | J1: den | K1: měsíc | L1: rok | M1: Sólo pompony | O1: jméno | P1: skupina | Q1: den | R1: měsíc | S1: rok | T1: Sólo pompony klasik
A2: ='Sólo baton'!C8 -> 0 | B2: ='Sólo baton'!F8 -> 0 | C2: ='Sólo baton'!H8 -> 0 | D2: ='Sólo baton'!I8 -> 0 | E2: ='Sólo baton'!J8 -> 0 | H2: ='Sólo pompony'!C8 -> 0 | I2: ='Sólo pompony'!F8 -> 0 | J2: ='Sólo pompony'!H8 -> 0 | K2: ='Sólo pompony'!I8 -> 0 | L2: ='Sólo pompony'!J8 -> 0 | O2: ='Sólo pompony klasik'!C8 -> 0 | P2: ='Sólo pompony klasik'!F8 -> 0 | Q2: ='Sólo pompony klasik'!H8 -> 0 | R2: ='Sólo pompony klasik'!I8 -> 0 | S2: ='Sólo pompony klasik'!J8 -> 0
A3: ='Sólo baton'!C9 -> 0 | B3: ='Sólo baton'!F9 -> 0 | C3: ='Sólo baton'!H9 -> 0 | D3: ='Sólo baton'!I9 -> 0 | E3: ='Sólo baton'!J9 -> 0 | H3: ='Sólo pompony'!C9 -> 0 | I3: ='Sólo pompony'!F9 -> 0 | J3: ='Sólo pompony'!H9 -> 0 | K3: ='Sólo pompony'!I9 -> 0 | L3: ='Sólo pompony'!J9 -> 0 | O3: ='Sólo pompony klasik'!C9 -> 0 | P3: ='Sólo pompony klasik'!F9 -> 0 | Q3: ='Sólo pompony klasik'!H9 -> 0 | R3: ='Sólo pompony klasik'!I9 -> 0 | S3: ='Sólo pompony klasik'!J9 -> 0
A4: ='Sólo baton'!C10 -> 0 | B4: ='Sólo baton'!F10 -> 0 | C4: ='Sólo baton'!H10 -> 0 | D4: ='Sólo baton'!I10 -> 0 | E4: ='Sólo baton'!J10 -> 0 | H4: ='Sólo pompony'!C10 -> 0 | I4: ='Sólo pompony'!F10 -> 0 | J4: ='Sólo pompony'!H10 -> 0 | K4: ='Sólo pompony'!I10 -> 0 | L4: ='Sólo pompony'!J10 -> 0 | O4: ='Sólo pompony klasik'!C10 -> 0 | P4: ='Sólo pompony klasik'!F10 -> 0 | Q4: ='Sólo pompony klasik'!H10 -> 0 | R4: ='Sólo pompony klasik'!I10 -> 0 | S4: ='Sólo pompony klasik'!J10 -> 0
A5: ='Sólo baton'!C11 -> 0 | B5: ='Sólo baton'!F11 -> 0 | C5: ='Sólo baton'!H11 -> 0 | D5: ='Sólo baton'!I11 -> 0 | E5: ='Sólo baton'!J11 -> 0 | H5: ='Sólo pompony'!C11 -> 0 | I5: ='Sólo pompony'!F11 -> 0 | J5: ='Sólo pompony'!H11 -> 0 | K5: ='Sólo pompony'!I11 -> 0 | L5: ='Sólo pompony'!J11 -> 0 | O5: ='Sólo pompony klasik'!C11 -> 0 | P5: ='Sólo pompony klasik'!F11 -> 0 | Q5: ='Sólo pompony klasik'!H11 -> 0 | R5: ='Sólo pompony klasik'!I11 -> 0 | S5: ='Sólo pompony klasik'!J11 -> 0
A6: ='Sólo baton'!C12 -> 0 | B6: ='Sólo baton'!F12 -> 0 | C6: ='Sólo baton'!H12 -> 0 | D6: ='Sólo baton'!I12 -> 0 | E6: ='Sólo baton'!J12 -> 0 | H6: ='Sólo pompony'!C12 -> 0 | I6: ='Sólo pompony'!F12 -> 0 | J6: ='Sólo pompony'!H12 -> 0 | K6: ='Sólo pompony'!I12 -> 0 | L6: ='Sólo pompony'!J12 -> 0 | O6: ='Sólo pompony klasik'!C12 -> 0 | P6: ='Sólo pompony klasik'!F12 -> 0 | Q6: ='Sólo pompony klasik'!H12 -> 0 | R6: ='Sólo pompony klasik'!I12 -> 0 | S6: ='Sólo pompony klasik'!J12 -> 0
A7: ='Sólo baton'!C13 -> 0 | B7: ='Sólo baton'!F13 -> 0 | C7: ='Sólo baton'!H13 -> 0 | D7: ='Sólo baton'!I13 -> 0 | E7: ='Sólo baton'!J13 -> 0 | H7: ='Sólo pompony'!C13 -> 0 | I7: ='Sólo pompony'!F13 -> 0 | J7: ='Sólo pompony'!H13 -> 0 | K7: ='Sólo pompony'!I13 -> 0 | L7: ='Sólo pompony'!J13 -> 0 | O7: ='Sólo pompony klasik'!C13 -> 0 | P7: ='Sólo pompony klasik'!F13 -> 0 | Q7: ='Sólo pompony klasik'!H13 -> 0 | R7: ='Sólo pompony klasik'!I13 -> 0 | S7: ='Sólo pompony klasik'!J13 -> 0
A8: ='Sólo baton'!C14 -> 0 | B8: ='Sólo baton'!F14 -> 0 | C8: ='Sólo baton'!H14 -> 0 | D8: ='Sólo baton'!I14 -> 0 | E8: ='Sólo baton'!J14 -> 0 | H8: ='Sólo pompony'!C14 -> 0 | I8: ='Sólo pompony'!F14 -> 0 | J8: ='Sólo pompony'!H14 -> 0 | K8: ='Sólo pompony'!I14 -> 0 | L8: ='Sólo pompony'!J14 -> 0 | O8: ='Sólo pompony klasik'!C14 -> 0 | P8: ='Sólo pompony klasik'!F14 -> 0 | Q8: ='Sólo pompony klasik'!H14 -> 0 | R8: ='Sólo pompony klasik'!I14 -> 0 | S8: ='Sólo pompony klasik'!J14 -> 0
A9: ='Sólo baton'!C15 -> 0 | B9: ='Sólo baton'!F15 -> 0 | C9: ='Sólo baton'!H15 -> 0 | D9: ='Sólo baton'!I15 -> 0 | E9: ='Sólo baton'!J15 -> 0 | H9: ='Sólo pompony'!C15 -> 0 | I9: ='Sólo pompony'!F15 -> 0 | J9: ='Sólo pompony'!H15 -> 0 | K9: ='Sólo pompony'!I15 -> 0 | L9: ='Sólo pompony'!J15 -> 0 | O9: ='Sólo pompony klasik'!C15 -> 0 | P9: ='Sólo pompony klasik'!F15 -> 0 | Q9: ='Sólo pompony klasik'!H15 -> 0 | R9: ='Sólo pompony klasik'!I15 -> 0 | S9: ='Sólo pompony klasik'!J15 -> 0
A10: ='Sólo baton'!C16 -> 0 | B10: ='Sólo baton'!F16 -> 0 | C10: ='Sólo baton'!H16 -> 0 | D10: ='Sólo baton'!I16 -> 0 | E10: ='Sólo baton'!J16 -> 0 | H10: ='Sólo pompony'!C16 -> 0 | I10: ='Sólo pompony'!F16 -> 0 | J10: ='Sólo pompony'!H16 -> 0 | K10: ='Sólo pompony'!I16 -> 0 | L10: ='Sólo pompony'!J16 -> 0 | O10: ='Sólo pompony klasik'!C16 -> 0 | P10: ='Sólo pompony klasik'!F16 -> 0 | Q10: ='Sólo pompony klasik'!H16 -> 0 | R10: ='Sólo pompony klasik'!I16 -> 0 | S10: ='Sólo pompony klasik'!J16 -> 0
A11: ='Sólo baton'!C17 -> 0 | B11: ='Sólo baton'!F17 -> 0 | C11: ='Sólo baton'!H17 -> 0 | D11: ='Sólo baton'!I17 -> 0 | E11: ='Sólo baton'!J17 -> 0 | H11: ='Sólo pompony'!C17 -> 0 | I11: ='Sólo pompony'!F17 -> 0 | J11: ='Sólo pompony'!H17 -> 0 | K11: ='Sólo pompony'!I17 -> 0 | L11: ='Sólo pompony'!J17 -> 0 | O11: ='Sólo pompony klasik'!C17 -> 0 | P11: ='Sólo pompony klasik'!F17 -> 0 | Q11: ='Sólo pompony klasik'!H17 -> 0 | R11: ='Sólo pompony klasik'!I17 -> 0 | S11: ='Sólo pompony klasik'!J17 -> 0
A12: ='Sólo baton'!C18 -> 0 | B12: ='Sólo baton'!F18 -> 0 | C12: ='Sólo baton'!H18 -> 0 | D12: ='Sólo baton'!I18 -> 0 | E12: ='Sólo baton'!J18 -> 0 | H12: ='Sólo pompony'!C18 -> 0 | I12: ='Sólo pompony'!F18 -> 0 | J12: ='Sólo pompony'!H18 -> 0 | K12: ='Sólo pompony'!I18 -> 0 | L12: ='Sólo pompony'!J18 -> 0 | O12: ='Sólo pompony klasik'!C18 -> 0 | P12: ='Sólo pompony klasik'!F18 -> 0 | Q12: ='Sólo pompony klasik'!H18 -> 0 | R12: ='Sólo pompony klasik'!I18 -> 0 | S12: ='Sólo pompony klasik'!J18 -> 0
A13: ='Sólo baton'!C19 -> 0 | B13: ='Sólo baton'!F19 -> 0 | C13: ='Sólo baton'!H19 -> 0 | D13: ='Sólo baton'!I19 -> 0 | E13: ='Sólo baton'!J19 -> 0 | H13: ='Sólo pompony'!C19 -> 0 | I13: ='Sólo pompony'!F19 -> 0 | J13: ='Sólo pompony'!H19 -> 0 | K13: ='Sólo pompony'!I19 -> 0 | L13: ='Sólo pompony'!J19 -> 0 | O13: ='Sólo pompony klasik'!C19 -> 0 | P13: ='Sólo pompony klasik'!F19 -> 0 | Q13: ='Sólo pompony klasik'!H19 -> 0 | R13: ='Sólo pompony klasik'!I19 -> 0 | S13: ='Sólo pompony klasik'!J19 -> 0
... A16: ='Sólo baton'!C22 -> 0 | B16: ='Sólo baton'!F22 -> 0 | C16: ='Sólo baton'!H22 -> 0 | D16: ='Sólo baton'!I22 -> 0 | E16: ='Sólo baton'!J22 -> 0 | H16: ='Sólo pompony'!C22 -> 0 | I16: ='Sólo pompony'!F22 -> 0 | J16: ='Sólo pompony'!H22 -> 0 | K16: ='Sólo pompony'!I22 -> 0 | L16: ='Sólo pompony'!J22 -> 0 | O16: ='Sólo pompony klasik'!C22 -> 0 | P16: ='Sólo pompony klasik'!F22 -> 0 | Q16: ='Sólo pompony klasik'!H22 -> 0 | R16: ='Sólo pompony klasik'!I22 -> 0 | S16: ='Sólo pompony klasik'!J22 -> 0
A17: jméno | B17: skupina | C17: den | D17: měsíc | E17: rok | F17: Duo, trio baton | H17: jméno | I17: skupina | J17: den | K17: měsíc | L17: rok | M17: Duo, trio pompony | O17: jméno | P17: skupina | Q17: den | R17: měsíc | S17: rok | T17: Duo, trio pompony klasik
A18: ='Duo, trio baton'!C8 -> 0 | B18: ='Duo, trio baton'!F8 -> 0 | C18: ='Duo, trio baton'!H8 -> 0 | D18: ='Duo, trio baton'!I8 -> 0 | E18: ='Duo, trio baton'!J8 -> 0 | H18: ='Duo, trio pompony'!C8 -> 0 | I18: ='Duo, trio pompony'!F8 -> 0 | J18: ='Duo, trio pompony'!H8 -> 0 | K18: ='Duo, trio pompony'!I8 -> 0 | L18: ='Duo, trio pompony'!J8 -> 0 | O18: ='Duo, trio pompony klasik'!C8 -> 0 | P18: ='Duo, trio pompony klasik'!F8 -> 0 | Q18: ='Duo, trio pompony klasik'!H8 -> 0 | R18: ='Duo, trio pompony klasik'!I8 -> 0 | S18: ='Duo, trio pompony klasik'!J8 -> 0
A19: ='Duo, trio baton'!C9 -> 0 | B19: =$B$18 -> 0 | C19: ='Duo, trio baton'!H9 -> 0 | D19: ='Duo, trio baton'!I9 -> 0 | E19: ='Duo, trio baton'!J9 -> 0 | H19: ='Duo, trio pompony'!C9 -> 0 | I19: =$I$18 -> 0 | J19: ='Duo, trio pompony'!H9 -> 0 | K19: ='Duo, trio pompony'!I9 -> 0 | L19: ='Duo, trio pompony'!J9 -> 0 | O19: ='Duo, trio pompony klasik'!C9 -> 0 | P19: ='Duo, trio pompony klasik'!F8 -> 0 | Q19: ='Duo, trio pompony klasik'!H9 -> 0 | R19: ='Duo, trio pompony klasik'!I9 -> 0 | S19: ='Duo, trio pompony klasik'!J9 -> 0
A20: ='Duo, trio baton'!C10 -> 0 | B20: =$B$18 -> 0 | C20: ='Duo, trio baton'!H10 -> 0 | D20: ='Duo, trio baton'!I10 -> 0 | E20: ='Duo, trio baton'!J10 -> 0 | H20: ='Duo, trio pompony'!C10 -> 0 | I20: =$I$18 -> 0 | J20: ='Duo, trio pompony'!H10 -> 0 | K20: ='Duo, trio pompony'!I10 -> 0 | L20: ='Duo, trio pompony'!J10 -> 0 | O20: ='Duo, trio pompony klasik'!C10 -> 0 | P20: ='Duo, trio pompony klasik'!F8 -> 0 | Q20: ='Duo, trio pompony klasik'!H10 -> 0 | R20: ='Duo, trio pompony klasik'!I10 -> 0 | S20: ='Duo, trio pompony klasik'!J10 -> 0
A21: ='Duo, trio baton'!C11 -> 0 | B21: ='Duo, trio baton'!F11 -> 0 | C21: ='Duo, trio baton'!H11 -> 0 | D21: ='Duo, trio baton'!I11 -> 0 | E21: ='Duo, trio baton'!J11 -> 0 | H21: ='Duo, trio pompony'!C11 -> 0 | I21: ='Duo, trio pompony'!F11 -> 0 | J21: ='Duo, trio pompony'!H11 -> 0 | K21: ='Duo, trio pompony'!I11 -> 0 | L21: ='Duo, trio pompony'!J11 -> 0 | O21: ='Duo, trio pompony klasik'!C11 -> 0 | P21: ='Duo, trio pompony klasik'!F11 -> 0 | Q21: ='Duo, trio pompony klasik'!H11 -> 0 | R21: ='Duo, trio pompony klasik'!I11 -> 0 | S21: ='Duo, trio pompony klasik'!J11 -> 0
A22: ='Duo, trio baton'!C12 -> 0 | B22: =$B$21 -> 0 | C22: ='Duo, trio baton'!H12 -> 0 | D22: ='Duo, trio baton'!I12 -> 0 | E22: ='Duo, trio baton'!J12 -> 0 | H22: ='Duo, trio pompony'!C12 -> 0 | I22: =$I$21 -> 0 | J22: ='Duo, trio pompony'!H12 -> 0 | K22: ='Duo, trio pompony'!I12 -> 0 | L22: ='Duo, trio pompony'!J12 -> 0 | O22: ='Duo, trio pompony klasik'!C12 -> 0 | P22: ='Duo, trio pompony klasik'!F11 -> 0 | Q22: ='Duo, trio pompony klasik'!H12 -> 0 | R22: ='Duo, trio pompony klasik'!I12 -> 0 | S22: ='Duo, trio pompony klasik'!J12 -> 0
A23: ='Duo, trio baton'!C13 -> 0 | B23: =$B$21 -> 0 | C23: ='Duo, trio baton'!H13 -> 0 | D23: ='Duo, trio baton'!I13 -> 0 | E23: ='Duo, trio baton'!J13 -> 0 | H23: ='Duo, trio pompony'!C13 -> 0 | I23: =$I$21 -> 0 | J23: ='Duo, trio pompony'!H13 -> 0 | K23: ='Duo, trio pompony'!I13 -> 0 | L23: ='Duo, trio pompony'!J13 -> 0 | O23: ='Duo, trio pompony klasik'!C13 -> 0 | P23: ='Duo, trio pompony klasik'!F11 -> 0 | Q23: ='Duo, trio pompony klasik'!H11 -> 0 | R23: ='Duo, trio pompony klasik'!I13 -> 0 | S23: ='Duo, trio pompony klasik'!J13 -> 0
A24: ='Duo, trio baton'!C14 -> 0 | B24: ='Duo, trio baton'!F14 -> 0 | C24: ='Duo, trio baton'!H14 -> 0 | D24: ='Duo, trio baton'!I14 -> 0 | E24: ='Duo, trio baton'!J14 -> 0 | H24: ='Duo, trio pompony'!C14 -> 0 | I24: ='Duo, trio pompony'!F14 -> 0 | J24: ='Duo, trio pompony'!H14 -> 0 | K24: ='Duo, trio pompony'!I14 -> 0 | L24: ='Duo, trio pompony'!J14 -> 0 | O24: ='Duo, trio pompony klasik'!C14 -> 0 | P24: ='Duo, trio pompony klasik'!F14 -> 0 | Q24: ='Duo, trio pompony klasik'!H14 -> 0 | R24: ='Duo, trio pompony klasik'!I14 -> 0 | S24: ='Duo, trio pompony klasik'!J14 -> 0
A25: ='Duo, trio baton'!C15 -> 0 | B25: =$B$24 -> 0 | C25: ='Duo, trio baton'!H15 -> 0 | D25: ='Duo, trio baton'!I15 -> 0 | E25: ='Duo, trio baton'!J15 -> 0 | H25: ='Duo, trio pompony'!C15 -> 0 | I25: =$I$24 -> 0 | J25: ='Duo, trio pompony'!H15 -> 0 | K25: ='Duo, trio pompony'!I15 -> 0 | L25: ='Duo, trio pompony'!J15 -> 0 | O25: ='Duo, trio pompony klasik'!C15 -> 0 | P25: ='Duo, trio pompony klasik'!F14 -> 0 | Q25: ='Duo, trio pompony klasik'!H15 -> 0 | R25: ='Duo, trio pompony klasik'!I15 -> 0 | S25: ='Duo, trio pompony klasik'!J15 -> 0
A26: ='Duo, trio baton'!C16 -> 0 | B26: =$B$24 -> 0 | C26: ='Duo, trio baton'!H16 -> 0 | D26: ='Duo, trio baton'!I16 -> 0 | E26: ='Duo, trio baton'!J16 -> 0 | H26: ='Duo, trio pompony'!C16 -> 0 | I26: =$I$24 -> 0 | J26: ='Duo, trio pompony'!H16 -> 0 | K26: ='Duo, trio pompony'!I16 -> 0 | L26: ='Duo, trio pompony'!J16 -> 0 | O26: ='Duo, trio pompony klasik'!C16 -> 0 | P26: ='Duo, trio pompony klasik'!F14 -> 0 | Q26: ='Duo, trio pompony klasik'!H16 -> 0 | R26: ='Duo, trio pompony klasik'!I16 -> 0 | S26: ='Duo, trio pompony klasik'!J16 -> 0
A27: ='Duo, trio baton'!C17 -> 0 | B27: ='Duo, trio baton'!F17 -> 0 | C27: ='Duo, trio baton'!H17 -> 0 | D27: ='Duo, trio baton'!I17 -> 0 | E27: ='Duo, trio baton'!J17 -> 0 | H27: ='Duo, trio pompony'!C17 -> 0 | I27: ='Duo, trio pompony'!F17 -> 0 | J27: ='Duo, trio pompony'!H17 -> 0 | K27: ='Duo, trio pompony'!I17 -> 0 | L27: ='Duo, trio pompony'!J17 -> 0 | O27: ='Duo, trio pompony klasik'!C17 -> 0 | P27: ='Duo, trio pompony klasik'!F17 -> 0 | Q27: ='Duo, trio pompony klasik'!H17 -> 0 | R27: ='Duo, trio pompony klasik'!I17 -> 0 | S27: ='Duo, trio pompony klasik'!J17 -> 0
A28: ='Duo, trio baton'!C18 -> 0 | B28: =$B$27 -> 0 | C28: ='Duo, trio baton'!H18 -> 0 | D28: ='Duo, trio baton'!I18 -> 0 | E28: ='Duo, trio baton'!J18 -> 0 | H28: ='Duo, trio pompony'!C18 -> 0 | I28: =$I$27 -> 0 | J28: ='Duo, trio pompony'!H18 -> 0 | K28: ='Duo, trio pompony'!I18 -> 0 | L28: ='Duo, trio pompony'!J18 -> 0 | O28: ='Duo, trio pompony klasik'!C18 -> 0 | P28: ='Duo, trio pompony klasik'!F17 -> 0 | Q28: ='Duo, trio pompony klasik'!H18 -> 0 | R28: ='Duo, trio pompony klasik'!I18 -> 0 | S28: ='Duo, trio pompony klasik'!J18 -> 0
A29: ='Duo, trio baton'!C19 -> 0 | B29: =$B$27 -> 0 | C29: ='Duo, trio baton'!H19 -> 0 | D29: ='Duo, trio baton'!I19 -> 0 | E29: ='Duo, trio baton'!J19 -> 0 | H29: ='Duo, trio pompony'!C19 -> 0 | I29: =$I$27 -> 0 | J29: ='Duo, trio pompony'!H19 -> 0 | K29: ='Duo, trio pompony'!I19 -> 0 | L29: ='Duo, trio pompony'!J19 -> 0 | O29: ='Duo, trio pompony klasik'!C19 -> 0 | P29: ='Duo, trio pompony klasik'!F17 -> 0 | Q29: ='Duo, trio pompony klasik'!H19 -> 0 | R29: ='Duo, trio pompony klasik'!I19 -> 0 | S29: ='Duo, trio pompony klasik'!J19 -> 0
A30: ='Duo, trio baton'!C20 -> 0 | B30: ='Duo, trio baton'!F20 -> 0 | C30: ='Duo, trio baton'!H20 -> 0 | D30: ='Duo, trio baton'!I20 -> 0 | E30: ='Duo, trio baton'!J20 -> 0 | H30: ='Duo, trio pompony'!C20 -> 0 | I30: ='Duo, trio pompony'!F20 -> 0 | J30: ='Duo, trio pompony'!H20 -> 0 | K30: ='Duo, trio pompony'!I20 -> 0 | L30: ='Duo, trio pompony'!J20 -> 0 | O30: ='Duo, trio pompony klasik'!C20 -> 0 | P30: ='Duo, trio pompony klasik'!F20 -> 0 | Q30: ='Duo, trio pompony klasik'!H20 -> 0 | R30: ='Duo, trio pompony klasik'!I20 -> 0 | S30: ='Duo, trio pompony klasik'!J20 -> 0
A31: ='Duo, trio baton'!C21 -> 0 | B31: =$B$30 -> 0 | C31: ='Duo, trio baton'!H21 -> 0 | D31: ='Duo, trio baton'!I21 -> 0 | E31: ='Duo, trio baton'!J21 -> 0 | H31: ='Duo, trio pompony'!C21 -> 0 | I31: =$I$30 -> 0 | J31: ='Duo, trio pompony'!H21 -> 0 | K31: ='Duo, trio pompony'!I21 -> 0 | L31: ='Duo, trio pompony'!J21 -> 0 | O31: ='Duo, trio pompony klasik'!C21 -> 0 | P31: ='Duo, trio pompony klasik'!F20 -> 0 | Q31: ='Duo, trio pompony klasik'!H21 -> 0 | R31: ='Duo, trio pompony klasik'!I21 -> 0 | S31: ='Duo, trio pompony klasik'!J21 -> 0
A32: ='Duo, trio baton'!C22 -> 0 | B32: =$B$30 -> 0 | C32: ='Duo, trio baton'!H22 -> 0 | D32: ='Duo, trio baton'!I22 -> 0 | E32: ='Duo, trio baton'!J22 -> 0 | H32: ='Duo, trio pompony'!C22 -> 0 | I32: =$I$30 -> 0 | J32: ='Duo, trio pompony'!H22 -> 0 | K32: ='Duo, trio pompony'!I22 -> 0 | L32: ='Duo, trio pompony'!J22 -> 0 | O32: ='Duo, trio pompony klasik'!C22 -> 0 | P32: ='Duo, trio pompony klasik'!F20 -> 0 | Q32: ='Duo, trio pompony klasik'!H22 -> 0 | R32: ='Duo, trio pompony klasik'!I22 -> 0 | S32: ='Duo, trio pompony klasik'!J22 -> 0
A33: ='Duo, trio baton'!C23 -> 0 | B33: ='Duo, trio baton'!F23 -> 0 | C33: ='Duo, trio baton'!H23 -> 0 | D33: ='Duo, trio baton'!I23 -> 0 | E33: ='Duo, trio baton'!J23 -> 0 | H33: ='Duo, trio pompony'!C23 -> 0 | I33: ='Duo, trio pompony'!F23 -> 0 | J33: ='Duo, trio pompony'!H23 -> 0 | K33: ='Duo, trio pompony'!I23 -> 0 | L33: ='Duo, trio pompony'!J23 -> 0 | O33: ='Duo, trio pompony klasik'!C23 -> 0 | P33: ='Duo, trio pompony klasik'!F23 -> 0 | Q33: ='Duo, trio pompony klasik'!H23 -> 0 | R33: ='Duo, trio pompony klasik'!I23 -> 0 | S33: ='Duo, trio pompony klasik'!J23 -> 0
A34: ='Duo, trio baton'!C24 -> 0 | B34: =$B$33 -> 0 | C34: ='Duo, trio baton'!H24 -> 0 | D34: ='Duo, trio baton'!I24 -> 0 | E34: ='Duo, trio baton'!J24 -> 0 | H34: ='Duo, trio pompony'!C24 -> 0 | I34: =$I$33 -> 0 | J34: ='Duo, trio pompony'!H24 -> 0 | K34: ='Duo, trio pompony'!I24 -> 0 | L34: ='Duo, trio pompony'!J24 -> 0 | O34: ='Duo, trio pompony klasik'!C24 -> 0 | P34: ='Duo, trio pompony klasik'!F23 -> 0 | Q34: ='Duo, trio pompony klasik'!H24 -> 0 | R34: ='Duo, trio pompony klasik'!I24 -> 0 | S34: ='Duo, trio pompony klasik'!J24 -> 0
A35: ='Duo, trio baton'!C25 -> 0 | B35: =$B$33 -> 0 | C35: ='Duo, trio baton'!H25 -> 0 | D35: ='Duo, trio baton'!I25 -> 0 | E35: ='Duo, trio baton'!J25 -> 0 | H35: ='Duo, trio pompony'!C25 -> 0 | I35: =$I$33 -> 0 | J35: ='Duo, trio pompony'!H25 -> 0 | K35: ='Duo, trio pompony'!I25 -> 0 | L35: ='Duo, trio pompony'!J25 -> 0 | O35: ='Duo, trio pompony klasik'!C25 -> 0 | P35: ='Duo, trio pompony klasik'!F23 -> 0 | Q35: ='Duo, trio pompony klasik'!H25 -> 0 | R35: ='Duo, trio pompony klasik'!I25 -> 0 | S35: ='Duo, trio pompony klasik'!J25 -> 0
A36: ='Duo, trio baton'!C26 -> 0 | B36: ='Duo, trio baton'!F26 -> 0 | C36: ='Duo, trio baton'!H26 -> 0 | D36: ='Duo, trio baton'!I26 -> 0 | E36: ='Duo, trio baton'!J26 -> 0 | H36: ='Duo, trio pompony'!C26 -> 0 | I36: ='Duo, trio pompony'!F26 -> 0 | J36: ='Duo, trio pompony'!H26 -> 0 | K36: ='Duo, trio pompony'!I26 -> 0 | L36: ='Duo, trio pompony'!J26 -> 0 | O36: ='Duo, trio pompony klasik'!C26 -> 0 | P36: ='Duo, trio pompony klasik'!F26 -> 0 | Q36: ='Duo, trio pompony klasik'!H26 -> 0 | R36: ='Duo, trio pompony klasik'!I26 -> 0 | S36: ='Duo, trio pompony klasik'!J26 -> 0
A37: ='Duo, trio baton'!C27 -> 0 | B37: =$B$36 -> 0 | C37: ='Duo, trio baton'!H27 -> 0 | D37: ='Duo, trio baton'!I27 -> 0 | E37: ='Duo, trio baton'!J27 -> 0 | H37: ='Duo, trio pompony'!C27 -> 0 | I37: =$I$36 -> 0 | J37: ='Duo, trio pompony'!H27 -> 0 | K37: ='Duo, trio pompony'!I27 -> 0 | L37: ='Duo, trio pompony'!J27 -> 0 | O37: ='Duo, trio pompony klasik'!C27 -> 0 | P37: ='Duo, trio pompony klasik'!F26 -> 0 | Q37: ='Duo, trio pompony klasik'!H27 -> 0 | R37: ='Duo, trio pompony klasik'!I27 -> 0 | S37: ='Duo, trio pompony klasik'!J27 -> 0
A38: ='Duo, trio baton'!C28 -> 0 | B38: =$B$36 -> 0 | C38: ='Duo, trio baton'!H28 -> 0 | D38: ='Duo, trio baton'!I28 -> 0 | E38: ='Duo, trio baton'!J28 -> 0 | H38: ='Duo, trio pompony'!C28 -> 0 | I38: =$I$36 -> 0 | J38: ='Duo, trio pompony'!H28 -> 0 | K38: ='Duo, trio pompony'!I28 -> 0 | L38: ='Duo, trio pompony'!J28 -> 0 | O38: ='Duo, trio pompony klasik'!C28 -> 0 | P38: ='Duo, trio pompony klasik'!F26 -> 0 | Q38: ='Duo, trio pompony klasik'!H28 -> 0 | R38: ='Duo, trio pompony klasik'!I28 -> 0 | S38: ='Duo, trio pompony klasik'!J28 -> 0
A39: ='Duo, trio baton'!C29 -> 0 | B39: ='Duo, trio baton'!F29 -> 0 | C39: ='Duo, trio baton'!H29 -> 0 | D39: ='Duo, trio baton'!I29 -> 0 | E39: ='Duo, trio baton'!J29 -> 0 | H39: ='Duo, trio pompony'!C29 -> 0 | I39: ='Duo, trio pompony'!F29 -> 0 | J39: ='Duo, trio pompony'!H29 -> 0 | K39: ='Duo, trio pompony'!I29 -> 0 | L39: ='Duo, trio pompony'!J29 -> 0 | O39: ='Duo, trio pompony klasik'!C29 -> 0 | P39: ='Duo, trio pompony klasik'!F29 -> 0 | Q39: ='Duo, trio pompony klasik'!H29 -> 0 | R39: ='Duo, trio pompony klasik'!I29 -> 0 | S39: ='Duo, trio pompony klasik'!J29 -> 0
A40: ='Duo, trio baton'!C30 -> 0 | B40: =$B$39 -> 0 | C40: ='Duo, trio baton'!H30 -> 0 | D40: ='Duo, trio baton'!I30 -> 0 | E40: ='Duo, trio baton'!J30 -> 0 | H40: ='Duo, trio pompony'!C30 -> 0 | I40: =$I$39 -> 0 | J40: ='Duo, trio pompony'!H30 -> 0 | K40: ='Duo, trio pompony'!I30 -> 0 | L40: ='Duo, trio pompony'!J30 -> 0 | O40: ='Duo, trio pompony klasik'!C30 -> 0 | P40: ='Duo, trio pompony klasik'!F29 -> 0 | Q40: ='Duo, trio pompony klasik'!H30 -> 0 | R40: ='Duo, trio pompony klasik'!I30 -> 0 | S40: ='Duo, trio pompony klasik'!J30 -> 0
A41: ='Duo, trio baton'!C31 -> 0 | B41: =$B$39 -> 0 | C41: ='Duo, trio baton'!H31 -> 0 | D41: ='Duo, trio baton'!I31 -> 0 | E41: ='Duo, trio baton'!J31 -> 0 | H41: ='Duo, trio pompony'!C31 -> 0 | I41: =$I$39 -> 0 | J41: ='Duo, trio pompony'!H31 -> 0 | K41: ='Duo, trio pompony'!I31 -> 0 | L41: ='Duo, trio pompony'!J31 -> 0 | O41: ='Duo, trio pompony klasik'!C31 -> 0 | P41: ='Duo, trio pompony klasik'!F29 -> 0 | Q41: ='Duo, trio pompony klasik'!H31 -> 0 | R41: ='Duo, trio pompony klasik'!I31 -> 0 | S41: ='Duo, trio pompony klasik'!J31 -> 0
A42: ='Duo, trio baton'!C32 -> 0 | B42: ='Duo, trio baton'!F32 -> 0 | C42: ='Duo, trio baton'!H32 -> 0 | D42: ='Duo, trio baton'!I32 -> 0 | E42: ='Duo, trio baton'!J32 -> 0 | H42: ='Duo, trio pompony'!C32 -> 0 | I42: ='Duo, trio pompony'!F32 -> 0 | J42: ='Duo, trio pompony'!H32 -> 0 | K42: ='Duo, trio pompony'!I32 -> 0 | L42: ='Duo, trio pompony'!J32 -> 0 | O42: ='Duo, trio pompony klasik'!C32 -> 0 | P42: ='Duo, trio pompony klasik'!F32 -> 0 | Q42: ='Duo, trio pompony klasik'!H32 -> 0 | R42: ='Duo, trio pompony klasik'!I32 -> 0 | S42: ='Duo, trio pompony klasik'!J32 -> 0
A43: ='Duo, trio baton'!C33 -> 0 | B43: =$B$42 -> 0 | C43: ='Duo, trio baton'!H33 -> 0 | D43: ='Duo, trio baton'!I33 -> 0 | E43: ='Duo, trio baton'!J33 -> 0 | H43: ='Duo, trio pompony'!C33 -> 0 | I43: =$I$42 -> 0 | J43: ='Duo, trio pompony'!H33 -> 0 | K43: ='Duo, trio pompony'!I33 -> 0 | L43: ='Duo, trio pompony'!J33 -> 0 | O43: ='Duo, trio pompony klasik'!C33 -> 0 | P43: ='Duo, trio pompony klasik'!F32 -> 0 | Q43: ='Duo, trio pompony klasik'!H33 -> 0 | R43: ='Duo, trio pompony klasik'!I33 -> 0 | S43: ='Duo, trio pompony klasik'!J33 -> 0
A44: ='Duo, trio baton'!C34 -> 0 | B44: =$B$42 -> 0 | C44: ='Duo, trio baton'!H34 -> 0 | D44: ='Duo, trio baton'!I34 -> 0 | E44: ='Duo, trio baton'!J34 -> 0 | H44: ='Duo, trio pompony'!C34 -> 0 | I44: =$I$42 -> 0 | J44: ='Duo, trio pompony'!H34 -> 0 | K44: ='Duo, trio pompony'!I34 -> 0 | L44: ='Duo, trio pompony'!J34 -> 0 | O44: ='Duo, trio pompony klasik'!C34 -> 0 | P44: ='Duo, trio pompony klasik'!F32 -> 0 | Q44: ='Duo, trio pompony klasik'!H34 -> 0 | R44: ='Duo, trio pompony klasik'!I34 -> 0 | S44: ='Duo, trio pompony klasik'!J34 -> 0
A45: jméno | B45: skupina | C45: den | D45: měsíc | E45: rok | F45: Sólo 2 baton | H45: jméno | I45: skupina | J45: den | K45: měsíc | L45: rok | M45: Sólo mece | O45: jméno | P45: skupina | Q45: den | R45: měsíc | S45: rok | T45: Sólo flag
A46: ='Sólo 2 baton'!C8 -> 0 | B46: ='Sólo 2 baton'!F8 -> 0 | C46: ='Sólo 2 baton'!H8 -> 0 | D46: ='Sólo 2 baton'!I8 -> 0 | E46: ='Sólo 2 baton'!J8 -> 0 | H46: ='Sólo mace'!C8 -> 0 | I46: ='Sólo mace'!F8 -> 0 | J46: ='Sólo mace'!H8 -> 0 | K46: ='Sólo mace'!I8 -> 0 | L46: ='Sólo mace'!J8 -> 0 | O46: ='Sólo flag'!C8 -> 0 | P46: ='Sólo flag'!F8 -> 0 | Q46: ='Sólo flag'!H8 -> 0 | R46: ='Sólo flag'!I8 -> 0 | S46: ='Sólo flag'!J8 -> 0
A47: ='Sólo 2 baton'!C9 -> 0 | B47: ='Sólo 2 baton'!F9 -> 0 | C47: ='Sólo 2 baton'!H9 -> 0 | D47: ='Sólo 2 baton'!I9 -> 0 | E47: ='Sólo 2 baton'!J9 -> 0 | H47: ='Sólo mace'!C9 -> 0 | I47: ='Sólo mace'!F9 -> 0 | J47: ='Sólo mace'!H9 -> 0 | K47: ='Sólo mace'!I9 -> 0 | L47: ='Sólo mace'!J9 -> 0 | O47: ='Sólo flag'!C9 -> 0 | P47: ='Sólo flag'!F9 -> 0 | Q47: ='Sólo flag'!H9 -> 0 | R47: ='Sólo flag'!I9 -> 0 | S47: ='Sólo flag'!J9 -> 0
A48: ='Sólo 2 baton'!C10 -> 0 | B48: ='Sólo 2 baton'!F10 -> 0 | C48: ='Sólo 2 baton'!H10 -> 0 | D48: ='Sólo 2 baton'!I10 -> 0 | E48: ='Sólo 2 baton'!J10 -> 0 | H48: ='Sólo mace'!C10 -> 0 | I48: ='Sólo mace'!F10 -> 0 | J48: ='Sólo mace'!H10 -> 0 | K48: ='Sólo mace'!I10 -> 0 | L48: ='Sólo mace'!J10 -> 0 | O48: ='Sólo flag'!C10 -> 0 | P48: ='Sólo flag'!F10 -> 0 | Q48: ='Sólo flag'!H10 -> 0 | R48: ='Sólo flag'!I10 -> 0 | S48: ='Sólo flag'!J10 -> 0
A49: ='Sólo 2 baton'!C11 -> 0 | B49: ='Sólo 2 baton'!F11 -> 0 | C49: ='Sólo 2 baton'!H11 -> 0 | D49: ='Sólo 2 baton'!I11 -> 0 | E49: ='Sólo 2 baton'!J11 -> 0 | H49: ='Sólo mace'!C11 -> 0 | I49: ='Sólo mace'!F11 -> 0 | J49: ='Sólo mace'!H11 -> 0 | K49: ='Sólo mace'!I11 -> 0 | L49: ='Sólo mace'!J11 -> 0 | O49: ='Sólo flag'!C11 -> 0 | P49: ='Sólo flag'!F11 -> 0 | Q49: ='Sólo flag'!H11 -> 0 | R49: ='Sólo flag'!I11 -> 0 | S49: ='Sólo flag'!J11 -> 0
A50: ='Sólo 2 baton'!C12 -> 0 | B50: ='Sólo 2 baton'!F12 -> 0 | C50: ='Sólo 2 baton'!H12 -> 0 | D50: ='Sólo 2 baton'!I12 -> 0 | E50: ='Sólo 2 baton'!J12 -> 0 | H50: ='Sólo mace'!C12 -> 0 | I50: ='Sólo mace'!F12 -> 0 | J50: ='Sólo mace'!H12 -> 0 | K50: ='Sólo mace'!I12 -> 0 | L50: ='Sólo mace'!J12 -> 0 | O50: ='Sólo flag'!C12 -> 0 | P50: ='Sólo flag'!F12 -> 0 | Q50: ='Sólo flag'!H12 -> 0 | R50: ='Sólo flag'!I12 -> 0 | S50: ='Sólo flag'!J12 -> 0
A51: ='Sólo 2 baton'!C13 -> 0 | B51: ='Sólo 2 baton'!F13 -> 0 | C51: ='Sólo 2 baton'!H13 -> 0 | D51: ='Sólo 2 baton'!I13 -> 0 | E51: ='Sólo 2 baton'!J13 -> 0 | H51: ='Sólo mace'!C13 -> 0 | I51: ='Sólo mace'!F13 -> 0 | J51: ='Sólo mace'!H13 -> 0 | K51: ='Sólo mace'!I13 -> 0 | L51: ='Sólo mace'!J13 -> 0 | O51: ='Sólo flag'!C13 -> 0 | P51: ='Sólo flag'!F13 -> 0 | Q51: ='Sólo flag'!H13 -> 0 | R51: ='Sólo flag'!I13 -> 0 | S51: ='Sólo flag'!J13 -> 0
A52: ='Sólo 2 baton'!C14 -> 0 | B52: ='Sólo 2 baton'!F14 -> 0 | C52: ='Sólo 2 baton'!H14 -> 0 | D52: ='Sólo 2 baton'!I14 -> 0 | E52: ='Sólo 2 baton'!J14 -> 0 | H52: ='Sólo mace'!C14 -> 0 | I52: ='Sólo mace'!F14 -> 0 | J52: ='Sólo mace'!H14 -> 0 | K52: ='Sólo mace'!I14 -> 0 | L52: ='Sólo mace'!J14 -> 0 | O52: ='Sólo flag'!C14 -> 0 | P52: ='Sólo flag'!F14 -> 0 | Q52: ='Sólo flag'!H14 -> 0 | R52: ='Sólo flag'!I14 -> 0 | S52: ='Sólo flag'!J14 -> 0
A53: ='Sólo 2 baton'!C15 -> 0 | B53: ='Sólo 2 baton'!F15 -> 0 | C53: ='Sólo 2 baton'!H15 -> 0 | D53: ='Sólo 2 baton'!I15 -> 0 | E53: ='Sólo 2 baton'!J15 -> 0 | H53: ='Sólo mace'!C15 -> 0 | I53: ='Sólo mace'!F15 -> 0 | J53: ='Sólo mace'!H15 -> 0 | K53: ='Sólo mace'!I15 -> 0 | L53: ='Sólo mace'!J15 -> 0 | O53: ='Sólo flag'!C15 -> 0 | P53: ='Sólo flag'!F15 -> 0 | Q53: ='Sólo flag'!H15 -> 0 | R53: ='Sólo flag'!I15 -> 0 | S53: ='Sólo flag'!J15 -> 0
A54: ='Sólo 2 baton'!C16 -> 0 | B54: ='Sólo 2 baton'!F16 -> 0 | C54: ='Sólo 2 baton'!H16 -> 0 | D54: ='Sólo 2 baton'!I16 -> 0 | E54: ='Sólo 2 baton'!J16 -> 0 | H54: ='Sólo mace'!C16 -> 0 | I54: ='Sólo mace'!F16 -> 0 | J54: ='Sólo mace'!H16 -> 0 | K54: ='Sólo mace'!I16 -> 0 | L54: ='Sólo mace'!J16 -> 0 | O54: ='Sólo flag'!C16 -> 0 | P54: ='Sólo flag'!F16 -> 0 | Q54: ='Sólo flag'!H16 -> 0 | R54: ='Sólo flag'!I16 -> 0 | S54: ='Sólo flag'!J16 -> 0
A55: ='Sólo 2 baton'!C17 -> 0 | B55: ='Sólo 2 baton'!F17 -> 0 | C55: ='Sólo 2 baton'!H17 -> 0 | D55: ='Sólo 2 baton'!I17 -> 0 | E55: ='Sólo 2 baton'!J17 -> 0 | H55: ='Sólo mace'!C17 -> 0 | I55: ='Sólo mace'!F17 -> 0 | J55: ='Sólo mace'!H17 -> 0 | K55: ='Sólo mace'!I17 -> 0 | L55: ='Sólo mace'!J17 -> 0 | O55: ='Sólo flag'!C17 -> 0 | P55: ='Sólo flag'!F17 -> 0 | Q55: ='Sólo flag'!H17 -> 0 | R55: ='Sólo flag'!I17 -> 0 | S55: ='Sólo flag'!J17 -> 0
A56: ='Sólo 2 baton'!C18 -> 0 | B56: ='Sólo 2 baton'!F18 -> 0 | C56: ='Sólo 2 baton'!H18 -> 0 | D56: ='Sólo 2 baton'!I18 -> 0 | E56: ='Sólo 2 baton'!J18 -> 0 | H56: ='Sólo mace'!C18 -> 0 | I56: ='Sólo mace'!F18 -> 0 | J56: ='Sólo mace'!H18 -> 0 | K56: ='Sólo mace'!I18 -> 0 | L56: ='Sólo mace'!J18 -> 0 | O56: ='Sólo flag'!C18 -> 0 | P56: ='Sólo flag'!F18 -> 0 | Q56: ='Sólo flag'!H18 -> 0 | R56: ='Sólo flag'!I18 -> 0 | S56: ='Sólo flag'!J18 -> 0
A57: ='Sólo 2 baton'!C19 -> 0 | B57: ='Sólo 2 baton'!F19 -> 0 | C57: ='Sólo 2 baton'!H19 -> 0 | D57: ='Sólo 2 baton'!I19 -> 0 | E57: ='Sólo 2 baton'!J19 -> 0 | H57: ='Sólo mace'!C19 -> 0 | I57: ='Sólo mace'!F19 -> 0 | J57: ='Sólo mace'!H19 -> 0 | K57: ='Sólo mace'!I19 -> 0 | L57: ='Sólo mace'!J19 -> 0 | O57: ='Sólo flag'!C19 -> 0 | P57: ='Sólo flag'!F19 -> 0 | Q57: ='Sólo flag'!H19 -> 0 | R57: ='Sólo flag'!I19 -> 0 | S57: ='Sólo flag'!J19 -> 0
... A60: ='Sólo 2 baton'!C22 -> 0 | B60: ='Sólo 2 baton'!F22 -> 0 | C60: ='Sólo 2 baton'!H22 -> 0 | D60: ='Sólo 2 baton'!I22 -> 0 | E60: ='Sólo 2 baton'!J22 -> 0 | H60: ='Sólo mace'!C22 -> 0 | I60: ='Sólo mace'!F22 -> 0 | J60: ='Sólo mace'!H22 -> 0 | K60: ='Sólo mace'!I22 -> 0 | L60: ='Sólo mace'!J22 -> 0 | O60: ='Sólo flag'!C22 -> 0 | P60: ='Sólo flag'!F22 -> 0 | Q60: ='Sólo flag'!H22 -> 0 | R60: ='Sólo flag'!I22 -> 0 | S60: ='Sólo flag'!J22 -> 0
A61: jméno | B61: skupina | C61: den | D61: měsíc | E61: rok | F61: Duo, trio 2 baton | H61: jméno | I61: skupina | J61: den | K61: měsíc | L61: rok | M61: Duo, trio 2 baton
A62: ='Duo, trio 2 baton'!C8 -> 0 | B62: ='Duo, trio 2 baton'!F8 -> 0 | C62: ='Duo, trio 2 baton'!H8 -> 0 | D62: ='Duo, trio 2 baton'!I8 -> 0 | E62: ='Duo, trio 2 baton'!J8 -> 0 | H62: ='Duo, trio mix'!J8 -> 0 | I62: ='Duo, trio mix'!F8 -> 0 | J62: ='Duo, trio mix'!H8 -> 0 | K62: ='Duo, trio mix'!I8 -> 0 | L62: ='Duo, trio mix'!J8 -> 0
A63: ='Duo, trio 2 baton'!C9 -> 0 | B63: ='Duo, trio 2 baton'!F8 -> 0 | C63: ='Duo, trio 2 baton'!H9 -> 0 | D63: ='Duo, trio 2 baton'!I9 -> 0 | E63: ='Duo, trio 2 baton'!J9 -> 0 | H63: ='Duo, trio mix'!J9 -> 0 | I63: ='Duo, trio mix'!F8 -> 0 | J63: ='Duo, trio mix'!H9 -> 0 | K63: ='Duo, trio mix'!I9 -> 0 | L63: ='Duo, trio mix'!J9 -> 0
A64: ='Duo, trio 2 baton'!C10 -> 0 | B64: ='Duo, trio 2 baton'!F8 -> 0 | C64: ='Duo, trio 2 baton'!H10 -> 0 | D64: ='Duo, trio 2 baton'!I10 -> 0 | E64: ='Duo, trio 2 baton'!J10 -> 0 | H64: ='Duo, trio mix'!J10 -> 0 | I64: ='Duo, trio mix'!F8 -> 0 | J64: ='Duo, trio mix'!H10 -> 0 | K64: ='Duo, trio mix'!I10 -> 0 | L64: ='Duo, trio mix'!J10 -> 0
A65: ='Duo, trio 2 baton'!C11 -> 0 | B65: ='Duo, trio 2 baton'!F11 -> 0 | C65: ='Duo, trio 2 baton'!H11 -> 0 | D65: ='Duo, trio 2 baton'!I11 -> 0 | E65: ='Duo, trio 2 baton'!J11 -> 0 | H65: ='Duo, trio mix'!J11 -> 0 | I65: ='Duo, trio mix'!F11 -> 0 | J65: ='Duo, trio mix'!H11 -> 0 | K65: ='Duo, trio mix'!I11 -> 0 | L65: ='Duo, trio mix'!J11 -> 0
A66: ='Duo, trio 2 baton'!C12 -> 0 | B66: ='Duo, trio 2 baton'!F11 -> 0 | C66: ='Duo, trio 2 baton'!H12 -> 0 | D66: ='Duo, trio 2 baton'!I12 -> 0 | E66: ='Duo, trio 2 baton'!J12 -> 0 | H66: ='Duo, trio mix'!J12 -> 0 | I66: ='Duo, trio mix'!F11 -> 0 | J66: ='Duo, trio mix'!H12 -> 0 | K66: ='Duo, trio mix'!I12 -> 0 | L66: ='Duo, trio mix'!J12 -> 0
A67: ='Duo, trio 2 baton'!C13 -> 0 | B67: ='Duo, trio 2 baton'!F11 -> 0 | C67: ='Duo, trio 2 baton'!H13 -> 0 | D67: ='Duo, trio 2 baton'!I13 -> 0 | E67: ='Duo, trio 2 baton'!J13 -> 0 | H67: ='Duo, trio mix'!J13 -> 0 | I67: ='Duo, trio mix'!F11 -> 0 | J67: ='Duo, trio mix'!H13 -> 0 | K67: ='Duo, trio mix'!I13 -> 0 | L67: ='Duo, trio mix'!J13 -> 0
A68: ='Duo, trio 2 baton'!C14 -> 0 | B68: ='Duo, trio 2 baton'!F14 -> 0 | C68: ='Duo, trio 2 baton'!H14 -> 0 | D68: ='Duo, trio 2 baton'!I14 -> 0 | E68: ='Duo, trio 2 baton'!J14 -> 0 | H68: ='Duo, trio mix'!J14 -> 0 | I68: ='Duo, trio mix'!F14 -> 0 | J68: ='Duo, trio mix'!H14 -> 0 | K68: ='Duo, trio mix'!I14 -> 0 | L68: ='Duo, trio mix'!J14 -> 0
A69: ='Duo, trio 2 baton'!C15 -> 0 | B69: ='Duo, trio 2 baton'!F14 -> 0 | C69: ='Duo, trio 2 baton'!H15 -> 0 | D69: ='Duo, trio 2 baton'!I15 -> 0 | E69: ='Duo, trio 2 baton'!J15 -> 0 | H69: ='Duo, trio mix'!J15 -> 0 | I69: ='Duo, trio mix'!F14 -> 0 | J69: ='Duo, trio mix'!H15 -> 0 | K69: ='Duo, trio mix'!I15 -> 0 | L69: ='Duo, trio mix'!J15 -> 0
A70: ='Duo, trio 2 baton'!C16 -> 0 | B70: ='Duo, trio 2 baton'!F14 -> 0 | C70: ='Duo, trio 2 baton'!H16 -> 0 | D70: ='Duo, trio 2 baton'!I16 -> 0 | E70: ='Duo, trio 2 baton'!J16 -> 0 | H70: ='Duo, trio mix'!J16 -> 0 | I70: ='Duo, trio mix'!F14 -> 0 | J70: ='Duo, trio mix'!H16 -> 0 | K70: ='Duo, trio mix'!I16 -> 0 | L70: ='Duo, trio mix'!J16 -> 0
A71: ='Duo, trio 2 baton'!C17 -> 0 | B71: ='Duo, trio 2 baton'!F17 -> 0 | C71: ='Duo, trio 2 baton'!H17 -> 0 | D71: ='Duo, trio 2 baton'!I17 -> 0 | E71: ='Duo, trio 2 baton'!J17 -> 0 | H71: ='Duo, trio mix'!J17 -> 0 | I71: ='Duo, trio mix'!F17 -> 0 | J71: ='Duo, trio mix'!H17 -> 0 | K71: ='Duo, trio mix'!I17 -> 0 | L71: ='Duo, trio mix'!J17 -> 0
A72: ='Duo, trio 2 baton'!C18 -> 0 | B72: ='Duo, trio 2 baton'!F17 -> 0 | C72: ='Duo, trio 2 baton'!H18 -> 0 | D72: ='Duo, trio 2 baton'!I18 -> 0 | E72: ='Duo, trio 2 baton'!J18 -> 0 | H72: ='Duo, trio mix'!J18 -> 0 | I72: ='Duo, trio mix'!F17 -> 0 | J72: ='Duo, trio mix'!H18 -> 0 | K72: ='Duo, trio mix'!I18 -> 0 | L72: ='Duo, trio mix'!J18 -> 0
A73: ='Duo, trio 2 baton'!C19 -> 0 | B73: ='Duo, trio 2 baton'!F17 -> 0 | C73: ='Duo, trio 2 baton'!H19 -> 0 | D73: ='Duo, trio 2 baton'!I19 -> 0 | E73: ='Duo, trio 2 baton'!J19 -> 0 | H73: ='Duo, trio mix'!J19 -> 0 | I73: ='Duo, trio mix'!F17 -> 0 | J73: ='Duo, trio mix'!H19 -> 0 | K73: ='Duo, trio mix'!I19 -> 0 | L73: ='Duo, trio mix'!J19 -> 0
A74: ='Duo, trio 2 baton'!C20 -> 0 | B74: ='Duo, trio 2 baton'!F20 -> 0 | C74: ='Duo, trio 2 baton'!H20 -> 0 | D74: ='Duo, trio 2 baton'!I20 -> 0 | E74: ='Duo, trio 2 baton'!J20 -> 0 | H74: ='Duo, trio mix'!J20 -> 0 | I74: ='Duo, trio mix'!F20 -> 0 | J74: ='Duo, trio mix'!H20 -> 0 | K74: ='Duo, trio mix'!I20 -> 0 | L74: ='Duo, trio mix'!J20 -> 0
A75: ='Duo, trio 2 baton'!C21 -> 0 | B75: ='Duo, trio 2 baton'!F20 -> 0 | C75: ='Duo, trio 2 baton'!H21 -> 0 | D75: ='Duo, trio 2 baton'!I21 -> 0 | E75: ='Duo, trio 2 baton'!J21 -> 0 | H75: ='Duo, trio mix'!J21 -> 0 | I75: ='Duo, trio mix'!F20 -> 0 | J75: ='Duo, trio mix'!H21 -> 0 | K75: ='Duo, trio mix'!I21 -> 0 | L75: ='Duo, trio mix'!J21 -> 0
A76: ='Duo, trio 2 baton'!C22 -> 0 | B76: ='Duo, trio 2 baton'!F20 -> 0 | C76: ='Duo, trio 2 baton'!H22 -> 0 | D76: ='Duo, trio 2 baton'!I22 -> 0 | E76: ='Duo, trio 2 baton'!J22 -> 0 | H76: ='Duo, trio mix'!J22 -> 0 | I76: ='Duo, trio mix'!F20 -> 0 | J76: ='Duo, trio mix'!H22 -> 0 | K76: ='Duo, trio mix'!I22 -> 0 | L76: ='Duo, trio mix'!J22 -> 0
A77: ='Duo, trio 2 baton'!C23 -> 0 | B77: ='Duo, trio 2 baton'!F23 -> 0 | C77: ='Duo, trio 2 baton'!H23 -> 0 | D77: ='Duo, trio 2 baton'!I23 -> 0 | E77: ='Duo, trio 2 baton'!J23 -> 0 | H77: ='Duo, trio mix'!J23 -> 0 | I77: ='Duo, trio mix'!F23 -> 0 | J77: ='Duo, trio mix'!H23 -> 0 | K77: ='Duo, trio mix'!I23 -> 0 | L77: ='Duo, trio mix'!J23 -> 0
A78: ='Duo, trio 2 baton'!C24 -> 0 | B78: ='Duo, trio 2 baton'!F23 -> 0 | C78: ='Duo, trio 2 baton'!H24 -> 0 | D78: ='Duo, trio 2 baton'!I24 -> 0 | E78: ='Duo, trio 2 baton'!J24 -> 0 | H78: ='Duo, trio mix'!J24 -> 0 | I78: ='Duo, trio mix'!F23 -> 0 | J78: ='Duo, trio mix'!H24 -> 0 | K78: ='Duo, trio mix'!I24 -> 0 | L78: ='Duo, trio mix'!J24 -> 0
A79: ='Duo, trio 2 baton'!C25 -> 0 | B79: ='Duo, trio 2 baton'!F23 -> 0 | C79: ='Duo, trio 2 baton'!H25 -> 0 | D79: ='Duo, trio 2 baton'!I25 -> 0 | E79: ='Duo, trio 2 baton'!J25 -> 0 | H79: ='Duo, trio mix'!J25 -> 0 | I79: ='Duo, trio mix'!F23 -> 0 | J79: ='Duo, trio mix'!H25 -> 0 | K79: ='Duo, trio mix'!I25 -> 0 | L79: ='Duo, trio mix'!J25 -> 0
A80: ='Duo, trio 2 baton'!C26 -> 0 | B80: ='Duo, trio 2 baton'!F26 -> 0 | C80: ='Duo, trio 2 baton'!H26 -> 0 | D80: ='Duo, trio 2 baton'!I26 -> 0 | E80: ='Duo, trio 2 baton'!J26 -> 0 | H80: ='Duo, trio mix'!J26 -> 0 | I80: ='Duo, trio mix'!F26 -> 0 | J80: ='Duo, trio mix'!H26 -> 0 | K80: ='Duo, trio mix'!I26 -> 0 | L80: ='Duo, trio mix'!J26 -> 0
A81: ='Duo, trio 2 baton'!C27 -> 0 | B81: ='Duo, trio 2 baton'!F26 -> 0 | C81: ='Duo, trio 2 baton'!H27 -> 0 | D81: ='Duo, trio 2 baton'!I27 -> 0 | E81: ='Duo, trio 2 baton'!J27 -> 0 | H81: ='Duo, trio mix'!J27 -> 0 | I81: ='Duo, trio mix'!F26 -> 0 | J81: ='Duo, trio mix'!H27 -> 0 | K81: ='Duo, trio mix'!I27 -> 0 | L81: ='Duo, trio mix'!J27 -> 0
A82: ='Duo, trio 2 baton'!C28 -> 0 | B82: ='Duo, trio 2 baton'!F26 -> 0 | C82: ='Duo, trio 2 baton'!H28 -> 0 | D82: ='Duo, trio 2 baton'!I28 -> 0 | E82: ='Duo, trio 2 baton'!J28 -> 0 | H82: ='Duo, trio mix'!J28 -> 0 | I82: ='Duo, trio mix'!F26 -> 0 | J82: ='Duo, trio mix'!H28 -> 0 | K82: ='Duo, trio mix'!I28 -> 0 | L82: ='Duo, trio mix'!J28 -> 0
A83: ='Duo, trio 2 baton'!C29 -> 0 | B83: ='Duo, trio 2 baton'!F29 -> 0 | C83: ='Duo, trio 2 baton'!H29 -> 0 | D83: ='Duo, trio 2 baton'!I29 -> 0 | E83: ='Duo, trio 2 baton'!J29 -> 0 | H83: ='Duo, trio mix'!J29 -> 0 | I83: ='Duo, trio mix'!F29 -> 0 | J83: ='Duo, trio mix'!H29 -> 0 | K83: ='Duo, trio mix'!I29 -> 0 | L83: ='Duo, trio mix'!J29 -> 0
A84: ='Duo, trio 2 baton'!C30 -> 0 | B84: ='Duo, trio 2 baton'!F29 -> 0 | C84: ='Duo, trio 2 baton'!H30 -> 0 | D84: ='Duo, trio 2 baton'!I30 -> 0 | E84: ='Duo, trio 2 baton'!J30 -> 0 | H84: ='Duo, trio mix'!J30 -> 0 | I84: ='Duo, trio mix'!F29 -> 0 | J84: ='Duo, trio mix'!H30 -> 0 | K84: ='Duo, trio mix'!I30 -> 0 | L84: ='Duo, trio mix'!J30 -> 0
A85: ='Duo, trio 2 baton'!C31 -> 0 | B85: ='Duo, trio 2 baton'!F29 -> 0 | C85: ='Duo, trio 2 baton'!H31 -> 0 | D85: ='Duo, trio 2 baton'!I31 -> 0 | E85: ='Duo, trio 2 baton'!J31 -> 0 | H85: ='Duo, trio mix'!J31 -> 0 | I85: ='Duo, trio mix'!F29 -> 0 | J85: ='Duo, trio mix'!H31 -> 0 | K85: ='Duo, trio mix'!I31 -> 0 | L85: ='Duo, trio mix'!J31 -> 0
A86: ='Duo, trio 2 baton'!C32 -> 0 | B86: ='Duo, trio 2 baton'!F32 -> 0 | C86: ='Duo, trio 2 baton'!H32 -> 0 | D86: ='Duo, trio 2 baton'!I32 -> 0 | E86: ='Duo, trio 2 baton'!J32 -> 0 | H86: ='Duo, trio mix'!J32 -> 0 | I86: ='Duo, trio mix'!F32 -> 0 | J86: ='Duo, trio mix'!H32 -> 0 | K86: ='Duo, trio mix'!I32 -> 0 | L86: ='Duo, trio mix'!J32 -> 0
A87: ='Duo, trio 2 baton'!C33 -> 0 | B87: ='Duo, trio 2 baton'!F32 -> 0 | C87: ='Duo, trio 2 baton'!H33 -> 0 | D87: ='Duo, trio 2 baton'!I33 -> 0 | E87: ='Duo, trio 2 baton'!J33 -> 0 | H87: ='Duo, trio mix'!J33 -> 0 | I87: ='Duo, trio mix'!F32 -> 0 | J87: ='Duo, trio mix'!H33 -> 0 | K87: ='Duo, trio mix'!I33 -> 0 | L87: ='Duo, trio mix'!J33 -> 0
A88: ='Duo, trio 2 baton'!C34 -> 0 | B88: ='Duo, trio 2 baton'!F32 -> 0 | C88: ='Duo, trio 2 baton'!H34 -> 0 | D88: ='Duo, trio 2 baton'!I34 -> 0 | E88: ='Duo, trio 2 baton'!J34 -> 0 | H88: ='Duo, trio mix'!J34 -> 0 | I88: ='Duo, trio mix'!F32 -> 0 | J88: ='Duo, trio mix'!H34 -> 0 | K88: ='Duo, trio mix'!I34 -> 0 | L88: ='Duo, trio mix'!J34 -> 0

Sheet Skupiny
B1: Slouží pouze pro sčitatele
A2: Skupina baton | H2: Pompony
B3: skupina | C3: město | D3: délka skl. | E3: kategorie | F3: počet | I3: skupina | J3: město | K3: délka skl. | L3: kategorie | M3: počet
A4: 1. | B4: ='Skupina baton'!E4 -> 0 | C4: ='Skupina baton'!E5 -> 0 | D4: ='Skupina baton'!E6 -> 0 | E4: ='Skupina baton'!F10 -> #DIV/0! | F4: ='Skupina baton'!AG41 -> 0 | H4: 1. | I4: ='Skupina pompony'!E4 -> 0 | J4: ='Skupina pompony'!E5 -> 0 | K4: ='Skupina pompony'!E6 -> 0 | L4: ='Skupina pompony'!F10 -> #DIV/0! | M4: ='Skupina pompony'!AG43 -> 0
A5: 2. | B5: ='Skupina baton'!O4 -> 0 | C5: ='Skupina baton'!O5 -> 0 | D5: ='Skupina baton'!O6 -> 0 | E5: ='Skupina baton'!P10 -> #DIV/0! | F5: ='Skupina baton'!AH41 -> 0 | H5: 2. | I5: ='Skupina pompony'!O4 -> 0 | J5: ='Skupina pompony'!O5 -> 0 | K5: ='Skupina pompony'!O6 -> 0 | L5: ='Skupina pompony'!P10 -> #DIV/0! | M5: ='Skupina pompony'!AH43 -> 0
A6: 3. | B6: ='Skupina baton'!Y4 -> 0 | C6: ='Skupina baton'!Y5 -> 0 | D6: ='Skupina baton'!Y6 -> 0 | E6: ='Skupina baton'!Z10 -> #DIV/0! | F6: ='Skupina baton'!AI41 -> 0 | H6: 3. | I6: ='Skupina pompony'!Y4 -> 0 | J6: ='Skupina pompony'!Y5 -> 0 | K6: ='Skupina pompony'!Y6 -> 0 | L6: ='Skupina pompony'!Z10 -> #DIV/0! | M6: ='Skupina pompony'!AI43 -> 0
A8: Miniformace baton | H8: Miniformace pompony
B9: skupina | C9: město | D9: délka skl. | E9: kategorie | F9: počet | I9: skupina | J9: město | L9: kategorie | M9: počet
A10: 1. | B10: ='Miniformace baton'!E4 -> 0 | C10: ='Miniformace baton'!E5 -> 0 | D10: ='Miniformace baton'!E6 -> 0 | E10: ='Miniformace baton'!F10 -> #DIV/0! | F10: ='Miniformace baton'!AG23 -> 0 | H10: 1. | I10: ='Miniformace pompony'!E4 -> 0 | J10: ='Miniformace pompony'!E5 -> 0 | K10: ='Miniformace pompony'!E6 -> 0 | L10: ='Miniformace pompony'!F10 -> #DIV/0! | M10: ='Miniformace pompony'!AG23 -> 0
A11: 2. | B11: ='Miniformace baton'!O4 -> 0 | C11: ='Miniformace baton'!O5 -> 0 | D11: ='Miniformace baton'!O6 -> 0 | E11: ='Miniformace baton'!P10 -> #DIV/0! | F11: ='Miniformace baton'!AH23 -> 0 | H11: 2. | I11: ='Miniformace pompony'!O4 -> 0 | J11: ='Miniformace pompony'!O5 -> 0 | K11: ='Miniformace pompony'!O6 -> 0 | L11: ='Miniformace pompony'!P10 -> #DIV/0! | M11: ='Miniformace pompony'!AH23 -> 0
A12: 3. | B12: ='Miniformace baton'!Y4 -> 0 | C12: ='Miniformace baton'!Y5 -> 0 | D12: ='Miniformace baton'!Y6 -> 0 | E12: ='Miniformace baton'!Z10 -> #DIV/0! | F12: ='Miniformace baton'!AI23 -> 0 | H12: 3. | I12: ='Miniformace pompony'!Y4 -> 0 | J12: ='Miniformace pompony'!Y5 -> 0 | K12: ='Miniformace pompony'!Y6 -> 0 | L12: ='Miniformace pompony'!Z10 -> #DIV/0! | M12: ='Miniformace pompony'!AI23 -> 0
A14: Miniformace mix | H14: Pompony klasik
B15: skupina | C15: město | D15: délka skl. | E15: kategorie | F15: počet | I15: skupina | J15: město | L15: kategorie | M15: počet
A16: 1. | B16: ='Miniformace mix'!E4 -> 0 | C16: ='Miniformace mix'!E5 -> 0 | D16: ='Miniformace mix'!E6 -> 0 | E16: ='Miniformace mix'!F10 -> #DIV/0! | F16: ='Miniformace mix'!AG23 -> 0 | H16: 1. | I16: ='Skupina pompony klasik'!E4 -> 0 | J16: ='Skupina pompony klasik'!E5 -> 0 | K16: ='Skupina pompony klasik'!E6 -> 0 | L16: ='Skupina pompony klasik'!F10 -> #DIV/0! | M16: ='Skupina pompony klasik'!AG41 -> 0
A17: 2. | B17: ='Miniformace mix'!O4 -> 0 | C17: ='Miniformace mix'!O5 -> 0 | D17: ='Miniformace mix'!O6 -> 0 | E17: ='Miniformace mix'!P10 -> #DIV/0! | F17: ='Miniformace mix'!AH23 -> 0 | H17: 2. | I17: ='Skupina pompony klasik'!O4 -> 0 | J17: ='Skupina pompony klasik'!O5 -> 0 | K17: ='Skupina pompony klasik'!O6 -> 0 | L17: ='Skupina pompony klasik'!P10 -> #DIV/0! | M17: ='Skupina pompony klasik'!AH41 -> 0
A18: 3. | B18: ='Miniformace mix'!Y4 -> 0 | C18: ='Miniformace mix'!Y5 -> 0 | D18: ='Miniformace mix'!Y6 -> 0 | E18: ='Miniformace mix'!Z10 -> #DIV/0! | F18: ='Miniformace mix'!AI23 -> 0 | H18: 3. | I18: ='Skupina pompony klasik'!Y4 -> 0 | J18: ='Skupina pompony klasik'!Y5 -> 0 | K18: ='Skupina pompony klasik'!Y6 -> 0 | L18: ='Skupina pompony klasik'!Z10 -> #DIV/0! | M18: ='Skupina pompony klasik'!AI41 -> 0
A20: Rodičovské týmy
B21: skupina | C21: město | D21: délka skl.
A22: 1. | B22: ='Rodičovské týmy'!E4 -> 0 | C22: ='Rodičovské týmy'!E5 -> 0 | D22: ='Rodičovské týmy'!E6 -> 0 | F22: ='Rodičovské týmy'!I39 -> 0

Sheet Sóla
B1: Slouží pouze pro sčitatele
A2: Sólo baton | H2: Sólo pompony
B3: jméno a příjmení | C3: skupina | D3: město | E3: délka skl. | F3: kategorie | I3: jméno a příjmení | J3: skupina | K3: město | L3: délka skl. | M3: kategorie
A4: 1. | B4: ='Sólo baton'!C8 -> 0 | C4: ='Sólo baton'!F8 -> 0 | D4: ='Sólo baton'!D4 -> 0 | E4: ='Sólo baton'!G8 -> 0 | F4: ='Sólo baton'!M8 | H4: 1. | I4: ='Sólo pompony'!C8 -> 0 | J4: ='Sólo pompony'!F8 -> 0 | K4: ='Sólo pompony'!D4 -> 0 | L4: ='Sólo pompony'!G8 -> 0 | M4: ='Sólo pompony'!M8
A5: 2. | B5: ='Sólo baton'!C9 -> 0 | C5: ='Sólo baton'!F9 -> 0 | D5: ='Sólo baton'!D4 -> 0 | E5: ='Sólo baton'!G9 -> 0 | F5: ='Sólo baton'!M9 | H5: 2. | I5: ='Sólo pompony'!C9 -> 0 | J5: ='Sólo pompony'!F9 -> 0 | K5: ='Sólo pompony'!D4 -> 0 | L5: ='Sólo pompony'!G9 -> 0 | M5: ='Sólo pompony'!M9
A6: 3. | B6: ='Sólo baton'!C10 -> 0 | C6: ='Sólo baton'!F10 -> 0 | D6: ='Sólo baton'!D4 -> 0 | E6: ='Sólo baton'!G10 -> 0 | F6: ='Sólo baton'!M10 | H6: 3. | I6: ='Sólo pompony'!C10 -> 0 | J6: ='Sólo pompony'!F10 -> 0 | K6: ='Sólo pompony'!D4 -> 0 | L6: ='Sólo pompony'!G10 -> 0 | M6: ='Sólo pompony'!M10
A7: 4. | B7: ='Sólo baton'!C11 -> 0 | C7: ='Sólo baton'!F11 -> 0 | D7: ='Sólo baton'!D4 -> 0 | E7: ='Sólo baton'!G11 -> 0 | F7: ='Sólo baton'!M11 | H7: 4. | I7: ='Sólo pompony'!C11 -> 0 | J7: ='Sólo pompony'!F11 -> 0 | K7: ='Sólo pompony'!D4 -> 0 | L7: ='Sólo pompony'!G11 -> 0 | M7: ='Sólo pompony'!M11
A8: 5. | B8: ='Sólo baton'!C12 -> 0 | C8: ='Sólo baton'!F12 -> 0 | D8: ='Sólo baton'!D4 -> 0 | E8: ='Sólo baton'!G12 -> 0 | F8: ='Sólo baton'!M12 | H8: 5. | I8: ='Sólo pompony'!C12 -> 0 | J8: ='Sólo pompony'!F12 -> 0 | K8: ='Sólo pompony'!D4 -> 0 | L8: ='Sólo pompony'!G12 -> 0 | M8: ='Sólo pompony'!M12
A9: 6. | B9: ='Sólo baton'!C13 -> 0 | C9: ='Sólo baton'!F13 -> 0 | D9: ='Sólo baton'!D4 -> 0 | E9: ='Sólo baton'!G13 -> 0 | F9: ='Sólo baton'!M13 | H9: 6. | I9: ='Sólo pompony'!C13 -> 0 | J9: ='Sólo pompony'!F13 -> 0 | K9: ='Sólo pompony'!D4 -> 0 | L9: ='Sólo pompony'!G13 -> 0 | M9: ='Sólo pompony'!M13
A10: 7. | B10: ='Sólo baton'!C14 -> 0 | C10: ='Sólo baton'!F14 -> 0 | D10: ='Sólo baton'!D4 -> 0 | E10: ='Sólo baton'!G14 -> 0 | F10: ='Sólo baton'!M14 | H10: 7. | I10: ='Sólo pompony'!C14 -> 0 | J10: ='Sólo pompony'!F14 -> 0 | K10: ='Sólo pompony'!D4 -> 0 | L10: ='Sólo pompony'!G14 -> 0 | M10: ='Sólo pompony'!M14
A11: 8. | B11: ='Sólo baton'!C15 -> 0 | C11: ='Sólo baton'!F15 -> 0 | D11: ='Sólo baton'!D4 -> 0 | E11: ='Sólo baton'!G15 -> 0 | F11: ='Sólo baton'!M15 | H11: 8. | I11: ='Sólo pompony'!C15 -> 0 | J11: ='Sólo pompony'!F15 -> 0 | K11: ='Sólo pompony'!D4 -> 0 | L11: ='Sólo pompony'!G15 -> 0 | M11: ='Sólo pompony'!M15
A12: 9. | B12: ='Sólo baton'!C16 -> 0 | C12: ='Sólo baton'!F16 -> 0 | D12: ='Sólo baton'!D4 -> 0 | E12: ='Sólo baton'!G16 -> 0 | F12: ='Sólo baton'!M16 | H12: 9. | I12: ='Sólo pompony'!C16 -> 0 | J12: ='Sólo pompony'!F16 -> 0 | K12: ='Sólo pompony'!D4 -> 0 | L12: ='Sólo pompony'!G16 -> 0 | M12: ='Sólo pompony'!M16
A13: 10. | B13: ='Sólo baton'!C17 -> 0 | C13: ='Sólo baton'!F17 -> 0 | D13: ='Sólo baton'!D4 -> 0 | E13: ='Sólo baton'!G17 -> 0 | F13: ='Sólo baton'!M17 | H13: 10. | I13: ='Sólo pompony'!C17 -> 0 | J13: ='Sólo pompony'!F17 -> 0 | K13: ='Sólo pompony'!D4 -> 0 | L13: ='Sólo pompony'!G17 -> 0 | M13: ='Sólo pompony'!M17
A14: 11. | B14: ='Sólo baton'!C18 -> 0 | C14: ='Sólo baton'!F18 -> 0 | D14: ='Sólo baton'!D4 -> 0 | E14: ='Sólo baton'!G18 -> 0 | F14: ='Sólo baton'!M18 | H14: 11. | I14: ='Sólo pompony'!C18 -> 0 | J14: ='Sólo pompony'!F18 -> 0 | K14: ='Sólo pompony'!D4 -> 0 | L14: ='Sólo pompony'!G18 -> 0 | M14: ='Sólo pompony'!M18
