Workbook

Sheet Kontaktní údaje
B1: Kontaktní údaje | E1: =údaje!A1 -> 2026
B2: =údaje!A2 -> 15. ročník mažoretkové soutěže "O pohár města Hranice"
B4: Jméno a příjmení vedoucí:
B5: Kontakt (tel.):
B6: (e-mail):
B7: Počet autobusů
B9: Celkem k úhradě za startovné
B10: Skupina baton 1 | E10: ='Skupina baton'!F11 -> 0
B11: Skupina baton 2 | E11: ='Skupina baton'!P11 -> 0
B12: Skupina baton 3 | E12: ='Skupina baton'!Z11 -> 0
B13: Miniformace baton 1 | E13: ='Miniformace baton'!F11 -> 0
B14: Miniformace baton 2 | E14: ='Miniformace baton'!P11 -> 0
B15: Miniformace baton 3 | E15: ='Miniformace baton'!Z11 -> 0
B16: Skupina pompony 1 | E16: ='Skupina pompony'!F11 -> 0
B17: Skupina pompony 2 | E17: ='Skupina pompony'!P11 -> 0
B18: Skupina pompony 3 | E18: ='Skupina pompony'!Z11 -> 0
B19: Miniformace pompony 1 | E19: ='Miniformace pompony'!F11 -> 0
B20: Miniformace pompony 2 | E20: ='Miniformace pompony'!P11 -> 0
B21: Miniformace pompony 3 | E21: ='Miniformace pompony'!Z11 -> 0
B22: Pompony klasik 1 | E22: ='Skupina pompony klasik'!F11 -> 0
B23: Pompony klasik 2 | E23: ='Skupina pompony klasik'!P11 -> 0
B24: Pompony klasik 3 | E24: ='Skupina pompony klasik'!Z11 -> 0
B25: Miniformace mix 1 | E25: ='Miniformace mix'!F11 -> 0
B26: Miniformace mix 2 | E26: ='Miniformace mix'!P11 -> 0
B27: Miniformace mix 3 | E27: ='Miniformace mix'!Z11 -> 0
B28: Sólo baton | E28: ='Sólo baton'!K4 -> 0
B29: Duo, trio baton | E29: ='Duo, trio baton'!K4 -> 0
B30: Sólo 2 baton | E30: ='Sólo 2 baton'!K4 -> 0
B31: Duo, trio 2 baton | E31: ='Duo, trio 2 baton'!K4 -> 0
B32: Sólo freestyle / tan.ryt. sólo | E32: ='Sólo freestyle_taneční rytmické'!K4 -> 0
B33: Sólo mace | E33: ='Sólo mace'!K4 -> 0
B34: Duo, trio mace | E34: ='Duo, trio mace'!K4 -> 0
B35: Sólo flag | E35: ='Sólo flag'!K4 -> 0
B36: Duo, trio flag | E36: ='Duo, trio flag'!K4 -> 0
B37: Duo, trio mix | E37: ='Duo, trio mix'!K4 -> 0
B38: Sólo pompony | E38: ='Sólo pompony'!K4 -> 0
B39: Duo, trio pompony | E39: ='Duo, trio pompony'!K4 -> 0
B40: Sólo pompony klasik | E40: ='Sólo pompony klasik'!K4 -> 0
B41: Duo, trio pompony klasik | E41: ='Duo, trio pompony klasik'!K4 -> 0
B42: Rodičovské týmy | E42: ='Rodičovské týmy'!F9 -> 0
...

Sheet Skupina baton
B1: Skupina baton | E1: =údaje!A1 -> 2026 | L1: Skupina baton | O1: =údaje!A1 -> 2026 | V1: Skupina baton | Y1: =údaje!A1 -> 2026
B2: =údaje!A2 -> 15. ročník mažoretkové soutěže "O pohár města Hranice" | L2: =údaje!A2 -> 15. ročník mažoretkové soutěže "O pohár města Hranice" | V2: =údaje!A2 -> 15. ročník mažoretkové soutěže "O pohár města Hranice"
B4: Název skupiny | L4: Název skupiny | V4: Název skupiny
B5: Město | L5: Město | V5: Město
B6: Délka skladby | L6: Délka skladby | V6: Délka skladby
B7: Zda máte více skupin pro stejnou disciplínu, tak pro druhou skupinu, použíjte vedlejší tabulku. | L7: Zda máte více skupin pro stejnou disciplínu, tak pro druhou skupinu, použíjte vedlejší tabulku.
B9: Věkový průměr | F9: =AVERAGE(I16:I40) -> #DIV/0! | L9: Věkový průměr | P9: =AVERAGE(S16:S40) -> #DIV/0! | V9: Věkový průměr | Z9: =AVERAGE(AC16:AC40) -> #DIV/0!
B10: Zařazení do soutěžní kategorie | F10: =IF($F$9<6,"děti",IF($F$9<8,"kadetky ml",IF($F$9<10,"kadetky st",IF($F$9<12,"juniorky ml",IF($F$9<15,"juniorky st","seniorky"))))) -> #DIV/0! | L10: Zařazení do soutěžní kategorie | P10: =IF($P$9<6,"děti",IF($P$9<8,"kadetky ml",IF($P$9<10,"kadetky st",IF($P$9<12,"juniorky ml",IF($P$9<15,"juniorky st","seniorky"))))) -> #DIV/0! | V10: Zařazení do soutěžní kategorie | Z10: =IF($Z$9<6,"děti",IF($Z$9<8,"kadetky ml",IF($Z$9<10,"kadetky st",IF($Z$9<12,"juniorky ml",IF($Z$9<15,"juniorky st","seniorky"))))) -> #DIV/0!
B11: Startovné celkem | F11: =SUM(J16:J40) -> 0 | L11: Startovné celkem | P11: =SUM(T16:T40) -> 0 | V11: Startovné celkem | Z11: =SUM(AD16:AD40) -> 0
F14: Datum narození | I14: =údaje!A1 -> 2026 | P14: Datum narození | S14: =údaje!A1 -> 2026 | Z14: Datum narození | AC14: =údaje!A1 -> 2026
B15: Jméno a příjmení | F15: den | G15: měsíc | H15: rok | I15: věk | J15: Startovné | L15: Jméno a příjmení | P15: den | Q15: měsíc | R15: rok | S15: věk | T15: Startovné | V15: Jméno a příjmení | Z15: den | AA15: měsíc | AB15: rok | AC15: věk | AD15: Startovné
B16: 1. | I16: =IF(H16=0,"",(I14-H16)) | J16: =IF(I16="","",IF(I16>1,K16)) | K16: =údaje!A3 -> 180 | L16: 1. | S16: =IF(R16=0,"",(S14-R16)) | T16: =IF(S16="","",IF(S16>1,U16)) | U16: =údaje!A3 -> 180 | V16: 1. | AC16: =IF(AB16=0,"",(AC14-AB16)) | AD16: =IF(AC16="","",IF(AC16>1,AE16)) | AE16: =údaje!A3 -> 180 | AF16: 1 | AG16: =IF(I16="","",IF(I16>1,AF16)) | AH16: =IF(S16="","",IF(S16>1,AF16)) | AI16: =IF(AC16="","",IF(AC16>1,AF16))
B17: 2. | I17: =IF(H17=0,"",(I14-H17)) | J17: =IF(I17="","",IF(I17>1,K17)) | K17: =$K$16 -> 180 | L17: 2. | S17: =IF(R17=0,"",(S14-R17)) | T17: =IF(S17="","",IF(S17>1,U17)) | U17: =$U$16 -> 180 | V17: 2. | AC17: =IF(AB17=0,"",(AC14-AB17)) | AD17: =IF(AC17="","",IF(AC17>1,AE17)) | AE17: =$AE$16 -> 180 | AF17: 1 | AG17: =IF(I17="","",IF(I17>1,AF17)) | AH17: =IF(S17="","",IF(S17>1,AF17)) | AI17: =IF(AC17="","",IF(AC17>1,AF17))
B18: 3. | I18: =IF(H18=0,"",(I14-H18)) | J18: =IF(I18="","",IF(I18>1,K18)) | K18: =$K$16 -> 180 | L18: 3. | S18: =IF(R18=0,"",(S14-R18)) | T18: =IF(S18="","",IF(S18>1,U18)) | U18: =$U$16 -> 180 | V18: 3. | AC18: =IF(AB18=0,"",(AC14-AB18)) | AD18: =IF(AC18="","",IF(AC18>1,AE18)) | AE18: =$AE$16 -> 180 | AF18: 1 | AG18: =IF(I18="","",IF(I18>1,AF18)) | AH18: =IF(S18="","",IF(S18>1,AF18)) | AI18: =IF(AC18="","",IF(AC18>1,AF18))
B19: 4. | I19: =IF(H19=0,"",(I14-H19)) | J19: =IF(I19="","",IF(I19>1,K19)) | K19: =$K$16 -> 180 | L19: 4. | S19: =IF(R19=0,"",(S14-R19)) | T19: =IF(S19="","",IF(S19>1,U19)) | U19: =$U$16 -> 180 | V19: 4. | AC19: =IF(AB19=0,"",(AC14-AB19)) | AD19: =IF(AC19="","",IF(AC19>1,AE19)) | AE19: =$AE$16 -> 180 | AF19: 1 | AG19: =IF(I19="","",IF(I19>1,AF19)) | AH19: =IF(S19="","",IF(S19>1,AF19)) | AI19: =IF(AC19="","",IF(AC19>1,AF19))
B20: 5. | I20: =IF(H20=0,"",(I14-H20)) | J20: =IF(I20="","",IF(I20>1,K20)) | K20: =$K$16 -> 180 | L20: 5. | S20: =IF(R20=0,"",(S14-R20)) | T20: =IF(S20="","",IF(S20>1,U20)) | U20: =$U$16 -> 180 | V20: 5. | AC20: =IF(AB20=0,"",(AC14-AB20)) | AD20: =IF(AC20="","",IF(AC20>1,AE20)) | AE20: =$AE$16 -> 180 | AF20: 1 | AG20: =IF(I20="","",IF(I20>1,AF20)) | AH20: =IF(S20="","",IF(S20>1,AF20)) | AI20: =IF(AC20="","",IF(AC20>1,AF20))
B21: 6. | I21: =IF(H21=0,"",(I14-H21)) | J21: =IF(I21="","",IF(I21>1,K21)) | K21: =$K$16 -> 180 | L21: 6. | S21: =IF(R21=0,"",(S14-R21)) | T21: =IF(S21="","",IF(S21>1,U21)) | U21: =$U$16 -> 180 | V21: 6. | AC21: =IF(AB21=0,"",(AC14-AB21)) | AD21: =IF(AC21="","",IF(AC21>1,AE21)) | AE21: =$AE$16 -> 180 | AF21: 1 | AG21: =IF(I21="","",IF(I21>1,AF21)) | AH21: =IF(S21="","",IF(S21>1,AF21)) | AI21: =IF(AC21="","",IF(AC21>1,AF21))
B22: 7. | I22: =IF(H22=0,"",(I14-H22)) | J22: =IF(I22="","",IF(I22>1,K22)) | K22: =$K$16 -> 180 | L22: 7. | S22: =IF(R22=0,"",(S14-R22)) | T22: =IF(S22="","",IF(S22>1,U22)) | U22: =$U$16 -> 180 | V22: 7. | AC22: =IF(AB22=0,"",(AC14-AB22)) | AD22: =IF(AC22="","",IF(AC22>1,AE22)) | AE22: =$AE$16 -> 180 | AF22: 1 | AG22: =IF(I22="","",IF(I22>1,AF22)) | AH22: =IF(S22="","",IF(S22>1,AF22)) | AI22: =IF(AC22="","",IF(AC22>1,AF22))
B23: 8. | I23: =IF(H23=0,"",(I14-H23)) | J23: =IF(I23="","",IF(I23>1,K23)) | K23: =$K$16 -> 180 | L23: 8. | S23: =IF(R23=0,"",(S14-R23)) | T23: =IF(S23="","",IF(S23>1,U23)) | U23: =$U$16 -> 180 | V23: 8. | AC23: =IF(AB23=0,"",(AC14-AB23)) | AD23: =IF(AC23="","",IF(AC23>1,AE23)) | AE23: =$AE$16 -> 180 | AF23: 1 | AG23: =IF(I23="","",IF(I23>1,AF23)) | AH23: =IF(S23="","",IF(S23>1,AF23)) | AI23: =IF(AC23="","",IF(AC23>1,AF23))
B24: 9. | I24: =IF(H24=0,"",(I14-H24)) | J24: =IF(I24="","",IF(I24>1,K24)) | K24: =$K$16 -> 180 | L24: 9. | S24: =IF(R24=0,"",(S14-R24)) | T24: =IF(S24="","",IF(S24>1,U24)) | U24: =$U$16 -> 180 | V24: 9. | AC24: =IF(AB24=0,"",(AC14-AB24)) | AD24: =IF(AC24="","",IF(AC24>1,AE24)) | AE24: =$AE$16 -> 180 | AF24: 1 | AG24: =IF(I24="","",IF(I24>1,AF24)) | AH24: =IF(S24="","",IF(S24>1,AF24)) | AI24: =IF(AC24="","",IF(AC24>1,AF24))
B25: 10. | I25: =IF(H25=0,"",(I14-H25)) | J25: =IF(I25="","",IF(I25>1,K25)) | K25: =$K$16 -> 180 | L25: 10. | S25: =IF(R25=0,"",(S14-R25)) | T25: =IF(S25="","",IF(S25>1,U25)) | U25: =$U$16 -> 180 | V25: 10. | AC25: =IF(AB25=0,"",(AC14-AB25)) | AD25: =IF(AC25="","",IF(AC25>1,AE25)) | AE25: =$AE$16 -> 180 | AF25: 1 | AG25: =IF(I25="","",IF(I25>1,AF25)) | AH25: =IF(S25="","",IF(S25>1,AF25)) | AI25: =IF(AC25="","",IF(AC25>1,AF25))
B26: 11. | I26: =IF(H26=0,"",(I14-H26)) | J26: =IF(I26="","",IF(I26>1,K26)) | K26: =$K$16 -> 180 | L26: 11. | S26: =IF(R26=0,"",(S14-R26)) | T26: =IF(S26="","",IF(S26>1,U26)) | U26: =$U$16 -> 180 | V26: 11. | AC26: =IF(AB26=0,"",(AC14-AB26)) | AD26: =IF(AC26="","",IF(AC26>1,AE26)) | AE26: =$AE$16 -> 180 | AF26: 1 | AG26: =IF(I26="","",IF(I26>1,AF26)) | AH26: =IF(S26="","",IF(S26>1,AF26)) | AI26: =IF(AC26="","",IF(AC26>1,AF26))
B27: 12. | I27: =IF(H27=0,"",(I14-H27)) | J27: =IF(I27="","",IF(I27>1,K27)) | K27: =$K$16 -> 180 | L27: 12. | S27: =IF(R27=0,"",(S14-R27)) | T27: =IF(S27="","",IF(S27>1,U27)) | U27: =$U$16 -> 180 | V27: 12. | AC27: =IF(AB27=0,"",(AC14-AB27)) | AD27: =IF(AC27="","",IF(AC27>1,AE27)) | AE27: =$AE$16 -> 180 | AF27: 1 | AG27: =IF(I27="","",IF(I27>1,AF27)) | AH27: =IF(S27="","",IF(S27>1,AF27)) | AI27: =IF(AC27="","",IF(AC27>1,AF27))
B28: 13. | I28: =IF(H28=0,"",(I14-H28)) | J28: =IF(I28="","",IF(I28>1,K28)) | K28: =$K$16 -> 180 | L28: 13. | S28: =IF(R28=0,"",(S14-R28)) | T28: =IF(S28="","",IF(S28>1,U28)) | U28: =$U$16 -> 180 | V28: 13. | AC28: =IF(AB28=0,"",(AC14-AB28)) | AD28: =IF(AC28="","",IF(AC28>1,AE28)) | AE28: =$AE$16 -> 180 | AF28: 1 | AG28: =IF(I28="","",IF(I28>1,AF28)) | AH28: =IF(S28="","",IF(S28>1,AF28)) | AI28: =IF(AC28="","",IF(AC28>1,AF28))
B29: 14. | I29: =IF(H29=0,"",(I14-H29)) | J29: =IF(I29="","",IF(I29>1,K29)) | K29: =$K$16 -> 180 | L29: 14. | S29: =IF(R29=0,"",(S14-R29)) | T29: =IF(S29="","",IF(S29>1,U29)) | U29: =$U$16 -> 180 | V29: 14. | AC29: =IF(AB29=0,"",(AC14-AB29)) | AD29: =IF(AC29="","",IF(AC29>1,AE29)) | AE29: =$AE$16 -> 180 | AF29: 1 | AG29: =IF(I29="","",IF(I29>1,AF29)) | AH29: =IF(S29="","",IF(S29>1,AF29)) | AI29: =IF(AC29="","",IF(AC29>1,AF29))
B30: 15. | I30: =IF(H30=0,"",(I14-H30)) | J30: =IF(I30="","",IF(I30>1,K30)) | K30: =$K$16 -> 180 | L30: 15. | S30: =IF(R30=0,"",(S14-R30)) | T30: =IF(S30="","",IF(S30>1,U30)) | U30: =$U$16 -> 180 | V30: 15. | AC30: =IF(AB30=0,"",(AC14-AB30)) | AD30: =IF(AC30="","",IF(AC30>1,AE30)) | AE30: =$AE$16 -> 180 | AF30: 1 | AG30: =IF(I30="","",IF(I30>1,AF30)) | AH30: =IF(S30="","",IF(S30>1,AF30)) | AI30: =IF(AC30="","",IF(AC30>1,AF30))
B31: 16. | I31: =IF(H31=0,"",(I14-H31)) | J31: =IF(I31="","",IF(I31>1,K31)) | K31: =$K$16 -> 180 | L31: 16. | S31: =IF(R31=0,"",(S14-R31)) | T31: =IF(S31="","",IF(S31>1,U31)) | U31: =$U$16 -> 180 | V31: 16. | AC31: =IF(AB31=0,"",(AC14-AB31)) | AD31: =IF(AC31="","",IF(AC31>1,AE31)) | AE31: =$AE$16 -> 180 | AF31: 1 | AG31: =IF(I31="","",IF(I31>1,AF31)) | AH31: =IF(S31="","",IF(S31>1,AF31)) | AI31: =IF(AC31="","",IF(AC31>1,AF31))
B32: 17. | I32: =IF(H32=0,"",(I14-H32)) | J32: =IF(I32="","",IF(I32>1,K32)) | K32: =$K$16 -> 180 | L32: 17. | S32: =IF(R32=0,"",(S14-R32)) | T32: =IF(S32="","",IF(S32>1,U32)) | U32: =$U$16 -> 180 | V32: 17. | AC32: =IF(AB32=0,"",(AC14-AB32)) | AD32: =IF(AC32="","",IF(AC32>1,AE32)) | AE32: =$AE$16 -> 180 | AF32: 1 | AG32: =IF(I32="","",IF(I32>1,AF32)) | AH32: =IF(S32="","",IF(S32>1,AF32)) | AI32: =IF(AC32="","",IF(AC32>1,AF32))
B33: 18. | I33: =IF(H33=0,"",(I14-H33)) | J33: =IF(I33="","",IF(I33>1,K33)) | K33: =$K$16 -> 180 | L33: 18. | S33: =IF(R33=0,"",(S14-R33)) | T33: =IF(S33="","",IF(S33>1,U33)) | U33: =$U$16 -> 180 | V33: 18. | AC33: =IF(AB33=0,"",(AC14-AB33)) | AD33: =IF(AC33="","",IF(AC33>1,AE33)) | AE33: =$AE$16 -> 180 | AF33: 1 | AG33: =IF(I33="","",IF(I33>1,AF33)) | AH33: =IF(S33="","",IF(S33>1,AF33)) | AI33: =IF(AC33="","",IF(AC33>1,AF33))
B34: 19. | I34: =IF(H34=0,"",(I14-H34)) | J34: =IF(I34="","",IF(I34>1,K34)) | K34: =$K$16 -> 180 | L34: 19. | S34: =IF(R34=0,"",(S14-R34)) | T34: =IF(S34="","",IF(S34>1,U34)) | U34: =$U$16 -> 180 | V34: 19. | AC34: =IF(AB34=0,"",(AC14-AB34)) | AD34: =IF(AC34="","",IF(AC34>1,AE34)) | AE34: =$AE$16 -> 180 | AF34: 1 | AG34: =IF(I34="","",IF(I34>1,AF34)) | AH34: =IF(S34="","",IF(S34>1,AF34)) | AI34: =IF(AC34="","",IF(AC34>1,AF34))
B35: 20. | I35: =IF(H35=0,"",(I14-H35)) | J35: =IF(I35="","",IF(I35>1,K35)) | K35: =$K$16 -> 180 | L35: 20. | S35: =IF(R35=0,"",(S14-R35)) | T35: =IF(S35="","",IF(S35>1,U35)) | U35: =$U$16 -> 180 | V35: 20. | AC35: =IF(AB35=0,"",(AC14-AB35)) | AD35: =IF(AC35="","",IF(AC35>1,AE35)) | AE35: =$AE$16 -> 180 | AF35: 1 | AG35: =IF(I35="","",IF(I35>1,AF35)) | AH35: =IF(S35="","",IF(S35>1,AF35)) | AI35: =IF(AC35="","",IF(AC35>1,AF35))
B36: 21. | I36: =IF(H36=0,"",(I14-H36)) | J36: =IF(I36="","",IF(I36>1,K36)) | K36: =$K$16 -> 180 | L36: 21. | S36: =IF(R36=0,"",(S14-R36)) | T36: =IF(S36="","",IF(S36>1,U36)) | U36: =$U$16 -> 180 | V36: 21. | AC36: =IF(AB36=0,"",(AC14-AB36)) | AD36: =IF(AC36="","",IF(AC36>1,AE36)) | AE36: =$AE$16 -> 180 | AF36: 1 | AG36: =IF(I36="","",IF(I36>1,AF36)) | AH36: =IF(S36="","",IF(S36>1,AF36)) | AI36: =IF(AC36="","",IF(AC36>1,AF36))
B37: 22. | I37: =IF(H37=0,"",(I14-H37)) | J37: =IF(I37="","",IF(I37>1,K37)) | K37: =$K$16 -> 180 | L37: 22. | S37: =IF(R37=0,"",(S14-R37)) | T37: =IF(S37="","",IF(S37>1,U37)) | U37: =$U$16 -> 180 | V37: 22. | AC37: =IF(AB37=0,"",(AC14-AB37)) | AD37: =IF(AC37="","",IF(AC37>1,AE37)) | AE37: =$AE$16 -> 180 | AF37: 1 | AG37: =IF(I37="","",IF(I37>1,AF37)) | AH37: =IF(S37="","",IF(S37>1,AF37)) | AI37: =IF(AC37="","",IF(AC37>1,AF37))
B38: 23. | I38: =IF(H38=0,"",(I14-H38)) | J38: =IF(I38="","",IF(I38>1,K38)) | K38: =$K$16 -> 180 | L38: 23. | S38: =IF(R38=0,"",(S14-R38)) | T38: =IF(S38="","",IF(S38>1,U38)) | U38: =$U$16 -> 180 | V38: 23. | AC38: =IF(AB38=0,"",(AC14-AB38)) | AD38: =IF(AC38="","",IF(AC38>1,AE38)) | AE38: =$AE$16 -> 180 | AF38: 1 | AG38: =IF(I38="","",IF(I38>1,AF38)) | AH38: =IF(S38="","",IF(S38>1,AF38)) | AI38: =IF(AC38="","",IF(AC38>1,AF38))
B39: 24. | I39: =IF(H39=0,"",(I14-H39)) | J39: =IF(I39="","",IF(I39>1,K39)) | K39: =$K$16 -> 180 | L39: 24. | S39: =IF(R39=0,"",(S14-R39)) | T39: =IF(S39="","",IF(S39>1,U39)) | U39: =$U$16 -> 180 | V39: 24. | AC39: =IF(AB39=0,"",(AC14-AB39)) | AD39: =IF(AC39="","",IF(AC39>1,AE39)) | AE39: =$AE$16 -> 180 | AF39: 1 | AG39: =IF(I39="","",IF(I39>1,AF39)) | AH39: =IF(S39="","",IF(S39>1,AF39)) | AI39: =IF(AC39="","",IF(AC39>1,AF39))
B40: 25. | I40: =IF(H40=0,"",(I14-H40)) | J40: =IF(I40="","",IF(I40>1,K40)) | K40: =$K$16 -> 180 | L40: 25. | S40: =IF(R40=0,"",(S14-R40)) | T40: =IF(S40="","",IF(S40>1,U40)) | U40: =$U$16 -> 180 | V40: 25. | AC40: =IF(AB40=0,"",(AC14-AB40)) | AD40: =IF(AC40="","",IF(AC40>1,AE40)) | AE40: =$AE$16 -> 180 | AF40: 1 | AG40: =IF(I40="","",IF(I40>1,AF40)) | AH40: =IF(S40="","",IF(S40>1,AF40)) | AI40: =IF(AC40="","",IF(AC40>1,AF40))
AG41: =SUM(AG16:AG40) -> 0 | AH41: =SUM(AH16:AH40) -> 0 | AI41: =SUM(AI16:AI40) -> 0

Sheet Miniformace baton
B1: Miniformace baton | E1: =údaje!A1 -> 2026 | L1: Miniformace baton | O1: =údaje!A1 -> 2026 | V1: Miniformace baton | Y1: =údaje!A1 -> 2026
B2: =údaje!A2 -> 15. ročník mažoretkové soutěže "O pohár města Hranice" | L2: =údaje!A2 -> 15. ročník mažoretkové soutěže "O pohár města Hranice" | V2: =údaje!A2 -> 15. ročník mažoretkové soutěže "O pohár města Hranice"
B4: Název skupiny | L4: Název skupiny | V4: Název skupiny
B5: Město | L5: Město | V5: Město
B6: Délka skladby | L6: Délka skladby | V6: Délka skladby
B7: Zda máte více skupin pro stejnou disciplínu, tak pro druhou skupinu, použíjte vedlejší tabulku. | L7: Zda máte více skupin pro stejnou disciplínu, tak pro druhou skupinu, použíjte vedlejší tabulku.
B9: Věkový průměr | F9: =AVERAGE(I16:I22) -> #DIV/0! | L9: Věkový průměr | P9: =AVERAGE(S16:S22) -> #DIV/0! | V9: Věkový průměr | Z9: =AVERAGE(AC16:AC22) -> #DIV/0!
B10: Zařazení do soutěžní kategorie | F10: =IF($F$9<6,"děti",IF($F$9<8,"kadetky ml",IF($F$9<10,"kadetky st",IF($F$9<12,"juniorky ml",IF($F$9<15,"juniorky st","seniorky"))))) -> #DIV/0! | L10: Zařazení do soutěžní kategorie | P10: =IF($P$9<6,"děti",IF($P$9<8,"kadetky ml",IF($P$9<10,"kadetky st",IF($P$9<12,"juniorky ml",IF($P$9<15,"juniorky st","seniorky"))))) -> #DIV/0! | V10: Zařazení do soutěžní kategorie | Z10: =IF($Z$9<6,"děti",IF($Z$9<8,"kadetky ml",IF($Z$9<10,"kadetky st",IF($Z$9<12,"juniorky ml",IF($Z$9<15,"juniorky st","seniorky"))))) -> #DIV/0!
B11: Startovné celkem | F11: =SUM(J16:J22) -> 0 | L11: Startovné celkem | P11: =SUM(T16:T22) -> 0 | V11: Startovné celkem | Z11: =SUM(AD16:AD22) -> 0
F14: Datum narození | I14: =údaje!A1 -> 2026 | P14: Datum narození | S14: =údaje!A1 -> 2026 | Z14: Datum narození | AC14: =údaje!A1 -> 2026
B15: Jméno a příjmení | F15: den | G15: měsíc | H15: rok | I15: věk | J15: Startovné | L15: Jméno a příjmení | P15: den | Q15: měsíc | R15: rok | S15: věk | T15: Startovné | V15: Jméno a příjmení | Z15: den | AA15: měsíc | AB15: rok | AC15: věk | AD15: Startovné
B16: 1. | I16: =IF(H16=0,"",(I14-H16)) | J16: =IF(I16="","",IF(I16>1,K16)) | K16: =údaje!A3 -> 180 | L16: 1. | S16: =IF(R16=0,"",(S14-R16)) | T16: =IF(S16="","",IF(S16>1,U16)) | U16: =údaje!A3 -> 180 | V16: 1. | AC16: =IF(AB16=0,"",(AC14-AB16)) | AD16: =IF(AC16="","",IF(AC16>1,AE16)) | AE16: =údaje!A3 -> 180 | AF16: 1 | AG16: =IF(I16="","",IF(I16>1,AF16)) | AH16: =IF(S16="","",IF(S16>1,AF16)) | AI16: =IF(AC16="","",IF(AC16>1,AF16))
B17: 2. | I17: =IF(H17=0,"",(I14-H17)) | J17: =IF(I17="","",IF(I17>1,K17)) | K17: =$K$16 -> 180 | L17: 2. | S17: =IF(R17=0,"",(S14-R17)) | T17: =IF(S17="","",IF(S17>1,U17)) | U17: =$U$16 -> 180 | V17: 2. | AC17: =IF(AB17=0,"",(AC14-AB17)) | AD17: =IF(AC17="","",IF(AC17>1,AE17)) | AE17: =$AE$16 -> 180 | AF17: 1 | AG17: =IF(I17="","",IF(I17>1,AF17)) | AH17: =IF(S17="","",IF(S17>1,AF17)) | AI17: =IF(AC17="","",IF(AC17>1,AF17))
B18: 3. | I18: =IF(H18=0,"",(I14-H18)) | J18: =IF(I18="","",IF(I18>1,K18)) | K18: =$K$16 -> 180 | L18: 3. | S18: =IF(R18=0,"",(S14-R18)) | T18: =IF(S18="","",IF(S18>1,U18)) | U18: =$U$16 -> 180 | V18: 3. | AC18: =IF(AB18=0,"",(AC14-AB18)) | AD18: =IF(AC18="","",IF(AC18>1,AE18)) | AE18: =$AE$16 -> 180 | AF18: 1 | AG18: =IF(I18="","",IF(I18>1,AF18)) | AH18: =IF(S18="","",IF(S18>1,AF18)) | AI18: =IF(AC18="","",IF(AC18>1,AF18))
B19: 4. | I19: =IF(H19=0,"",(I14-H19)) | J19: =IF(I19="","",IF(I19>1,K19)) | K19: =$K$16 -> 180 | L19: 4. | S19: =IF(R19=0,"",(S14-R19)) | T19: =IF(S19="","",IF(S19>1,U19)) | U19: =$U$16 -> 180 | V19: 4. | AC19: =IF(AB19=0,"",(AC14-AB19)) | AD19: =IF(AC19="","",IF(AC19>1,AE19)) | AE19: =$AE$16 -> 180 | AF19: 1 | AG19: =IF(I19="","",IF(I19>1,AF19)) | AH19: =IF(S19="","",IF(S19>1,AF19)) | AI19: =IF(AC19="","",IF(AC19>1,AF19))
B20: 5. | I20: =IF(H20=0,"",(I14-H20)) | J20: =IF(I20="","",IF(I20>1,K20)) | K20: =$K$16 -> 180 | L20: 5. | S20: =IF(R20=0,"",(S14-R20)) | T20: =IF(S20="","",IF(S20>1,U20)) | U20: =$U$16 -> 180 | V20: 5. | AC20: =IF(AB20=0,"",(AC14-AB20)) | AD20: =IF(AC20="","",IF(AC20>1,AE20)) | AE20: =$AE$16 -> 180 | AF20: 1 | AG20: =IF(I20="","",IF(I20>1,AF20)) | AH20: =IF(S20="","",IF(S20>1,AF20)) | AI20: =IF(AC20="","",IF(AC20>1,AF20))
B21: 6. | I21: =IF(H21=0,"",(I14-H21)) | J21: =IF(I21="","",IF(I21>1,K21)) | K21: =$K$16 -> 180 | L21: 6. | S21: =IF(R21=0,"",(S14-R21)) | T21: =IF(S21="","",IF(S21>1,U21)) | U21: =$U$16 -> 180 | V21: 6. | AC21: =IF(AB21=0,"",(AC14-AB21)) | AD21: =IF(AC21="","",IF(AC21>1,AE21)) | AE21: =$AE$16 -> 180 | AF21: 1 | AG21: =IF(I21="","",IF(I21>1,AF21)) | AH21: =IF(S21="","",IF(S21>1,AF21)) | AI21: =IF(AC21="","",IF(AC21>1,AF21))
B22: 7. | I22: =IF(H22=0,"",(I14-H22)) | J22: =IF(I22="","",IF(I22>1,K22)) | K22: =$K$16 -> 180 | L22: 7. | S22: =IF(R22=0,"",(S14-R22)) | T22: =IF(S22="","",IF(S22>1,U22)) | U22: =$U$16 -> 180 | V22: 7. | AC22: =IF(AB22=0,"",(AC14-AB22)) | AD22: =IF(AC22="","",IF(AC22>1,AE22)) | AE22: =$AE$16 -> 180 | AF22: 1 | AG22: =IF(I22="","",IF(I22>1,AF22)) | AH22: =IF(S22="","",IF(S22>1,AF22)) | AI22: =IF(AC22="","",IF(AC22>1,AF22))
AG23: =SUM(AG16:AG22) -> 0 | AH23: =SUM(AH16:AH22) -> 0 | AI23: =SUM(AI16:AI22) -> 0

Sheet Skupina pompony
B1: Skupina pompony | E1: =údaje!A1 -> 2026 | L1: Skupina pompony | O1: =údaje!A1 -> 2026 | V1: Skupina pompony | Y1: =údaje!A1 -> 2026
B2: =údaje!A2 -> 15. ročník mažoretkové soutěže "O pohár města Hranice" | L2: =údaje!A2 -> 15. ročník mažoretkové soutěže "O pohár města Hranice" | V2: =údaje!A2 -> 15. ročník mažoretkové soutěže "O pohár města Hranice"
B4: Název skupiny | L4: Název skupiny | V4: Název skupiny
B5: Město | L5: Město | V5: Město
B6: Délka skladby | L6: Délka skladby | V6: Délka skladby
B7: Zda máte více skupin pro stejnou disciplínu, tak pro druhou skupinu, použíjte vedlejší tabulku. | L7: Zda máte více skupin pro stejnou disciplínu, tak pro druhou skupinu, použíjte vedlejší tabulku.
B9: Věkový průměr | F9: =AVERAGE(I16:I42) -> #DIV/0! | L9: Věkový průměr | P9: =AVERAGE(S16:S42) -> #DIV/0! | V9: Věkový průměr | Z9: =AVERAGE(AC16:AC42) -> #DIV/0!
B10: Zařazení do soutěžní kategorie | F10: =IF($F$9<6,"děti",IF($F$9<8,"kadetky ml",IF($F$9<10,"kadetky st",IF($F$9<12,"juniorky ml",IF($F$9<15,"juniorky st","seniorky"))))) -> #DIV/0! | L10: Zařazení do soutěžní kategorie | P10: =IF($P$9<6,"děti",IF($P$9<8,"kadetky ml",IF($P$9<10,"kadetky st",IF($P$9<12,"juniorky ml",IF($P$9<15,"juniorky st","seniorky"))))) -> #DIV/0! | V10: Zařazení do soutěžní kategorie | Z10: =IF($Z$9<6,"děti",IF($Z$9<8,"kadetky ml",IF($Z$9<10,"kadetky st",IF($Z$9<12,"juniorky ml",IF($Z$9<15,"juniorky st","seniorky"))))) -> #DIV/0!
B11: Startovné celkem | F11: =SUM(J16:J42) -> 0 | L11: Startovné celkem | P11: =SUM(T16:T42) -> 0 | V11: Startovné celkem | Z11: =SUM(AD16:AD42) -> 0
F14: Datum narození | I14: =údaje!A1 -> 2026 | P14: Datum narození | S14: =údaje!A1 -> 2026 | Z14: Datum narození | AC14: =údaje!A1 -> 2026
B15: Jméno a příjmení | F15: den | G15: měsíc | H15: rok | I15: věk | J15: Startovné | L15: Jméno a příjmení | P15: den | Q15: měsíc | R15: rok | S15: věk | T15: Startovné | V15: Jméno a příjmení | Z15: den | AA15: měsíc | AB15: rok | AC15: věk | AD15: Startovné
B16: 1. | I16: =IF(H16=0,"",(I14-H16)) | J16: =IF(I16="","",IF(I16>1,K16)) | K16: =údaje!A3 -> 180 | L16: 1. | S16: =IF(R16=0,"",(S14-R16)) | T16: =IF(S16="","",IF(S16>1,U16)) | U16: =údaje!A3 -> 180 | V16: 1. | AC16: =IF(AB16=0,"",(AC14-AB16)) | AD16: =IF(AC16="","",IF(AC16>1,AE16)) | AE16: =údaje!A3 -> 180 | AF16: 1 | AG16: =IF(I16="","",IF(I16>1,AF16)) | AH16: =IF(S16="","",IF(S16>1,AF16)) | AI16: =IF(AC16="","",IF(AC16>1,AF16))
B17: 2. | I17: =IF(H17=0,"",(I14-H17)) | J17: =IF(I17="","",IF(I17>1,K17)) | K17: =$K$16 -> 180 | L17: 2. | S17: =IF(R17=0,"",(S14-R17)) | T17: =IF(S17="","",IF(S17>1,U17)) | U17: =$U$16 -> 180 | V17: 2. | AC17: =IF(AB17=0,"",(AC14-AB17)) | AD17: =IF(AC17="","",IF(AC17>1,AE17)) | AE17: =$AE$16 -> 180 | AF17: 1 | AG17: =IF(I17="","",IF(I17>1,AF17)) | AH17: =IF(S17="","",IF(S17>1,AF17)) | AI17: =IF(AC17="","",IF(AC17>1,AF17))
B18: 3. | I18: =IF(H18=0,"",(I14-H18)) | J18: =IF(I18="","",IF(I18>1,K18)) | K18: =$K$16 -> 180 | L18: 3. | S18: =IF(R18=0,"",(S14-R18)) | T18: =IF(S18="","",IF(S18>1,U18)) | U18: =$U$16 -> 180 | V18: 3. | AC18: =IF(AB18=0,"",(AC14-AB18)) | AD18: =IF(AC18="","",IF(AC18>1,AE18)) | AE18: =$AE$16 -> 180 | AF18: 1 | AG18: =IF(I18="","",IF(I18>1,AF18)) | AH18: =IF(S18="","",IF(S18>1,AF18)) | AI18: =IF(AC18="","",IF(AC18>1,AF18))
B19: 4. | I19: =IF(H19=0,"",(I14-H19)) | J19: =IF(I19="","",IF(I19>1,K19)) | K19: =$K$16 -> 180 | L19: 4. | S19: =IF(R19=0,"",(S14-R19)) | T19: =IF(S19="","",IF(S19>1,U19)) | U19: =$U$16 -> 180 | V19: 4. | AC19: =IF(AB19=0,"",(AC14-AB19)) | AD19: =IF(AC19="","",IF(AC19>1,AE19)) | AE19: =$AE$16 -> 180 | AF19: 1 | AG19: =IF(I19="","",IF(I19>1,AF19)) | AH19: =IF(S19="","",IF(S19>1,AF19)) | AI19: =IF(AC19="","",IF(AC19>1,AF19))
B20: 5. | I20: =IF(H20=0,"",(I14-H20)) | J20: =IF(I20="","",IF(I20>1,K20)) | K20: =$K$16 -> 180 | L20: 5. | S20: =IF(R20=0,"",(S14-R20)) | T20: =IF(S20="","",IF(S20>1,U20)) | U20: =$U$16 -> 180 | V20: 5. | AC20: =IF(AB20=0,"",(AC14-AB20)) | AD20: =IF(AC20="","",IF(AC20>1,AE20)) | AE20: =$AE$16 -> 180 | AF20: 1 | AG20: =IF(I20="","",IF(I20>1,AF20)) | AH20: =IF(S20="","",IF(S20>1,AF20)) | AI20: =IF(AC20="","",IF(AC20>1,AF20))
B21: 6. | I21: =IF(H21=0,"",(I14-H21)) | J21: =IF(I21="","",IF(I21>1,K21)) | K21: =$K$16 -> 180 | L21: 6. | S21: =IF(R21=0,"",(S14-R21)) | T21: =IF(S21="","",IF(S21>1,U21)) | U21: =$U$16 -> 180 | V21: 6. | AC21: =IF(AB21=0,"",(AC14-AB21)) | AD21: =IF(AC21="","",IF(AC21>1,AE21)) | AE21: =$AE$16 -> 180 | AF21: 1 | AG21: =IF(I21="","",IF(I21>1,AF21)) | AH21: =IF(S21="","",IF(S21>1,AF21)) | AI21: =IF(AC21="","",IF(AC21>1,AF21))
B22: 7. | I22: =IF(H22=0,"",(I14-H22)) | J22: =IF(I22="","",IF(I22>1,K22)) | K22: =$K$16 -> 180 | L22: 7. | S22: =IF(R22=0,"",(S14-R22)) | T22: =IF(S22="","",IF(S22>1,U22)) | U22: =$U$16 -> 180 | V22: 7. | AC22: =IF(AB22=0,"",(AC14-AB22)) | AD22: =IF(AC22="","",IF(AC22>1,AE22)) | AE22: =$AE$16 -> 180 | AF22: 1 | AG22: =IF(I22="","",IF(I22>1,AF22)) | AH22: =IF(S22="","",IF(S22>1,AF22)) | AI22: =IF(AC22="","",IF(AC22>1,AF22))
B23: 8. | I23: =IF(H23=0,"",(I14-H23)) | J23: =IF(I23="","",IF(I23>1,K23)) | K23: =$K$16 -> 180 | L23: 8. | S23: =IF(R23=0,"",(S14-R23)) | T23: =IF(S23="","",IF(S23>1,U23)) | U23: =$U$16 -> 180 | V23: 8. | AC23: =IF(AB23=0,"",(AC14-AB23)) | AD23: =IF(AC23="","",IF(AC23>1,AE23)) | AE23: =$AE$16 -> 180 | AF23: 1 | AG23: =IF(I23="","",IF(I23>1,AF23)) | AH23: =IF(S23="","",IF(S23>1,AF23)) | AI23: =IF(AC23="","",IF(AC23>1,AF23))
B24: 9. | I24: =IF(H24=0,"",(I14-H24)) | J24: =IF(I24="","",IF(I24>1,K24)) | K24: =$K$16 -> 180 | L24: 9. | S24: =IF(R24=0,"",(S14-R24)) | T24: =IF(S24="","",IF(S24>1,U24)) | U24: =$U$16 -> 180 | V24: 9. | AC24: =IF(AB24=0,"",(AC14-AB24)) | AD24: =IF(AC24="","",IF(AC24>1,AE24)) | AE24: =$AE$16 -> 180 | AF24: 1 | AG24: =IF(I24="","",IF(I24>1,AF24)) | AH24: =IF(S24="","",IF(S24>1,AF24)) | AI24: =IF(AC24="","",IF(AC24>1,AF24))
B25: 10. | I25: =IF(H25=0,"",(I14-H25)) | J25: =IF(I25="","",IF(I25>1,K25)) | K25: =$K$16 -> 180 | L25: 10. | S25: =IF(R25=0,"",(S14-R25)) | T25: =IF(S25="","",IF(S25>1,U25)) | U25: =$U$16 -> 180 | V25: 10. | AC25: =IF(AB25=0,"",(AC14-AB25)) | AD25: =IF(AC25="","",IF(AC25>1,AE25)) | AE25: =$AE$16 -> 180 | AF25: 1 | AG25: =IF(I25="","",IF(I25>1,AF25)) | AH25: =IF(S25="","",IF(S25>1,AF25)) | AI25: =IF(AC25="","",IF(AC25>1,AF25))
B26: 11. | I26: =IF(H26=0,"",(I14-H26)) | J26: =IF(I26="","",IF(I26>1,K26)) | K26: =$K$16 -> 180 | L26: 11. | S26: =IF(R26=0,"",(S14-R26)) | T26: =IF(S26="","",IF(S26>1,U26)) | U26: =$U$16 -> 180 | V26: 11. | AC26: =IF(AB26=0,"",(AC14-AB26)) | AD26: =IF(AC26="","",IF(AC26>1,AE26)) | AE26: =$AE$16 -> 180 | AF26: 1 | AG26: =IF(I26="","",IF(I26>1,AF26)) | AH26: =IF(S26="","",IF(S26>1,AF26)) | AI26: =IF(AC26="","",IF(AC26>1,AF26))
B27: 12. | I27: =IF(H27=0,"",(I14-H27)) | J27: =IF(I27="","",IF(I27>1,K27)) | K27: =$K$16 -> 180 | L27: 12. | S27: =IF(R27=0,"",(S14-R27)) | T27: =IF(S27="","",IF(S27>1,U27)) | U27: =$U$16 -> 180 | V27: 12. | AC27: =IF(AB27=0,"",(AC14-AB27)) | AD27: =IF(AC27="","",IF(AC27>1,AE27)) | AE27: =$AE$16 -> 180 | AF27: 1 | AG27: =IF(I27="","",IF(I27>1,AF27)) | AH27: =IF(S27="","",IF(S27>1,AF27)) | AI27: =IF(AC27="","",IF(AC27>1,AF27))
B28: 13. | I28: =IF(H28=0,"",(I14-H28)) | J28: =IF(I28="","",IF(I28>1,K28)) | K28: =$K$16 -> 180 | L28: 13. | S28: =IF(R28=0,"",(S14-R28)) | T28: =IF(S28="","",IF(S28>1,U28)) | U28: =$U$16 -> 180 | V28: 13. | AC28: =IF(AB28=0,"",(AC14-AB28)) | AD28: =IF(AC28="","",IF(AC28>1,AE28)) | AE28: =$AE$16 -> 180 | AF28: 1 | AG28: =IF(I28="","",IF(I28>1,AF28)) | AH28: =IF(S28="","",IF(S28>1,AF28)) | AI28: =IF(AC28="","",IF(AC28>1,AF28))
B29: 14. | I29: =IF(H29=0,"",(I14-H29)) | J29: =IF(I29="","",IF(I29>1,K29)) | K29: =$K$16 -> 180 | L29: 14. | S29: =IF(R29=0,"",(S14-R29)) | T29: =IF(S29="","",IF(S29>1,U29)) | U29: =$U$16 -> 180 | V29: 14. | AC29: =IF(AB29=0,"",(AC14-AB29)) | AD29: =IF(AC29="","",IF(AC29>1,AE29)) | AE29: =$AE$16 -> 180 | AF29: 1 | AG29: =IF(I29="","",IF(I29>1,AF29)) | AH29: =IF(S29="","",IF(S29>1,AF29)) | AI29: =IF(AC29="","",IF(AC29>1,AF29))
B30: 15. | I30: =IF(H30=0,"",(I14-H30)) | J30: =IF(I30="","",IF(I30>1,K30)) | K30: =$K$16 -> 180 | L30: 15. | S30: =IF(R30=0,"",(S14-R30)) | T30: =IF(S30="","",IF(S30>1,U30)) | U30: =$U$16 -> 180 | V30: 15. | AC30: =IF(AB30=0,"",(AC14-AB30)) | AD30: =IF(AC30="","",IF(AC30>1,AE30)) | AE30: =$AE$16 -> 180 | AF30: 1 | AG30: =IF(I30="","",IF(I30>1,AF30)) | AH30: =IF(S30="","",IF(S30>1,AF30)) | AI30: =IF(AC30="","",IF(AC30>1,AF30))
B31: 16. | I31: =IF(H31=0,"",(I14-H31)) | J31: =IF(I31="","",IF(I31>1,K31)) | K31: =$K$16 -> 180 | L31: 16. | S31: =IF(R31=0,"",(S14-R31)) | T31: =IF(S31="","",IF(S31>1,U31)) | U31: =$U$16 -> 180 | V31: 16. | AC31: =IF(AB31=0,"",(AC14-AB31)) | AD31: =IF(AC31="","",IF(AC31>1,AE31)) | AE31: =$AE$16 -> 180 | AF31: 1 | AG31: =IF(I31="","",IF(I31>1,AF31)) | AH31: =IF(S31="","",IF(S31>1,AF31)) | AI31: =IF(AC31="","",IF(AC31>1,AF31))
B32: 17. | I32: =IF(H32=0,"",(I14-H32)) | J32: =IF(I32="","",IF(I32>1,K32)) | K32: =$K$16 -> 180 | L32: 17. | S32: =IF(R32=0,"",(S14-R32)) | T32: =IF(S32="","",IF(S32>1,U32)) | U32: =$U$16 -> 180 | V32: 17. | AC32: =IF(AB32=0,"",(AC14-AB32)) | AD32: =IF(AC32="","",IF(AC32>1,AE32)) | AE32: =$AE$16 -> 180 | AF32: 1 | AG32: =IF(I32="","",IF(I32>1,AF32)) | AH32: =IF(S32="","",IF(S32>1,AF32)) | AI32: =IF(AC32="","",IF(AC32>1,AF32))
B33: 18. | I33: =IF(H33=0,"",(I14-H33)) | J33: =IF(I33="","",IF(I33>1,K33)) | K33: =$K$16 -> 180 | L33: 18. | S33: =IF(R33=0,"",(S14-R33)) | T33: =IF(S33="","",IF(S33>1,U33)) | U33: =$U$16 -> 180 | V33: 18. | AC33: =IF(AB33=0,"",(AC14-AB33)) | AD33: =IF(AC33="","",IF(AC33>1,AE33)) | AE33: =$AE$16 -> 180 | AF33: 1 | AG33: =IF(I33="","",IF(I33>1,AF33)) | AH33: =IF(S33="","",IF(S33>1,AF33)) | AI33: =IF(AC33="","",IF(AC33>1,AF33))
B34: 19. | I34: =IF(H34=0,"",(I14-H34)) | J34: =IF(I34="","",IF(I34>1,K34)) | K34: =$K$16 -> 180 | L34: 19. | S34: =IF(R34=0,"",(S14-R34)) | T34: =IF(S34="","",IF(S34>1,U34)) | U34: =$U$16 -> 180 | V34: 19. | AC34: =IF(AB34=0,"",(AC14-AB34)) | AD34: =IF(AC34="","",IF(AC34>1,AE34)) | AE34: =$AE$16 -> 180 | AF34: 1 | AG34: =IF(I34="","",IF(I34>1,AF34)) | AH34: =IF(S34="","",IF(S34>1,AF34)) | AI34: =IF(AC34="","",IF(AC34>1,AF34))
B35: 20. | I35: =IF(H35=0,"",(I14-H35)) | J35: =IF(I35="","",IF(I35>1,K35)) | K35: =$K$16 -> 180 | L35: 20. | S35: =IF(R35=0,"",(S14-R35)) | T35: =IF(S35="","",IF(S35>1,U35)) | U35: =$U$16 -> 180 | V35: 20. | AC35: =IF(AB35=0,"",(AC14-AB35)) | AD35: =IF(AC35="","",IF(AC35>1,AE35)) | AE35: =$AE$16 -> 180 | AF35: 1 | AG35: =IF(I35="","",IF(I35>1,AF35)) | AH35: =IF(S35="","",IF(S35>1,AF35)) | AI35: =IF(AC35="","",IF(AC35>1,AF35))
B36: 21. | I36: =IF(H36=0,"",(I14-H36)) | J36: =IF(I36="","",IF(I36>1,K36)) | K36: =$K$16 -> 180 | L36: 21. | S36: =IF(R36=0,"",(S14-R36)) | T36: =IF(S36="","",IF(S36>1,U36)) | U36: =$U$16 -> 180 | V36: 21. | AC36: =IF(AB36=0,"",(AC14-AB36)) | AD36: =IF(AC36="","",IF(AC36>1,AE36)) | AE36: =$AE$16 -> 180 | AF36: 1 | AG36: =IF(I36="","",IF(I36>1,AF36)) | AH36: =IF(S36="","",IF(S36>1,AF36)) | AI36: =IF(AC36="","",IF(AC36>1,AF36))
B37: 22. | I37: =IF(H37=0,"",(I14-H37)) | J37: =IF(I37="","",IF(I37>1,K37)) | K37: =$K$16 -> 180 | L37: 22. | S37: =IF(R37=0,"",(S14-R37)) | T37: =IF(S37="","",IF(S37>1,U37)) | U37: =$U$16 -> 180 | V37: 22. | AC37: =IF(AB37=0,"",(AC14-AB37)) | AD37: =IF(AC37="","",IF(AC37>1,AE37)) | AE37: =$AE$16 -> 180 | AF37: 1 | AG37: =IF(I37="","",IF(I37>1,AF37)) | AH37: =IF(S37="","",IF(S37>1,AF37)) | AI37: =IF(AC37="","",IF(AC37>1,AF37))
B38: 23. | I38: =IF(H38=0,"",(I14-H38)) | J38: =IF(I38="","",IF(I38>1,K38)) | K38: =$K$16 -> 180 | L38: 23. | S38: =IF(R38=0,"",(S14-R38)) | T38: =IF(S38="","",IF(S38>1,U38)) | U38: =$U$16 -> 180 | V38: 23. | AC38: =IF(AB38=0,"",(AC14-AB38)) | AD38: =IF(AC38="","",IF(AC38>1,AE38)) | AE38: =$AE$16 -> 180 | AF38: 1 | AG38: =IF(I38="","",IF(I38>1,AF38)) | AH38: =IF(S38="","",IF(S38>1,AF38)) | AI38: =IF(AC38="","",IF(AC38>1,AF38))
B39: 24. | I39: =IF(H39=0,"",(I14-H39)) | J39: =IF(I39="","",IF(I39>1,K39)) | K39: =$K$16 -> 180 | L39: 24. | S39: =IF(R39=0,"",(S14-R39)) | T39: =IF(S39="","",IF(S39>1,U39)) | U39: =$U$16 -> 180 | V39: 24. | AC39: =IF(AB39=0,"",(AC14-AB39)) | AD39: =IF(AC39="","",IF(AC39>1,AE39)) | AE39: =$AE$16 -> 180 | AF39: 1 | AG39: =IF(I39="","",IF(I39>1,AF39)) | AH39: =IF(S39="","",IF(S39>1,AF39)) | AI39: =IF(AC39="","",IF(AC39>1,AF39))
B40: 25. | I40: =IF(H40=0,"",(I14-H40)) | J40: =IF(I40="","",IF(I40>1,K40)) | K40: =$K$16 -> 180 | L40: 25. | S40: =IF(R40=0,"",(S14-R40)) | T40: =IF(S40="","",IF(S40>1,U40)) | U40: =$U$16 -> 180 | V40: 25. | AC40: =IF(AB40=0,"",(AC14-AB40)) | AD40: =IF(AC40="","",IF(AC40>1,AE40)) | AE40: =$AE$16 -> 180 | AF40: 1 | AG40: =IF(I40="","",IF(I40>1,AF40)) | AH40: =IF(S40="","",IF(S40>1,AF40)) | AI40: =IF(AC40="","",IF(AC40>1,AF40))
B41: 26. | I41: =IF(H41=0,"",(I14-H41)) | J41: =IF(I41="","",IF(I41>1,K41)) | K41: =$K$16 -> 180 | L41: 26. | S41: =IF(R41=0,"",(S14-R41)) | T41: =IF(S41="","",IF(S41>1,U41)) | U41: =$U$16 -> 180 | V41: 26. | AC41: =IF(AB41=0,"",(AC14-AB41)) | AD41: =IF(AC41="","",IF(AC41>1,AE41)) | AE41: =$AE$16 -> 180 | AF41: 1 | AG41: =IF(I41="","",IF(I41>1,AF41)) | AH41: =IF(S41="","",IF(S41>1,AF41)) | AI41: =IF(AC41="","",IF(AC41>1,AF41))
B42: 27. | I42: =IF(H42=0,"",(I14-H42)) | J42: =IF(I42="","",IF(I42>1,K42)) | K42: =$K$16 -> 180 | L42: 27. | S42: =IF(R42=0,"",(S14-R42)) | T42: =IF(S42="","",IF(S42>1,U42)) | U42: =$U$16 -> 180 | V42: 27. | AC42: =IF(AB42=0,"",(AC14-AB42)) | AD42: =IF(AC42="","",IF(AC42>1,AE42)) | AE42: =$AE$16 -> 180 | AF42: 1 | AG42: =IF(I42="","",IF(I42>1,AF42)) | AH42: =IF(S42="","",IF(S42>1,AF42)) | AI42: =IF(AC42="","",IF(AC42>1,AF42))
AG43: =SUM(AG16:AG42) -> 0 | AH43: =SUM(AH16:AH42) -> 0 | AI43: =SUM(AI16:AI42) -> 0

Sheet Miniformace pompony
B1: Miformace pompony | F1: =údaje!A1 -> 2026 | L1: Miformace pompony | P1: =údaje!A1 -> 2026 | V1: Miformace pompony | Z1: =údaje!A1 -> 2026
B2: =údaje!A2 -> 15. ročník mažoretkové soutěže "O pohár města Hranice" | L2: =údaje!A2 -> 15. ročník mažoretkové soutěže "O pohár města Hranice" | V2: =údaje!A2 -> 15. ročník mažoretkové soutěže "O pohár města Hranice"
B4: Název skupiny | L4: Název skupiny | V4: Název skupiny
B5: Město | L5: Město | V5: Město
B6: Délka skladby | L6: Délka skladby | V6: Délka skladby
B7: Zda máte více skupin pro stejnou disciplínu, tak pro druhou skupinu, použíjte vedlejší tabulku. | L7: Zda máte více skupin pro stejnou disciplínu, tak pro druhou skupinu, použíjte vedlejší tabulku.
B9: Věkový průměr | F9: =AVERAGE(I16:I22) -> #DIV/0! | L9: Věkový průměr | P9: =AVERAGE(S16:S22) -> #DIV/0! | V9: Věkový průměr | Z9: =AVERAGE(AC16:AC22) -> #DIV/0!
B10: Zařazení do soutěžní kategorie | F10: =IF($F$9<6,"děti",IF($F$9<8,"kadetky ml",IF($F$9<10,"kadetky st",IF($F$9<12,"juniorky ml",IF($F$9<15,"juniorky st","seniorky"))))) -> #DIV/0! | L10: Zařazení do soutěžní kategorie | P10: =IF($P$9<6,"děti",IF($P$9<8,"kadetky ml",IF($P$9<10,"kadetky st",IF($P$9<12,"juniorky ml",IF($P$9<15,"juniorky st","seniorky"))))) -> #DIV/0! | V10: Zařazení do soutěžní kategorie | Z10: =IF($Z$9<6,"děti",IF($Z$9<8,"kadetky ml",IF($Z$9<10,"kadetky st",IF($Z$9<12,"juniorky ml",IF($Z$9<15,"juniorky st","seniorky"))))) -> #DIV/0!
B11: Startovné celkem | F11: =SUM(J16:J22) -> 0 | L11: Startovné celkem | P11: =SUM(T16:T22) -> 0 | V11: Startovné celkem | Z11: =SUM(AD16:AD22) -> 0
F14: Datum narození | I14: =údaje!A1 -> 2026 | P14: Datum narození | S14: =údaje!A1 -> 2026 | Z14: Datum narození | AC14: =údaje!A1 -> 2026
B15: Jméno a příjmení | F15: den | G15: měsíc | H15: rok | I15: věk | J15: Startovné | L15: Jméno a příjmení | P15: den | Q15: měsíc | R15: rok | S15: věk | T15: Startovné | V15: Jméno a příjmení | Z15: den | AA15: měsíc | AB15: rok | AC15: věk | AD15: Startovné
B16: 1. | I16: =IF(H16=0,"",(I14-H16)) | J16: =IF(I16="","",IF(I16>1,K16)) | K16: =údaje!A3 -> 180 | L16: 1. | S16: =IF(R16=0,"",(S14-R16)) | T16: =IF(S16="","",IF(S16>1,U16)) | U16: =údaje!A3 -> 180 | V16: 1. | AC16: =IF(AB16=0,"",(AC14-AB16)) | AD16: =IF(AC16="","",IF(AC16>1,AE16)) | AE16: =údaje!A3 -> 180 | AF16: 1 | AG16: =IF(I16="","",IF(I16>1,AF16)) | AH16: =IF(S16="","",IF(S16>1,AF16)) | AI16: =IF(AC16="","",IF(AC16>1,AF16))
B17: 2. | I17: =IF(H17=0,"",(I14-H17)) | J17: =IF(I17="","",IF(I17>1,K17)) | K17: =$K$16 -> 180 | L17: 2. | S17: =IF(R17=0,"",(S14-R17)) | T17: =IF(S17="","",IF(S17>1,U17)) | U17: =$U$16 -> 180 | V17: 2. | AC17: =IF(AB17=0,"",(AC14-AB17)) | AD17: =IF(AC17="","",IF(AC17>1,AE17)) | AE17: =$AE$16 -> 180 | AF17: 1 | AG17: =IF(I17="","",IF(I17>1,AF17)) | AH17: =IF(S17="","",IF(S17>1,AF17)) | AI17: =IF(AC17="","",IF(AC17>1,AF17))
B18: 3. | I18: =IF(H18=0,"",(I14-H18)) | J18: =IF(I18="","",IF(I18>1,K18)) | K18: =$K$16 -> 180 | L18: 3. | S18: =IF(R18=0,"",(S14-R18)) | T18: =IF(S18="","",IF(S18>1,U18)) | U18: =$U$16 -> 180 | V18: 3. | AC18: =IF(AB18=0,"",(AC14-AB18)) | AD18: =IF(AC18="","",IF(AC18>1,AE18)) | AE18: =$AE$16 -> 180 | AF18: 1 | AG18: =IF(I18="","",IF(I18>1,AF18)) | AH18: =IF(S18="","",IF(S18>1,AF18)) | AI18: =IF(AC18="","",IF(AC18>1,AF18))
B19: 4. | I19: =IF(H19=0,"",(I14-H19)) | J19: =IF(I19="","",IF(I19>1,K19)) | K19: =$K$16 -> 180 | L19: 4. | S19: =IF(R19=0,"",(S14-R19)) | T19: =IF(S19="","",IF(S19>1,U19)) | U19: =$U$16 -> 180 | V19: 4. | AC19: =IF(AB19=0,"",(AC14-AB19)) | AD19: =IF(AC19="","",IF(AC19>1,AE19)) | AE19: =$AE$16 -> 180 | AF19: 1 | AG19: =IF(I19="","",IF(I19>1,AF19)) | AH19: =IF(S19="","",IF(S19>1,AF19)) | AI19: =IF(AC19="","",IF(AC19>1,AF19))
B20: 5. | I20: =IF(H20=0,"",(I14-H20)) | J20: =IF(I20="","",IF(I20>1,K20)) | K20: =$K$16 -> 180 | L20: 5. | S20: =IF(R20=0,"",(S14-R20)) | T20: =IF(S20="","",IF(S20>1,U20)) | U20: =$U$16 -> 180 | V20: 5. | AC20: =IF(AB20=0,"",(AC14-AB20)) | AD20: =IF(AC20="","",IF(AC20>1,AE20)) | AE20: =$AE$16 -> 180 | AF20: 1 | AG20: =IF(I20="","",IF(I20>1,AF20)) | AH20: =IF(S20="","",IF(S20>1,AF20)) | AI20: =IF(AC20="","",IF(AC20>1,AF20))
B21: 6. | I21: =IF(H21=0,"",(I14-H21)) | J21: =IF(I21="","",IF(I21>1,K21)) | K21: =$K$16 -> 180 | L21: 6. | S21: =IF(R21=0,"",(S14-R21)) | T21: =IF(S21="","",IF(S21>1,U21)) | U21: =$U$16 -> 180 | V21: 6. | AC21: =IF(AB21=0,"",(AC14-AB21)) | AD21: =IF(AC21="","",IF(AC21>1,AE21)) | AE21: =$AE$16 -> 180 | AF21: 1 | AG21: =IF(I21="","",IF(I21>1,AF21)) | AH21: =IF(S21="","",IF(S21>1,AF21)) | AI21: =IF(AC21="","",IF(AC21>1,AF21))
B22: 7. | I22: =IF(H22=0,"",(I14-H22)) | J22: =IF(I22="","",IF(I22>1,K22)) | K22: =$K$16 -> 180 | L22: 7. | S22: =IF(R22=0,"",(S14-R22)) | T22: =IF(S22="","",IF(S22>1,U22)) | U22: =$U$16 -> 180 | V22: 7. | AC22: =IF(AB22=0,"",(AC14-AB22)) | AD22: =IF(AC22="","",IF(AC22>1,AE22)) | AE22: =$AE$16 -> 180 | AF22: 1 | AG22: =IF(I22="","",IF(I22>1,AF22)) | AH22: =IF(S22="","",IF(S22>1,AF22)) | AI22: =IF(AC22="","",IF(AC22>1,AF22))
AG23: =SUM(AG16:AG22) -> 0 | AH23: =SUM(AH15:AH22) -> 0 | AI23: =SUM(AI15:AI22) -> 0

Sheet Skupina pompony klasik
B1: Skupina pompony klasik | E1: =údaje!A1 -> 2026 | L1: Skupina pompony klasik | O1: =údaje!A1 -> 2026 | V1: Skupina pompony klasik | Y1: =údaje!A1 -> 2026
B2: =údaje!A2 -> 15. ročník mažoretkové soutěže "O pohár města Hranice" | L2: =údaje!A2 -> 15. ročník mažoretkové soutěže "O pohár města Hranice" | V2: =údaje!A2 -> 15. ročník mažoretkové soutěže "O pohár města Hranice"
B4: Název skupiny | L4: Název skupiny | V4: Název skupiny
B5: Město | L5: Město | V5: Město
B6: Délka skladby | L6: Délka skladby | V6: Délka skladby
B7: Zda máte více skupin pro stejnou disciplínu, tak pro druhou skupinu, použíjte vedlejší tabulku. | L7: Zda máte více skupin pro stejnou disciplínu, tak pro druhou skupinu, použíjte vedlejší tabulku.
B9: Věkový průměr | F9: =AVERAGE(I16:I40) -> #DIV/0! | L9: Věkový průměr | P9: =AVERAGE(S16:S40) -> #DIV/0! | V9: Věkový průměr | Z9: =AVERAGE(AC16:AC40) -> #DIV/0!
B10: Zařazení do soutěžní kategorie | F10: =IF($F$9<6,"děti",IF($F$9<8,"kadetky ml",IF($F$9<10,"kadetky st",IF($F$9<12,"juniorky ml",IF($F$9<15,"juniorky st","seniorky"))))) -> #DIV/0! | L10: Zařazení do soutěžní kategorie | P10: =IF($P$9<6,"děti",IF($P$9<8,"kadetky ml",IF($P$9<10,"kadetky st",IF($P$9<12,"juniorky ml",IF($P$9<15,"juniorky st","seniorky"))))) -> #DIV/0! | V10: Zařazení do soutěžní kategorie | Z10: =IF($Z$9<6,"děti",IF($Z$9<8,"kadetky ml",IF($Z$9<10,"kadetky st",IF($Z$9<12,"juniorky ml",IF($Z$9<15,"juniorky st","seniorky"))))) -> #DIV/0!
B11: Startovné celkem | F11: =SUM(J16:J40) -> 0 | L11: Startovné celkem | P11: =SUM(T16:T40) -> 0 | V11: Startovné celkem | Z11: =SUM(AD16:AD40) -> 0
F14: Datum narození | I14: =údaje!A1 -> 2026 | P14: Datum narození | S14: =údaje!A1 -> 2026 | Z14: Datum narození | AC14: =údaje!A1 -> 2026
B15: Jméno a příjmení | F15: den | G15: měsíc | H15: rok | I15: věk | J15: Startovné | L15: Jméno a příjmení | P15: den | Q15: měsíc | R15: rok | S15: věk | T15: Startovné | V15: Jméno a příjmení | Z15: den | AA15: měsíc | AB15: rok | AC15: věk | AD15: Startovné
B16: 1. | I16: =IF(H16=0,"",(I14-H16)) | J16: =IF(I16="","",IF(I16>1,K16)) | K16: =údaje!A3 -> 180 | L16: 1. | S16: =IF(R16=0,"",(S14-R16)) | T16: =IF(S16="","",IF(S16>1,U16)) | U16: =údaje!A3 -> 180 | V16: 1. | AC16: =IF(AB16=0,"",(AC14-AB16)) | AD16: =IF(AC16="","",IF(AC16>1,AE16)) | AE16: =údaje!A3 -> 180 | AF16: 1 | AG16: =IF(I16="","",IF(I16>1,AF16)) | AH16: =IF(S16="","",IF(S16>1,AF16)) | AI16: =IF(AC16="","",IF(AC16>1,AF16))
B17: 2. | I17: =IF(H17=0,"",(I14-H17)) | J17: =IF(I17="","",IF(I17>1,K17)) | K17: =$K$16 -> 180 | L17: 2. | S17: =IF(R17=0,"",(S14-R17)) | T17: =IF(S17="","",IF(S17>1,U17)) | U17: =$U$16 -> 180 | V17: 2. | AC17: =IF(AB17=0,"",(AC14-AB17)) | AD17: =IF(AC17="","",IF(AC17>1,AE17)) | AE17: =$AE$16 -> 180 | AF17: 1 | AG17: =IF(I17="","",IF(I17>1,AF17)) | AH17: =IF(S17="","",IF(S17>1,AF17)) | AI17: =IF(AC17="","",IF(AC17>1,AF17))
B18: 3. | I18: =IF(H18=0,"",(I14-H18)) | J18: =IF(I18="","",IF(I18>1,K18)) | K18: =$K$16 -> 180 | L18: 3. | S18: =IF(R18=0,"",(S14-R18)) | T18: =IF(S18="","",IF(S18>1,U18)) | U18: =$U$16 -> 180 | V18: 3. | AC18: =IF(AB18=0,"",(AC14-AB18)) | AD18: =IF(AC18="","",IF(AC18>1,AE18)) | AE18: =$AE$16 -> 180 | AF18: 1 | AG18: =IF(I18="","",IF(I18>1,AF18)) | AH18: =IF(S18="","",IF(S18>1,AF18)) | AI18: =IF(AC18="","",IF(AC18>1,AF18))
B19: 4. | I19: =IF(H19=0,"",(I14-H19)) | J19: =IF(I19="","",IF(I19>1,K19)) | K19: =$K$16 -> 180 | L19: 4. | S19: =IF(R19=0,"",(S14-R19)) | T19: =IF(S19="","",IF(S19>1,U19)) | U19: =$U$16 -> 180 | V19: 4. | AC19: =IF(AB19=0,"",(AC14-AB19)) | AD19: =IF(AC19="","",IF(AC19>1,AE19)) | AE19: =$AE$16 -> 180 | AF19: 1 | AG19: =IF(I19="","",IF(I19>1,AF19)) | AH19: =IF(S19="","",IF(S19>1,AF19)) | AI19: =IF(AC19="","",IF(AC19>1,AF19))
B20: 5. | I20: =IF(H20=0,"",(I14-H20)) | J20: =IF(I20="","",IF(I20>1,K20)) | K20: =$K$16 -> 180 | L20: 5. | S20: =IF(R20=0,"",(S14-R20)) | T20: =IF(S20="","",IF(S20>1,U20)) | U20: =$U$16 -> 180 | V20: 5. | AC20: =IF(AB20=0,"",(AC14-AB20)) | AD20: =IF(AC20="","",IF(AC20>1,AE20)) | AE20: =$AE$16 -> 180 | AF20: 1 | AG20: =IF(I20="","",IF(I20>1,AF20)) | AH20: =IF(S20="","",IF(S20>1,AF20)) | AI20: =IF(AC20="","",IF(AC20>1,AF20))
B21: 6. | I21: =IF(H21=0,"",(I14-H21)) | J21: =IF(I21="","",IF(I21>1,K21)) | K21: =$K$16 -> 180 | L21: 6. | S21: =IF(R21=0,"",(S14-R21)) | T21: =IF(S21="","",IF(S21>1,U21)) | U21: =$U$16 -> 180 | V21: 6. | AC21: =IF(AB21=0,"",(AC14-AB21)) | AD21: =IF(AC21="","",IF(AC21>1,AE21)) | AE21: =$AE$16 -> 180 | AF21: 1 | AG21: =IF(I21="","",IF(I21>1,AF21)) | AH21: =IF(S21="","",IF(S21>1,AF21)) | AI21: =IF(AC21="","",IF(AC21>1,AF21))
B22: 7. | I22: =IF(H22=0,"",(I14-H22)) | J22: =IF(I22="","",IF(I22>1,K22)) | K22: =$K$16 -> 180 | L22: 7. | S22: =IF(R22=0,"",(S14-R22)) | T22: =IF(S22="","",IF(S22>1,U22)) | U22: =$U$16 -> 180 | V22: 7. | AC22: =IF(AB22=0,"",(AC14-AB22)) | AD22: =IF(AC22="","",IF(AC22>1,AE22)) | AE22: =$AE$16 -> 180 | AF22: 1 | AG22: =IF(I22="","",IF(I22>1,AF22)) | AH22: =IF(S22="","",IF(S22>1,AF22)) | AI22: =IF(AC22="","",IF(AC22>1,AF22))
B23: 8. | I23: =IF(H23=0,"",(I14-H23)) | J23: =IF(I23="","",IF(I23>1,K23)) | K23: =$K$16 -> 180 | L23: 8. | S23: =IF(R23=0,"",(S14-R23)) | T23: =IF(S23="","",IF(S23>1,U23)) | U23: =$U$16 -> 180 | V23: 8. | AC23: =IF(AB23=0,"",(AC14-AB23)) | AD23: =IF(AC23="","",IF(AC23>1,AE23)) | AE23: =$AE$16 -> 180 | AF23: 1 | AG23: =IF(I23="","",IF(I23>1,AF23)) | AH23: =IF(S23="","",IF(S23>1,AF23)) | AI23: =IF(AC23="","",IF(AC23>1,AF23))
B24: 9. | I24: =IF(H24=0,"",(I14-H24)) | J24: =IF(I24="","",IF(I24>1,K24)) | K24: =$K$16 -> 180 | L24: 9. | S24: =IF(R24=0,"",(S14-R24)) | T24: =IF(S24="","",IF(S24>1,U24)) | U24: =$U$16 -> 180 | V24: 9. | AC24: =IF(AB24=0,"",(AC14-AB24)) | AD24: =IF(AC24="","",IF(AC24>1,AE24)) | AE24: =$AE$16 -> 180 | AF24: 1 | AG24: =IF(I24="","",IF(I24>1,AF24)) | AH24: =IF(S24="","",IF(S24>1,AF24)) | AI24: =IF(AC24="","",IF(AC24>1,AF24))
B25: 10. | I25: =IF(H25=0,"",(I14-H25)) | J25: =IF(I25="","",IF(I25>1,K25)) | K25: =$K$16 -> 180 | L25: 10. | S25: =IF(R25=0,"",(S14-R25)) | T25: =IF(S25="","",IF(S25>1,U25)) | U25: =$U$16 -> 180 | V25: 10. | AC25: =IF(AB25=0,"",(AC14-AB25)) | AD25: =IF(AC25="","",IF(AC25>1,AE25)) | AE25: =$AE$16 -> 180 | AF25: 1 | AG25: =IF(I25="","",IF(I25>1,AF25)) | AH25: =IF(S25="","",IF(S25>1,AF25)) | AI25: =IF(AC25="","",IF(AC25>1,AF25))
B26: 11. | I26: =IF(H26=0,"",(I14-H26)) | J26: =IF(I26="","",IF(I26>1,K26)) | K26: =$K$16 -> 180 | L26: 11. | S26: =IF(R26=0,"",(S14-R26)) | T26: =IF(S26="","",IF(S26>1,U26)) | U26: =$U$16 -> 180 | V26: 11. | AC26: =IF(AB26=0,"",(AC14-AB26)) | AD26: =IF(AC26="","",IF(AC26>1,AE26)) | AE26: =$AE$16 -> 180 | AF26: 1 | AG26: =IF(I26="","",IF(I26>1,AF26)) | AH26: =IF(S26="","",IF(S26>1,AF26)) | AI26: =IF(AC26="","",IF(AC26>1,AF26))
B27: 12. | I27: =IF(H27=0,"",(I14-H27)) | J27: =IF(I27="","",IF(I27>1,K27)) | K27: =$K$16 -> 180 | L27: 12. | S27: =IF(R27=0,"",(S14-R27)) | T27: =IF(S27="","",IF(S27>1,U27)) | U27: =$U$16 -> 180 | V27: 12. | AC27: =IF(AB27=0,"",(AC14-AB27)) | AD27: =IF(AC27="","",IF(AC27>1,AE27)) | AE27: =$AE$16 -> 180 | AF27: 1 | AG27: =IF(I27="","",IF(I27>1,AF27)) | AH27: =IF(S27="","",IF(S27>1,AF27)) | AI27: =IF(AC27="","",IF(AC27>1,AF27))
B28: 13. | I28: =IF(H28=0,"",(I14-H28)) | J28: =IF(I28="","",IF(I28>1,K28)) | K28: =$K$16 -> 180 | L28: 13. | S28: =IF(R28=0,"",(S14-R28)) | T28: =IF(S28="","",IF(S28>1,U28)) | U28: =$U$16 -> 180 | V28: 13. | AC28: =IF(AB28=0,"",(AC14-AB28)) | AD28: =IF(AC28="","",IF(AC28>1,AE28)) | AE28: =$AE$16 -> 180 | AF28: 1 | AG28: =IF(I28="","",IF(I28>1,AF28)) | AH28: =IF(S28="","",IF(S28>1,AF28)) | AI28: =IF(AC28="","",IF(AC28>1,AF28))
B29: 14. | I29: =IF(H29=0,"",(I14-H29)) | J29: =IF(I29="","",IF(I29>1,K29)) | K29: =$K$16 -> 180 | L29: 14. | S29: =IF(R29=0,"",(S14-R29)) | T29: =IF(S29="","",IF(S29>1,U29)) | U29: =$U$16 -> 180 | V29: 14. | AC29: =IF(AB29=0,"",(AC14-AB29)) | AD29: =IF(AC29="","",IF(AC29>1,AE29)) | AE29: =$AE$16 -> 180 | AF29: 1 | AG29: =IF(I29="","",IF(I29>1,AF29)) | AH29: =IF(S29="","",IF(S29>1,AF29)) | AI29: =IF(AC29="","",IF(AC29>1,AF29))
B30: 15. | I30: =IF(H30=0,"",(I14-H30)) | J30: =IF(I30="","",IF(I30>1,K30)) | K30: =$K$16 -> 180 | L30: 15. | S30: =IF(R30=0,"",(S14-R30)) | T30: =IF(S30="","",IF(S30>1,U30)) | U30: =$U$16 -> 180 | V30: 15. | AC30: =IF(AB30=0,"",(AC14-AB30)) | AD30: =IF(AC30="","",IF(AC30>1,AE30)) | AE30: =$AE$16 -> 180 | AF30: 1 | AG30: =IF(I30="","",IF(I30>1,AF30)) | AH30: =IF(S30="","",IF(S30>1,AF30)) | AI30: =IF(AC30="","",IF(AC30>1,AF30))
B31: 16. | I31: =IF(H31=0,"",(I14-H31)) | J31: =IF(I31="","",IF(I31>1,K31)) | K31: =$K$16 -> 180 | L31: 16. | S31: =IF(R31=0,"",(S14-R31)) | T31: =IF(S31="","",IF(S31>1,U31)) | U31: =$U$16 -> 180 | V31: 16. | AC31: =IF(AB31=0,"",(AC14-AB31)) | AD31: =IF(AC31="","",IF(AC31>1,AE31)) | AE31: =$AE$16 -> 180 | AF31: 1 | AG31: =IF(I31="","",IF(I31>1,AF31)) | AH31: =IF(S31="","",IF(S31>1,AF31)) | AI31: =IF(AC31="","",IF(AC31>1,AF31))
B32: 17. | I32: =IF(H32=0,"",(I14-H32)) | J32: =IF(I32="","",IF(I32>1,K32)) | K32: =$K$16 -> 180 | L32: 17. | S32: =IF(R32=0,"",(S14-R32)) | T32: =IF(S32="","",IF(S32>1,U32)) | U32: =$U$16 -> 180 | V32: 17. | AC32: =IF(AB32=0,"",(AC14-AB32)) | AD32: =IF(AC32="","",IF(AC32>1,AE32)) | AE32: =$AE$16 -> 180 | AF32: 1 | AG32: =IF(I32="","",IF(I32>1,AF32)) | AH32: =IF(S32="","",IF(S32>1,AF32)) | AI32: =IF(AC32="","",IF(AC32>1,AF32))
B33: 18. | I33: =IF(H33=0,"",(I14-H33)) | J33: =IF(I33="","",IF(I33>1,K33)) | K33: =$K$16 -> 180 | L33: 18. | S33: =IF(R33=0,"",(S14-R33)) | T33: =IF(S33="","",IF(S33>1,U33)) | U33: =$U$16 -> 180 | V33: 18. | AC33: =IF(AB33=0,"",(AC14-AB33)) | AD33: =IF(AC33="","",IF(AC33>1,AE33)) | AE33: =$AE$16 -> 180 | AF33: 1 | AG33: =IF(I33="","",IF(I33>1,AF33)) | AH33: =IF(S33="","",IF(S33>1,AF33)) | AI33: =IF(AC33="","",IF(AC33>1,AF33))
B34: 19. | I34: =IF(H34=0,"",(I14-H34)) | J34: =IF(I34="","",IF(I34>1,K34)) | K34: =$K$16 -> 180 | L34: 19. | S34: =IF(R34=0,"",(S14-R34)) | T34: =IF(S34="","",IF(S34>1,U34)) | U34: =$U$16 -> 180 | V34: 19. | AC34: =IF(AB34=0,"",(AC14-AB34)) | AD34: =IF(AC34="","",IF(AC34>1,AE34)) | AE34: =$AE$16 -> 180 | AF34: 1 | AG34: =IF(I34="","",IF(I34>1,AF34)) | AH34: =IF(S34="","",IF(S34>1,AF34)) | AI34: =IF(AC34="","",IF(AC34>1,AF34))
B35: 20. | I35: =IF(H35=0,"",(I14-H35)) | J35: =IF(I35="","",IF(I35>1,K35)) | K35: =$K$16 -> 180 | L35: 20. | S35: =IF(R35=0,"",(S14-R35)) | T35: =IF(S35="","",IF(S35>1,U35)) | U35: =$U$16 -> 180 | V35: 20. | AC35: =IF(AB35=0,"",(AC14-AB35)) | AD35: =IF(AC35="","",IF(AC35>1,AE35)) | AE35: =$AE$16 -> 180 | AF35: 1 | AG35: =IF(I35="","",IF(I35>1,AF35)) | AH35: =IF(S35="","",IF(S35>1,AF35)) | AI35: =IF(AC35="","",IF(AC35>1,AF35))
B36: 21. | I36: =IF(H36=0,"",(I14-H36)) | J36: =IF(I36="","",IF(I36>1,K36)) | K36: =$K$16 -> 180 | L36: 21. | S36: =IF(R36=0,"",(S14-R36)) | T36: =IF(S36="","",IF(S36>1,U36)) | U36: =$U$16 -> 180 | V36: 21. | AC36: =IF(AB36=0,"",(AC14-AB36)) | AD36: =IF(AC36="","",IF(AC36>1,AE36)) | AE36: =$AE$16 -> 180 | AF36: 1 | AG36: =IF(I36="","",IF(I36>1,AF36)) | AH36: =IF(S36="","",IF(S36>1,AF36)) | AI36: =IF(AC36="","",IF(AC36>1,AF36))
B37: 22. | I37: =IF(H37=0,"",(I14-H37)) | J37: =IF(I37="","",IF(I37>1,K37)) | K37: =$K$16 -> 180 | L37: 22. | S37: =IF(R37=0,"",(S14-R37)) | T37: =IF(S37="","",IF(S37>1,U37)) | U37: =$U$16 -> 180 | V37: 22. | AC37: =IF(AB37=0,"",(AC14-AB37)) | AD37: =IF(AC37="","",IF(AC37>1,AE37)) | AE37: =$AE$16 -> 180 | AF37: 1 | AG37: =IF(I37="","",IF(I37>1,AF37)) | AH37: =IF(S37="","",IF(S37>1,AF37)) | AI37: =IF(AC37="","",IF(AC37>1,AF37))
B38: 23. | I38: =IF(H38=0,"",(I14-H38)) | J38: =IF(I38="","",IF(I38>1,K38)) | K38: =$K$16 -> 180 | L38: 23. | S38: =IF(R38=0,"",(S14-R38)) | T38: =IF(S38="","",IF(S38>1,U38)) | U38: =$U$16 -> 180 | V38: 23. | AC38: =IF(AB38=0,"",(AC14-AB38)) | AD38: =IF(AC38="","",IF(AC38>1,AE38)) | AE38: =$AE$16 -> 180 | AF38: 1 | AG38: =IF(I38="","",IF(I38>1,AF38)) | AH38: =IF(S38="","",IF(S38>1,AF38)) | AI38: =IF(AC38="","",IF(AC38>1,AF38))
B39: 24. | I39: =IF(H39=0,"",(I14-H39)) | J39: =IF(I39="","",IF(I39>1,K39)) | K39: =$K$16 -> 180 | L39: 24. | S39: =IF(R39=0,"",(S14-R39)) | T39: =IF(S39="","",IF(S39>1,U39)) | U39: =$U$16 -> 180 | V39: 24. | AC39: =IF(AB39=0,"",(AC14-AB39)) | AD39: =IF(AC39="","",IF(AC39>1,AE39)) | AE39: =$AE$16 -> 180 | AF39: 1 | AG39: =IF(I39="","",IF(I39>1,AF39)) | AH39: =IF(S39="","",IF(S39>1,AF39)) | AI39: =IF(AC39="","",IF(AC39>1,AF39))
B40: 25. | I40: =IF(H40=0,"",(I14-H40)) | J40: =IF(I40="","",IF(I40>1,K40)) | K40: =$K$16 -> 180 | L40: 25. | S40: =IF(R40=0,"",(S14-R40)) | T40: =IF(S40="","",IF(S40>1,U40)) | U40: =$U$16 -> 180 | V40: 25. | AC40: =IF(AB40=0,"",(AC14-AB40)) | AD40: =IF(AC40="","",IF(AC40>1,AE40)) | AE40: =$AE$16 -> 180 | AF40: 1 | AG40: =IF(I40="","",IF(I40>1,AF40)) | AH40: =IF(S40="","",IF(S40>1,AF40)) | AI40: =IF(AC40="","",IF(AC40>1,AF40))
AG41: =SUM(AG16:AG40) -> 0 | AH41: =SUM(AH16:AH40) -> 0 | AI41: =SUM(AI16:AI40) -> 0

Sheet Miniformace mix
B1: Miniformace mix | E1: =údaje!A1 -> 2026 | L1: Miniformace mix | O1: =údaje!A1 -> 2026 | V1: Miniformace mix | Y1: =údaje!A1 -> 2026
B2: =údaje!A2 -> 15. ročník mažoretkové soutěže "O pohár města Hranice" | L2: =údaje!A2 -> 15. ročník mažoretkové soutěže "O pohár města Hranice" | V2: =údaje!A2 -> 15. ročník mažoretkové soutěže "O pohár města Hranice"
B4: Název skupiny | L4: Název skupiny | V4: Název skupiny
B5: Město | L5: Město | V5: Město
B6: Délka skladby | L6: Délka skladby | V6: Délka skladby
B7: Zda máte více skupin pro stejnou disciplínu, tak pro druhou skupinu, použíjte vedlejší tabulku. | L7: Zda máte více skupin pro stejnou disciplínu, tak pro druhou skupinu, použíjte vedlejší tabulku.
B9: Věkový průměr | F9: =AVERAGE(I16:I22) -> #DIV/0! | L9: Věkový průměr | P9: =AVERAGE(S16:S22) -> #DIV/0! | V9: Věkový průměr | Z9: =AVERAGE(AC16:AC22) -> #DIV/0!
B10: Zařazení do soutěžní kategorie | F10: =IF($F$9<6,"děti",IF($F$9<8,"kadetky ml",IF($F$9<10,"kadetky st",IF($F$9<12,"juniorky ml",IF($F$9<15,"juniorky st","seniorky"))))) -> #DIV/0! | L10: Zařazení do soutěžní kategorie | P10: =IF($P$9<6,"děti",IF($P$9<8,"kadetky ml",IF($P$9<10,"kadetky st",IF($P$9<12,"juniorky ml",IF($P$9<15,"juniorky st","seniorky"))))) -> #DIV/0! | V10: Zařazení do soutěžní kategorie | Z10: =IF($Z$9<6,"děti",IF($Z$9<8,"kadetky ml",IF($Z$9<10,"kadetky st",IF($Z$9<12,"juniorky ml",IF($Z$9<15,"juniorky st","seniorky"))))) -> #DIV/0!
B11: Startovné celkem | F11: =SUM(J16:J22) -> 0 | L11: Startovné celkem | P11: =SUM(T16:T22) -> 0 | V11: Startovné celkem | Z11: =SUM(AD16:AD22) -> 0
F14: Datum narození | I14: =údaje!A1 -> 2026 | P14: Datum narození | S14: =údaje!A1 -> 2026 | Z14: Datum narození | AC14: =údaje!A1 -> 2026
B15: Jméno a příjmení | F15: den | G15: měsíc | H15: rok | I15: věk | J15: Startovné | L15: Jméno a příjmení | P15: den | Q15: měsíc | R15: rok | S15: věk | T15: Startovné | V15: Jméno a příjmení | Z15: den | AA15: měsíc | AB15: rok | AC15: věk | AD15: Startovné
B16: 1. | I16: =IF(H16=0,"",(I14-H16)) | J16: =IF(I16="","",IF(I16>1,K16)) | K16: =údaje!A3 -> 180 | L16: 1. | S16: =IF(R16=0,"",(S14-R16)) | T16: =IF(S16="","",IF(S16>1,U16)) | U16: =údaje!A3 -> 180 | V16: 1. | AC16: =IF(AB16=0,"",(AC14-AB16)) | AD16: =IF(AC16="","",IF(AC16>1,AE16)) | AE16: =údaje!A3 -> 180 | AF16: 1 | AG16: =IF(I16="","",IF(I16>1,AF16)) | AH16: =IF(S16="","",IF(S16>1,AF16)) | AI16: =IF(AC16="","",IF(AC16>1,AF16))
B17: 2. | I17: =IF(H17=0,"",(I14-H17)) | J17: =IF(I17="","",IF(I17>1,K17)) | K17: =$K$16 -> 180 | L17: 2. | S17: =IF(R17=0,"",(S14-R17)) | T17: =IF(S17="","",IF(S17>1,U17)) | U17: =$U$16 -> 180 | V17: 2. | AC17: =IF(AB17=0,"",(AC14-AB17)) | AD17: =IF(AC17="","",IF(AC17>1,AE17)) | AE17: =$AE$16 -> 180 | AF17: 1 | AG17: =IF(I17="","",IF(I17>1,AF17)) | AH17: =IF(S17="","",IF(S17>1,AF17)) | AI17: =IF(AC17="","",IF(AC17>1,AF17))
B18: 3. | I18: =IF(H18=0,"",(I14-H18)) | J18: =IF(I18="","",IF(I18>1,K18)) | K18: =$K$16 -> 180 | L18: 3. | S18: =IF(R18=0,"",(S14-R18)) | T18: =IF(S18="","",IF(S18>1,U18)) | U18: =$U$16 -> 180 | V18: 3. | AC18: =IF(AB18=0,"",(AC14-AB18)) | AD18: =IF(AC18="","",IF(AC18>1,AE18)) | AE18: =$AE$16 -> 180 | AF18: 1 | AG18: =IF(I18="","",IF(I18>1,AF18)) | AH18: =IF(S18="","",IF(S18>1,AF18)) | AI18: =IF(AC18="","",IF(AC18>1,AF18))
B19: 4. | I19: =IF(H19=0,"",(I14-H19)) | J19: =IF(I19="","",IF(I19>1,K19)) | K19: =$K$16 -> 180 | L19: 4. | S19: =IF(R19=0,"",(S14-R19)) | T19: =IF(S19="","",IF(S19>1,U19)) | U19: =$U$16 -> 180 | V19: 4. | AC19: =IF(AB19=0,"",(AC14-AB19)) | AD19: =IF(AC19="","",IF(AC19>1,AE19)) | AE19: =$AE$16 -> 180 | AF19: 1 | AG19: =IF(I19="","",IF(I19>1,AF19)) | AH19: =IF(S19="","",IF(S19>1,AF19)) | AI19: =IF(AC19="","",IF(AC19>1,AF19))
B20: 5. | I20: =IF(H20=0,"",(I14-H20)) | J20: =IF(I20="","",IF(I20>1,K20)) | K20: =$K$16 -> 180 | L20: 5. | S20: =IF(R20=0,"",(S14-R20)) | T20: =IF(S20="","",IF(S20>1,U20)) | U20: =$U$16 -> 180 | V20: 5. | AC20: =IF(AB20=0,"",(AC14-AB20)) | AD20: =IF(AC20="","",IF(AC20>1,AE20)) | AE20: =$AE$16 -> 180 | AF20: 1 | AG20: =IF(I20="","",IF(I20>1,AF20)) | AH20: =IF(S20="","",IF(S20>1,AF20)) | AI20: =IF(AC20="","",IF(AC20>1,AF20))
B21: 6. | I21: =IF(H21=0,"",(I14-H21)) | J21: =IF(I21="","",IF(I21>1,K21)) | K21: =$K$16 -> 180 | L21: 6. | S21: =IF(R21=0,"",(S14-R21)) | T21: =IF(S21="","",IF(S21>1,U21)) | U21: =$U$16 -> 180 | V21: 6. | AC21: =IF(AB21=0,"",(AC14-AB21)) | AD21: =IF(AC21="","",IF(AC21>1,AE21)) | AE21: =$AE$16 -> 180 | AF21: 1 | AG21: =IF(I21="","",IF(I21>1,AF21)) | AH21: =IF(S21="","",IF(S21>1,AF21)) | AI21: =IF(AC21="","",IF(AC21>1,AF21))
B22: 7. | I22: =IF(H22=0,"",(I14-H22)) | J22: =IF(I22="","",IF(I22>1,K22)) | K22: =$K$16 -> 180 | L22: 7. | S22: =IF(R22=0,"",(S14-R22)) | T22: =IF(S22="","",IF(S22>1,U22)) | U22: =$U$16 -> 180 | V22: 7. | AC22: =IF(AB22=0,"",(AC14-AB22)) | AD22: =IF(AC22="","",IF(AC22>1,AE22)) | AE22: =$AE$16 -> 180 | AF22: 1 | AG22: =IF(I22="","",IF(I22>1,AF22)) | AH22: =IF(S22="","",IF(S22>1,AF22)) | AI22: =IF(AC22="","",IF(AC22>1,AF22))
AG23: =SUM(AG16:AG22) -> 0 | AH23: =SUM(AH16:AH22) -> 0 | AI23: =SUM(AI16:AI22) -> 0

Sheet Rodičovské týmy
B1: Rodičovské týmy | E1: =údaje!A1 -> 2026
B2: =údaje!A2 -> 15. ročník mažoretkové soutěže "O pohár města Hranice"
B4: Název skupiny
B5: Město
B6: Délka skladby
B9: Startovné celkem | F9: =SUM(F14:F38) -> 0
F12: =údaje!A1 -> 2026
B13: Jméno a příjmení | F13: Startovné
B14: 1. | F14: =IF(C14="","",IF(C14>1,G14)) | G14: =údaje!A3 -> 180 | H14: 1 | I14: =IF(F14="","",IF(F14>1,H14))
B15: 2. | F15: =IF(C15="","",IF(C15>1,G15)) | G15: =$G$14 -> 180 | H15: 1 | I15: =IF(F15="","",IF(F15>1,H15))
B16: 3. | F16: =IF(C16="","",IF(C16>1,G16)) | G16: =$G$14 -> 180 | H16: 1 | I16: =IF(F16="","",IF(F16>1,H16))
B17: 4. | F17: =IF(C17="","",IF(C17>1,G17)) | G17: =$G$14 -> 180 | H17: 1 | I17: =IF(F17="","",IF(F17>1,H17))
B18: 5. | F18: =IF(C18="","",IF(C18>1,G18)) | G18: =$G$14 -> 180 | H18: 1 | I18: =IF(F18="","",IF(F18>1,H18))
B19: 6. | F19: =IF(C19="","",IF(C19>1,G19)) | G19: =$G$14 -> 180 | H19: 1 | I19: =IF(F19="","",IF(F19>1,H19))
B20: 7. | F20: =IF(C20="","",IF(C20>1,G20)) | G20: =$G$14 -> 180 | H20: 1 | I20: =IF(F20="","",IF(F20>1,H20))
B21: 8. | F21: =IF(C21="","",IF(C21>1,G21)) | G21: =$G$14 -> 180 | H21: 1 | I21: =IF(F21="","",IF(F21>1,H21))
B22: 9. | F22: =IF(C22="","",IF(C22>1,G22)) | G22: =$G$14 -> 180 | H22: 1 | I22: =IF(F22="","",IF(F22>1,H22))
B23: 10. | F23: =IF(C23="","",IF(C23>1,G23)) | G23: =$G$14 -> 180 | H23: 1 | I23: =IF(F23="","",IF(F23>1,H23))
B24: 11. | F24: =IF(C24="","",IF(C24>1,G24)) | G24: =$G$14 -> 180 | H24: 1 | I24: =IF(F24="","",IF(F24>1,H24))
B25: 12. | F25: =IF(C25="","",IF(C25>1,G25)) | G25: =$G$14 -> 180 | H25: 1 | I25: =IF(F25="","",IF(F25>1,H25))
B26: 13. | F26: =IF(C26="","",IF(C26>1,G26)) | G26: =$G$14 -> 180 | H26: 1 | I26: =IF(F26="","",IF(F26>1,H26))
... B38: 25. | F38: =IF(C38="","",IF(C38>1,G38)) | G38: =$G$14 -> 180 | H38: 1 | I38: =IF(F38="","",IF(F38>1,H38))
I39: =SUM(I14:I38) -> 0

Sheet Sólo baton
B1: Sólo baton | F1: =údaje!A1 -> 2026
B2: =údaje!A2 -> 15. ročník mažoretkové soutěže "O pohár města Hranice"
C4: Město | H4: Startovné celkem | K4: =SUM(L8:L22) -> 0
H6: Datum narození | K6: =údaje!A1 -> 2026
B7: Jméno a příjmení | F7: Název skupiny | G7: Délka sóla | H7: den | I7: měsíc | J7: rok | K7: věk | L7: Startovné | M7: Kategorie
B8: 1. | K8: =IF(J8=0,"",(K6-J8)) | L8: =IF(K8="","",IF(K8>1,N8)) | M8: =IF(L8="","",IF(L8>1,O8)) | N8: =údaje!A3 -> 180 | O8: =IF($K$8<6,"děti",IF($K$8<8,"kadetky ml",IF($K$8<10,"kadetky st",IF($K$8<12,"juniorky ml",IF($K$8<15,"juniorky st","seniorky"))))) -> seniorky
B9: 2. | K9: =IF(J9=0,"",(K6-J9)) | L9: =IF(K9="","",IF(K9>1,N9)) | M9: =IF(L9="","",IF(L9>1,O9)) | N9: =$N$8 -> 180 | O9: =IF($K$9<6,"děti",IF($K$9<8,"kadetky ml",IF($K$9<10,"kadetky st",IF($K$9<12,"juniorky ml",IF($K$9<15,"juniorky st","seniorky"))))) -> seniorky
B10: 3. | K10: =IF(J10=0,"",(K6-J10)) | L10: =IF(K10="","",IF(K10>1,N10)) | M10: =IF(L10="","",IF(L10>1,O10)) | N10: =$N$8 -> 180 | O10: =IF($K$10<6,"děti",IF($K$10<8,"kadetky ml",IF($K$10<10,"kadetky st",IF($K$10<12,"juniorky ml",IF($K$10<15,"juniorky st","seniorky"))))) -> seniorky
